Workbook

Sheet Championship positions
D2: = Qualified
B8: GIRLS' CHAMPIONSHIP 2018 | R8: BOY'S CHAMPIONSHIP 2018
B9: Name/Race No. | C9: 1. Bourne Rotary 3k | D9: 2. Langtoft 3k | E9: 3. PGP 3k (Ferry Meadows) | F9: 4. PGP 3k (Eye) | G9: 5. PGP 3k (Ferry Meadows) | H9: 6. PGP 3k (Stamford) | I9: 7. PGP 3k (Werrington) | J9: 8. RR Fun Run 2k (St Neots) | K9: 9. Park Run 5k (Rutland Water) | L9: 10. Anna's Hope Fun Run 5k | M9: 11. Santa Fun Run 5k(Burghley Park) | N9: Total of Best 5 | O9: No of Races (best five to count) | P9: Position | R9: Name/Race No. | S9: 1. Bourne Rotary 3k | T9: 2. Langtoft 3k | U9: 3. Race3 | V9: 4. PGP 3k (Eye) | W9: 5. PGP 3k (Ferry Meadows) | X9: 6. PGP 3k (Stamford) | Y9: 7. PGP 3k (Werrington) | Z9: 8. RR Fun Run 2k (St Neots) | AA9: 9. Park Run 5k (Rutland Water) | AB9: 10. Anna's Hope Fun Run 5k | AC9: 11. Santa Fun Run 5k(Burghley Park) | AD9: Total of Best 5 | AE9: No of Races (best five to count) | AF9: Position
B10: Erin Cox | C10: =IFERROR(VLOOKUP($B10,'Bourne Rotary 3k'!B:E,4,FALSE),0) -> 50 | D10: =IFERROR(VLOOKUP($B10,'Langtoft 3k'!B:E,4,FALSE),0) -> 50 | E10: =IFERROR(VLOOKUP($B10,'PGP 3k (Ferry Meadows)'!$B:$E,4,FALSE),0) -> 0 | F10: =IFERROR(VLOOKUP($B10,'PGP 3k (Eye)'!$B:$E,4,FALSE),0) -> 50 | G10: =IFERROR(VLOOKUP($B10,'PGP 3k (Ferry Meadows) '!$B:$E,4,FALSE),0) -> 0 | H10: =IFERROR(VLOOKUP($B10,'PGP 3k (Stamford)'!$B:$E,4,FALSE),0) -> 50 | I10: =IFERROR(VLOOKUP($B10,'PGP 3k (Werrington)'!$B:$E,4,FALSE),0) -> 50 | J10: =IFERROR(VLOOKUP($B10,'RR Fun Run 2k (St Neots)'!$B:$E,4,FALSE),0) -> 0 | K10: =IFERROR(VLOOKUP($B10,'Park Run 5k (Rutland Water)'!B:E,4,FALSE),0) -> 0 | L10: =IFERROR(VLOOKUP($B10,'Anna''s Hope Fun Run 5k'!$B:$E,4,FALSE),0) -> 0 | M10: =IFERROR(VLOOKUP($B10,'Santa Fun Run 5k(Burghley Park)'!B:E,4,FALSE),0) -> 0 | N10: =LARGE(C10:M10,1)+LARGE(C10:M10,2)+LARGE(C10:M10,3)+LARGE(C10:M10,4)+LARGE(C10:M10,5) -> 250 | O10: =COUNTIF(C10:M10,">.09") -> 5 | P10: 1 | R10: Jenson Lewis | S10: =IFERROR(VLOOKUP($R10,'Bourne Rotary 3k'!$G:$J,4,FALSE),0) -> 0 | T10: =IFERROR(VLOOKUP($R10,'Langtoft 3k'!$G:$J,4,FALSE),0) -> 50 | U10: =IFERROR(VLOOKUP($R10,'PGP 3k (Ferry Meadows)'!$G:$J,4,FALSE),0) -> 50 | V10: =IFERROR(VLOOKUP($R10,'PGP 3k (Eye)'!$G:$J,4,FALSE),0) -> 50 | W10: =IFERROR(VLOOKUP($R10,'PGP 3k (Ferry Meadows) '!$G:$J,4,FALSE),0) -> 50 | X10: =IFERROR(VLOOKUP($R10,'PGP 3k (Stamford)'!$G:$J,4,FALSE),0) -> 49 | Y10: =IFERROR(VLOOKUP($R10,'PGP 3k (Werrington)'!$G:$J,4,FALSE),0) -> 50 | Z10: =IFERROR(VLOOKUP($R10,'RR Fun Run 2k (St Neots)'!$G:$J,4,FALSE),0) -> 50 | AA10: =IFERROR(VLOOKUP($R10,'Park Run 5k (Rutland Water)'!$G:$J,4,FALSE),0) -> 50 | AB10: =IFERROR(VLOOKUP($R10, 'Anna''s Hope Fun Run 5k'!G:J,4,FALSE),0) -> 50 | AC10: =IFERROR(VLOOKUP($R10,'Santa Fun Run 5k(Burghley Park)'!G:J,4,FALSE),0) -> 0 | AD10: =LARGE(S10:AC10,1)+LARGE(S10:AC10,2)+LARGE(S10:AC10,3)+LARGE(S10:AC10,4)+LARGE(S10:AC10,5) -> 250 | AE10: =COUNTIF(S10:AC10,">.09") -> 9 | AF10: 1
B11: Scarlet Bird | C11: =IFERROR(VLOOKUP($B11,'Bourne Rotary 3k'!B:E,4,FALSE),0) -> 0 | D11: =IFERROR(VLOOKUP($B11,'Langtoft 3k'!B:E,4,FALSE),0) -> 0 | E11: =IFERROR(VLOOKUP($B11,'PGP 3k (Ferry Meadows)'!$B:$E,4,FALSE),0) -> 49 | F11: =IFERROR(VLOOKUP($B11,'PGP 3k (Eye)'!$B:$E,4,FALSE),0) -> 0 | G11: =IFERROR(VLOOKUP($B11,'PGP 3k (Ferry Meadows) '!$B:$E,4,FALSE),0) -> 50 | H11: =IFERROR(VLOOKUP($B11,'PGP 3k (Stamford)'!$B:$E,4,FALSE),0) -> 0 | I11: =IFERROR(VLOOKUP($B11,'PGP 3k (Werrington)'!$B:$E,4,FALSE),0) -> 49 | J11: =IFERROR(VLOOKUP($B11,'RR Fun Run 2k (St Neots)'!$B:$E,4,FALSE),0) -> 50 | K11: =IFERROR(VLOOKUP($B11,'Park Run 5k (Rutland Water)'!B:E,4,FALSE),0) -> 0 | L11: =IFERROR(VLOOKUP($B11,'Anna''s Hope Fun Run 5k'!$B:$E,4,FALSE),0) -> 0 | M11: =IFERROR(VLOOKUP($B11,'Santa Fun Run 5k(Burghley Park)'!B:E,4,FALSE),0) -> 50 | N11: =LARGE(C11:M11,1)+LARGE(C11:M11,2)+LARGE(C11:M11,3)+LARGE(C11:M11,4)+LARGE(C11:M11,5) -> 248 | O11: =COUNTIF(C11:M11,">.09") -> 5 | P11: 2 | R11: Jamie Milner | S11: =IFERROR(VLOOKUP($R11,'Bourne Rotary 3k'!$G:$J,4,FALSE),0) -> 50 | T11: =IFERROR(VLOOKUP($R11,'Langtoft 3k'!$G:$J,4,FALSE),0) -> 48 | U11: =IFERROR(VLOOKUP($R11,'PGP 3k (Ferry Meadows)'!$G:$J,4,FALSE),0) -> 49 | V11: =IFERROR(VLOOKUP($R11,'PGP 3k (Eye)'!$G:$J,4,FALSE),0) -> 0 | W11: =IFERROR(VLOOKUP($R11,'PGP 3k (Ferry Meadows) '!$G:$J,4,FALSE),0) -> 0 | X11: =IFERROR(VLOOKUP($R11,'PGP 3k (Stamford)'!$G:$J,4,FALSE),0) -> 50 | Y11: =IFERROR(VLOOKUP($R11,'PGP 3k (Werrington)'!$G:$J,4,FALSE),0) -> 47 | Z11: =IFERROR(VLOOKUP($R11,'RR Fun Run 2k (St Neots)'!$G:$J,4,FALSE),0) -> 49 | AA11: =IFERROR(VLOOKUP($R11,'Park Run 5k (Rutland Water)'!$G:$J,4,FALSE),0) -> 49 | AB11: =IFERROR(VLOOKUP($R11, 'Anna''s Hope Fun Run 5k'!G:J,4,FALSE),0) -> 0 | AC11: =IFERROR(VLOOKUP($R11,'Santa Fun Run 5k(Burghley Park)'!G:J,4,FALSE),0) -> 49 | AD11: =LARGE(S11:AC11,1)+LARGE(S11:AC11,2)+LARGE(S11:AC11,3)+LARGE(S11:AC11,4)+LARGE(S11:AC11,5) -> 247 | AE11: =COUNTIF(S11:AC11,">.09") -> 8 | AF11: 2
B12: Olivia Lewis | C12: =IFERROR(VLOOKUP($B12,'Bourne Rotary 3k'!B:E,4,FALSE),0) -> 49 | D12: =IFERROR(VLOOKUP($B12,'Langtoft 3k'!B:E,4,FALSE),0) -> 49 | E12: =IFERROR(VLOOKUP($B12,'PGP 3k (Ferry Meadows)'!$B:$E,4,FALSE),0) -> 50 | F12: =IFERROR(VLOOKUP($B12,'PGP 3k (Eye)'!$B:$E,4,FALSE),0) -> 49 | G12: =IFERROR(VLOOKUP($B12,'PGP 3k (Ferry Meadows) '!$B:$E,4,FALSE),0) -> 48 | H12: =IFERROR(VLOOKUP($B12,'PGP 3k (Stamford)'!$B:$E,4,FALSE),0) -> 0 | I12: =IFERROR(VLOOKUP($B12,'PGP 3k (Werrington)'!$B:$E,4,FALSE),0) -> 48 | J12: =IFERROR(VLOOKUP($B12,'RR Fun Run 2k (St Neots)'!$B:$E,4,FALSE),0) -> 49 | K12: =IFERROR(VLOOKUP($B12,'Park Run 5k (Rutland Water)'!B:E,4,FALSE),0) -> 0 | L12: =IFERROR(VLOOKUP($B12,'Anna''s Hope Fun Run 5k'!$B:$E,4,FALSE),0) -> 0 | M12: =IFERROR(VLOOKUP($B12,'Santa Fun Run 5k(Burghley Park)'!B:E,4,FALSE),0) -> 0 | N12: =LARGE(C12:M12,1)+LARGE(C12:M12,2)+LARGE(C12:M12,3)+LARGE(C12:M12,4)+LARGE(C12:M12,5) -> 246 | O12: =COUNTIF(C12:M12,">.09") -> 7 | P12: 3 | R12: Bayley Graham | S12: =IFERROR(VLOOKUP($R12,'Bourne Rotary 3k'!$G:$J,4,FALSE),0) -> 0 | T12: =IFERROR(VLOOKUP($R12,'Langtoft 3k'!$G:$J,4,FALSE),0) -> 0 | U12: =IFERROR(VLOOKUP($R12,'PGP 3k (Ferry Meadows)'!$G:$J,4,FALSE),0) -> 47 | V12: =IFERROR(VLOOKUP($R12,'PGP 3k (Eye)'!$G:$J,4,FALSE),0) -> 48 | W12: =IFERROR(VLOOKUP($R12,'PGP 3k (Ferry Meadows) '!$G:$J,4,FALSE),0) -> 49 | X12: =IFERROR(VLOOKUP($R12,'PGP 3k (Stamford)'!$G:$J,4,FALSE),0) -> 48 | Y12: =IFERROR(VLOOKUP($R12,'PGP 3k (Werrington)'!$G:$J,4,FALSE),0) -> 0 | Z12: =IFERROR(VLOOKUP($R12,'RR Fun Run 2k (St Neots)'!$G:$J,4,FALSE),0) -> 0 | AA12: =IFERROR(VLOOKUP($R12,'Park Run 5k (Rutland Water)'!$G:$J,4,FALSE),0) -> 48 | AB12: =IFERROR(VLOOKUP($R12, 'Anna''s Hope Fun Run 5k'!G:J,4,FALSE),0) -> 49 | AC12: =IFERROR(VLOOKUP($R12,'Santa Fun Run 5k(Burghley Park)'!G:J,4,FALSE),0) -> 50 | AD12: =LARGE(S12:AC12,1)+LARGE(S12:AC12,2)+LARGE(S12:AC12,3)+LARGE(S12:AC12,4)+LARGE(S12:AC12,5) -> 244 | AE12: =COUNTIF(S12:AC12,">.09") -> 7 | AF12: 3
B13: Holly Bird | C13: =IFERROR(VLOOKUP($B13,'Bourne Rotary 3k'!B:E,4,FALSE),0) -> 0 | D13: =IFERROR(VLOOKUP($B13,'Langtoft 3k'!B:E,4,FALSE),0) -> 0 | E13: =IFERROR(VLOOKUP($B13,'PGP 3k (Ferry Meadows)'!$B:$E,4,FALSE),0) -> 48 | F13: =IFERROR(VLOOKUP($B13,'PGP 3k (Eye)'!$B:$E,4,FALSE),0) -> 48 | G13: =IFERROR(VLOOKUP($B13,'PGP 3k (Ferry Meadows) '!$B:$E,4,FALSE),0) -> 49 | H13: =IFERROR(VLOOKUP($B13,'PGP 3k (Stamford)'!$B:$E,4,FALSE),0) -> 0 | I13: =IFERROR(VLOOKUP($B13,'PGP 3k (Werrington)'!$B:$E,4,FALSE),0) -> 47 | J13: =IFERROR(VLOOKUP($B13,'RR Fun Run 2k (St Neots)'!$B:$E,4,FALSE),0) -> 48 | K13: =IFERROR(VLOOKUP($B13,'Park Run 5k (Rutland Water)'!B:E,4,FALSE),0) -> 0 | L13: =IFERROR(VLOOKUP($B13,'Anna''s Hope Fun Run 5k'!$B:$E,4,FALSE),0) -> 0 | M13: =IFERROR(VLOOKUP($B13,'Santa Fun Run 5k(Burghley Park)'!B:E,4,FALSE),0) -> 47 | N13: =LARGE(C13:M13,1)+LARGE(C13:M13,2)+LARGE(C13:M13,3)+LARGE(C13:M13,4)+LARGE(C13:M13,5) -> 240 | O13: =COUNTIF(C13:M13,">.09") -> 6 | P13: 4 | R13: Callum Long | S13: =IFERROR(VLOOKUP($R13,'Bourne Rotary 3k'!$G:$J,4,FALSE),0) -> 49 | T13: =IFERROR(VLOOKUP($R13,'Langtoft 3k'!$G:$J,4,FALSE),0) -> 0 | U13: =IFERROR(VLOOKUP($R13,'PGP 3k (Ferry Meadows)'!$G:$J,4,FALSE),0) -> 47 | V13: =IFERROR(VLOOKUP($R13,'PGP 3k (Eye)'!$G:$J,4,FALSE),0) -> 0 | W13: =IFERROR(VLOOKUP($R13,'PGP 3k (Ferry Meadows) '!$G:$J,4,FALSE),0) -> 48 | X13: =IFERROR(VLOOKUP($R13,'PGP 3k (Stamford)'!$G:$J,4,FALSE),0) -> 0 | Y13: =IFERROR(VLOOKUP($R13,'PGP 3k (Werrington)'!$G:$J,4,FALSE),0) -> 48 | Z13: =IFERROR(VLOOKUP($R13,'RR Fun Run 2k (St Neots)'!$G:$J,4,FALSE),0) -> 0 | AA13: =IFERROR(VLOOKUP($R13,'Park Run 5k (Rutland Water)'!$G:$J,4,FALSE),0) -> 0 | AB13: =IFERROR(VLOOKUP($R13, 'Anna''s Hope Fun Run 5k'!G:J,4,FALSE),0) -> 48 | AC13: =IFERROR(VLOOKUP($R13,'Santa Fun Run 5k(Burghley Park)'!G:J,4,FALSE),0) -> 0 | AD13: =LARGE(S13:AC13,1)+LARGE(S13:AC13,2)+LARGE(S13:AC13,3)+LARGE(S13:AC13,4)+LARGE(S13:AC13,5) -> 240 | AE13: =COUNTIF(S13:AC13,">.09") -> 5 | AF13: 4
B14: Ella Chiva | C14: =IFERROR(VLOOKUP($B14,'Bourne Rotary 3k'!B:E,4,FALSE),0) -> 47 | D14: =IFERROR(VLOOKUP($B14,'Langtoft 3k'!B:E,4,FALSE),0) -> 0 | E14: =IFERROR(VLOOKUP($B14,'PGP 3k (Ferry Meadows)'!$B:$E,4,FALSE),0) -> 0 | F14: =IFERROR(VLOOKUP($B14,'PGP 3k (Eye)'!$B:$E,4,FALSE),0) -> 0 | G14: =IFERROR(VLOOKUP($B14,'PGP 3k (Ferry Meadows) '!$B:$E,4,FALSE),0) -> 0 | H14: =IFERROR(VLOOKUP($B14,'PGP 3k (Stamford)'!$B:$E,4,FALSE),0) -> 0 | I14: =IFERROR(VLOOKUP($B14,'PGP 3k (Werrington)'!$B:$E,4,FALSE),0) -> 0 | J14: =IFERROR(VLOOKUP($B14,'RR Fun Run 2k (St Neots)'!$B:$E,4,FALSE),0) -> 0 | K14: =IFERROR(VLOOKUP($B14,'Park Run 5k (Rutland Water)'!B:E,4,FALSE),0) -> 0 | L14: =IFERROR(VLOOKUP($B14,'Anna''s Hope Fun Run 5k'!$B:$E,4,FALSE),0) -> 50 | M14: =IFERROR(VLOOKUP($B14,'Santa Fun Run 5k(Burghley Park)'!B:E,4,FALSE),0) -> 48 | N14: =LARGE(C14:M14,1)+LARGE(C14:M14,2)+LARGE(C14:M14,3)+LARGE(C14:M14,4)+LARGE(C14:M14,5) -> 145 | O14: =COUNTIF(C14:M14,">.09") -> 3 | P14: 5 | R14: James Thomas | S14: =IFERROR(VLOOKUP($R14,'Bourne Rotary 3k'!$G:$J,4,FALSE),0) -> 48 | T14: =IFERROR(VLOOKUP($R14,'Langtoft 3k'!$G:$J,4,FALSE),0) -> 47 | U14: =IFERROR(VLOOKUP($R14,'PGP 3k (Ferry Meadows)'!$G:$J,4,FALSE),0) -> 44 | V14: =IFERROR(VLOOKUP($R14,'PGP 3k (Eye)'!$G:$J,4,FALSE),0) -> 47 | W14: =IFERROR(VLOOKUP($R14,'PGP 3k (Ferry Meadows) '!$G:$J,4,FALSE),0) -> 47 | X14: =IFERROR(VLOOKUP($R14,'PGP 3k (Stamford)'!$G:$J,4,FALSE),0) -> 46 | Y14: =IFERROR(VLOOKUP($R14,'PGP 3k (Werrington)'!$G:$J,4,FALSE),0) -> 49 | Z14: =IFERROR(VLOOKUP($R14,'RR Fun Run 2k (St Neots)'!$G:$J,4,FALSE),0) -> 0 | AA14: =IFERROR(VLOOKUP($R14,'Park Run 5k (Rutland Water)'!$G:$J,4,FALSE),0) -> 0 | AB14: =IFERROR(VLOOKUP($R14, 'Anna''s Hope Fun Run 5k'!G:J,4,FALSE),0) -> 0 | AC14: =IFERROR(VLOOKUP($R14,'Santa Fun Run 5k(Burghley Park)'!G:J,4,FALSE),0) -> 0 | AD14: =LARGE(S14:AC14,1)+LARGE(S14:AC14,2)+LARGE(S14:AC14,3)+LARGE(S14:AC14,4)+LARGE(S14:AC14,5) -> 238 | AE14: =COUNTIF(S14:AC14,">.09") -> 7 | AF14: 5
B15: Freya Chiva | C15: =IFERROR(VLOOKUP($B15,'Bourne Rotary 3k'!B:E,4,FALSE),0) -> 48 | D15: =IFERROR(VLOOKUP($B15,'Langtoft 3k'!B:E,4,FALSE),0) -> 0 | E15: =IFERROR(VLOOKUP($B15,'PGP 3k (Ferry Meadows)'!$B:$E,4,FALSE),0) -> 0 | F15: =IFERROR(VLOOKUP($B15,'PGP 3k (Eye)'!$B:$E,4,FALSE),0) -> 0 | G15: =IFERROR(VLOOKUP($B15,'PGP 3k (Ferry Meadows) '!$B:$E,4,FALSE),0) -> 0 | H15: =IFERROR(VLOOKUP($B15,'PGP 3k (Stamford)'!$B:$E,4,FALSE),0) -> 0 | I15: =IFERROR(VLOOKUP($B15,'PGP 3k (Werrington)'!$B:$E,4,FALSE),0) -> 0 | J15: =IFERROR(VLOOKUP($B15,'RR Fun Run 2k (St Neots)'!$B:$E,4,FALSE),0) -> 0 | K15: =IFERROR(VLOOKUP($B15,'Park Run 5k (Rutland Water)'!B:E,4,FALSE),0) -> 0 | L15: =IFERROR(VLOOKUP($B15,'Anna''s Hope Fun Run 5k'!$B:$E,4,FALSE),0) -> 0 | M15: =IFERROR(VLOOKUP($B15,'Santa Fun Run 5k(Burghley Park)'!B:E,4,FALSE),0) -> 49 | N15: =LARGE(C15:M15,1)+LARGE(C15:M15,2)+LARGE(C15:M15,3)+LARGE(C15:M15,4)+LARGE(C15:M15,5) -> 97 | O15: =COUNTIF(C15:M15,">.09") -> 2 | P15: 6 | R15: Antony Hartley | S15: =IFERROR(VLOOKUP($R15,'Bourne Rotary 3k'!$G:$J,4,FALSE),0) -> 47 | T15: =IFERROR(VLOOKUP($R15,'Langtoft 3k'!$G:$J,4,FALSE),0) -> 46 | U15: =IFERROR(VLOOKUP($R15,'PGP 3k (Ferry Meadows)'!$G:$J,4,FALSE),0) -> 45 | V15: =IFERROR(VLOOKUP($R15,'PGP 3k (Eye)'!$G:$J,4,FALSE),0) -> 46 | W15: =IFERROR(VLOOKUP($R15,'PGP 3k (Ferry Meadows) '!$G:$J,4,FALSE),0) -> 46 | X15: =IFERROR(VLOOKUP($R15,'PGP 3k (Stamford)'!$G:$J,4,FALSE),0) -> 47 | Y15: =IFERROR(VLOOKUP($R15,'PGP 3k (Werrington)'!$G:$J,4,FALSE),0) -> 0 | Z15: =IFERROR(VLOOKUP($R15,'RR Fun Run 2k (St Neots)'!$G:$J,4,FALSE),0) -> 0 | AA15: =IFERROR(VLOOKUP($R15,'Park Run 5k (Rutland Water)'!$G:$J,4,FALSE),0) -> 47 | AB15: =IFERROR(VLOOKUP($R15, 'Anna''s Hope Fun Run 5k'!G:J,4,FALSE),0) -> 47 | AC15: =IFERROR(VLOOKUP($R15,'Santa Fun Run 5k(Burghley Park)'!G:J,4,FALSE),0) -> 0 | AD15: =LARGE(S15:AC15,1)+LARGE(S15:AC15,2)+LARGE(S15:AC15,3)+LARGE(S15:AC15,4)+LARGE(S15:AC15,5) -> 234 | AE15: =COUNTIF(S15:AC15,">.09") -> 8 | AF15: 6
B16: Olivia Linnell | C16: =IFERROR(VLOOKUP($B16,'Bourne Rotary 3k'!B:E,4,FALSE),0) -> 0 | D16: =IFERROR(VLOOKUP($B16,'Langtoft 3k'!B:E,4,FALSE),0) -> 48 | E16: =IFERROR(VLOOKUP($B16,'PGP 3k (Ferry Meadows)'!$B:$E,4,FALSE),0) -> 0 | F16: =IFERROR(VLOOKUP($B16,'PGP 3k (Eye)'!$B:$E,4,FALSE),0) -> 0 | G16: =IFERROR(VLOOKUP($B16,'PGP 3k (Ferry Meadows) '!$B:$E,4,FALSE),0) -> 0 | H16: =IFERROR(VLOOKUP($B16,'PGP 3k (Stamford)'!$B:$E,4,FALSE),0) -> 0 | I16: =IFERROR(VLOOKUP($B16,'PGP 3k (Werrington)'!$B:$E,4,FALSE),0) -> 0 | J16: =IFERROR(VLOOKUP($B16,'RR Fun Run 2k (St Neots)'!$B:$E,4,FALSE),0) -> 0 | K16: =IFERROR(VLOOKUP($B16,'Park Run 5k (Rutland Water)'!B:E,4,FALSE),0) -> 0 | L16: =IFERROR(VLOOKUP($B16,'Anna''s Hope Fun Run 5k'!$B:$E,4,FALSE),0) -> 0 | M16: =IFERROR(VLOOKUP($B16,'Santa Fun Run 5k(Burghley Park)'!B:E,4,FALSE),0) -> 0 | N16: =LARGE(C16:M16,1)+LARGE(C16:M16,2)+LARGE(C16:M16,3)+LARGE(C16:M16,4)+LARGE(C16:M16,5) -> 48 | O16: =COUNTIF(C16:M16,">.09") -> 1 | P16: 7 | R16: Jack Griffin | S16: =IFERROR(VLOOKUP($R16,'Bourne Rotary 3k'!$G:$J,4,FALSE),0) -> 0 | T16: =IFERROR(VLOOKUP($R16,'Langtoft 3k'!$G:$J,4,FALSE),0) -> 49 | U16: =IFERROR(VLOOKUP($R16,'PGP 3k (Ferry Meadows)'!$G:$J,4,FALSE),0) -> 48 | V16: =IFERROR(VLOOKUP($R16,'PGP 3k (Eye)'!$G:$J,4,FALSE),0) -> 49 | W16: =IFERROR(VLOOKUP($R16,'PGP 3k (Ferry Meadows) '!$G:$J,4,FALSE),0) -> 0 | X16: =IFERROR(VLOOKUP($R16,'PGP 3k (Stamford)'!$G:$J,4,FALSE),0) -> 0 | Y16: =IFERROR(VLOOKUP($R16,'PGP 3k (Werrington)'!$G:$J,4,FALSE),0) -> 0 | Z16: =IFERROR(VLOOKUP($R16,'RR Fun Run 2k (St Neots)'!$G:$J,4,FALSE),0) -> 0 | AA16: =IFERROR(VLOOKUP($R16,'Park Run 5k (Rutland Water)'!$G:$J,4,FALSE),0) -> 0 | AB16: =IFERROR(VLOOKUP($R16, 'Anna''s Hope Fun Run 5k'!G:J,4,FALSE),0) -> 0 | AC16: =IFERROR(VLOOKUP($R16,'Santa Fun Run 5k(Burghley Park)'!G:J,4,FALSE),0) -> 0 | AD16: =LARGE(S16:AC16,1)+LARGE(S16:AC16,2)+LARGE(S16:AC16,3)+LARGE(S16:AC16,4)+LARGE(S16:AC16,5) -> 146 | AE16: =COUNTIF(S16:AC16,">.09") -> 3 | AF16: 7
B17: Natasha Cook | C17: =IFERROR(VLOOKUP($B17,'Bourne Rotary 3k'!B:E,4,FALSE),0) -> 0 | D17: =IFERROR(VLOOKUP($B17,'Langtoft 3k'!B:E,4,FALSE),0) -> 47 | E17: =IFERROR(VLOOKUP($B17,'PGP 3k (Ferry Meadows)'!$B:$E,4,FALSE),0) -> 0 | F17: =IFERROR(VLOOKUP($B17,'PGP 3k (Eye)'!$B:$E,4,FALSE),0) -> 0 | G17: =IFERROR(VLOOKUP($B17,'PGP 3k (Ferry Meadows) '!$B:$E,4,FALSE),0) -> 0 | H17: =IFERROR(VLOOKUP($B17,'PGP 3k (Stamford)'!$B:$E,4,FALSE),0) -> 0 | I17: =IFERROR(VLOOKUP($B17,'PGP 3k (Werrington)'!$B:$E,4,FALSE),0) -> 0 | J17: =IFERROR(VLOOKUP($B17,'RR Fun Run 2k (St Neots)'!$B:$E,4,FALSE),0) -> 0 | K17: =IFERROR(VLOOKUP($B17,'Park Run 5k (Rutland Water)'!B:E,4,FALSE),0) -> 0 | L17: =IFERROR(VLOOKUP($B17,'Anna''s Hope Fun Run 5k'!$B:$E,4,FALSE),0) -> 0 | M17: =IFERROR(VLOOKUP($B17,'Santa Fun Run 5k(Burghley Park)'!B:E,4,FALSE),0) -> 0 | N17: =LARGE(C17:M17,1)+LARGE(C17:M17,2)+LARGE(C17:M17,3)+LARGE(C17:M17,4)+LARGE(C17:M17,5) -> 47 | O17: =COUNTIF(C17:M17,">.09") -> 1 | P17: 8 | R17: Evan Candish | S17: =IFERROR(VLOOKUP($R17,'Bourne Rotary 3k'!$G:$J,4,FALSE),0) -> 0 | T17: =IFERROR(VLOOKUP($R17,'Langtoft 3k'!$G:$J,4,FALSE),0) -> 0 | U17: =IFERROR(VLOOKUP($R17,'PGP 3k (Ferry Meadows)'!$G:$J,4,FALSE),0) -> 0 | V17: =IFERROR(VLOOKUP($R17,'PGP 3k (Eye)'!$G:$J,4,FALSE),0) -> 0 | W17: =IFERROR(VLOOKUP($R17,'PGP 3k (Ferry Meadows) '!$G:$J,4,FALSE),0) -> 0 | X17: =IFERROR(VLOOKUP($R17,'PGP 3k (Stamford)'!$G:$J,4,FALSE),0) -> 0 | Y17: =IFERROR(VLOOKUP($R17,'PGP 3k (Werrington)'!$G:$J,4,FALSE),0) -> 0 | Z17: =IFERROR(VLOOKUP($R17,'RR Fun Run 2k (St Neots)'!$G:$J,4,FALSE),0) -> 0 | AA17: =IFERROR(VLOOKUP($R17,'Park Run 5k (Rutland Water)'!$G:$J,4,FALSE),0) -> 46 | AB17: =IFERROR(VLOOKUP($R17, 'Anna''s Hope Fun Run 5k'!G:J,4,FALSE),0) -> 46 | AC17: =IFERROR(VLOOKUP($R17,'Santa Fun Run 5k(Burghley Park)'!G:J,4,FALSE),0) -> 48 | AD17: =LARGE(S17:AC17,1)+LARGE(S17:AC17,2)+LARGE(S17:AC17,3)+LARGE(S17:AC17,4)+LARGE(S17:AC17,5) -> 140 | AE17: =COUNTIF(S17:AC17,">.09") -> 3 | AF17: 8
B18: Emily Thomas | C18: =IFERROR(VLOOKUP($B18,'Bourne Rotary 3k'!B:E,4,FALSE),0) -> 46 | D18: =IFERROR(VLOOKUP($B18,'Langtoft 3k'!B:E,4,FALSE),0) -> 0 | E18: =IFERROR(VLOOKUP($B18,'PGP 3k (Ferry Meadows)'!$B:$E,4,FALSE),0) -> 0 | F18: =IFERROR(VLOOKUP($B18,'PGP 3k (Eye)'!$B:$E,4,FALSE),0) -> 0 | G18: =IFERROR(VLOOKUP($B18,'PGP 3k (Ferry Meadows) '!$B:$E,4,FALSE),0) -> 0 | H18: =IFERROR(VLOOKUP($B18,'PGP 3k (Stamford)'!$B:$E,4,FALSE),0) -> 0 | I18: =IFERROR(VLOOKUP($B18,'PGP 3k (Werrington)'!$B:$E,4,FALSE),0) -> 0 | J18: =IFERROR(VLOOKUP($B18,'RR Fun Run 2k (St Neots)'!$B:$E,4,FALSE),0) -> 0 | K18: =IFERROR(VLOOKUP($B18,'Park Run 5k (Rutland Water)'!B:E,4,FALSE),0) -> 0 | L18: =IFERROR(VLOOKUP($B18,'Anna''s Hope Fun Run 5k'!$B:$E,4,FALSE),0) -> 0 | M18: =IFERROR(VLOOKUP($B18,'Santa Fun Run 5k(Burghley Park)'!B:E,4,FALSE),0) -> 0 | N18: =LARGE(C18:M18,1)+LARGE(C18:M18,2)+LARGE(C18:M18,3)+LARGE(C18:M18,4)+LARGE(C18:M18,5) -> 46 | O18: =COUNTIF(C18:M18,">.09") -> 1 | P18: 9 | R18: Joe Candish | S18: =IFERROR(VLOOKUP($R18,'Bourne Rotary 3k'!$G:$J,4,FALSE),0) -> 0 | T18: =IFERROR(VLOOKUP($R18,'Langtoft 3k'!$G:$J,4,FALSE),0) -> 0 | U18: =IFERROR(VLOOKUP($R18,'PGP 3k (Ferry Meadows)'!$G:$J,4,FALSE),0) -> 0 | V18: =IFERROR(VLOOKUP($R18,'PGP 3k (Eye)'!$G:$J,4,FALSE),0) -> 0 | W18: =IFERROR(VLOOKUP($R18,'PGP 3k (Ferry Meadows) '!$G:$J,4,FALSE),0) -> 0 | X18: =IFERROR(VLOOKUP($R18,'PGP 3k (Stamford)'!$G:$J,4,FALSE),0) -> 45 | Y18: =IFERROR(VLOOKUP($R18,'PGP 3k (Werrington)'!$G:$J,4,FALSE),0) -> 0 | Z18: =IFERROR(VLOOKUP($R18,'RR Fun Run 2k (St Neots)'!$G:$J,4,FALSE),0) -> 0 | AA18: =IFERROR(VLOOKUP($R18,'Park Run 5k (Rutland Water)'!$G:$J,4,FALSE),0) -> 45 | AB18: =IFERROR(VLOOKUP($R18, 'Anna''s Hope Fun Run 5k'!G:J,4,FALSE),0) -> 0 | AC18: =IFERROR(VLOOKUP($R18,'Santa Fun Run 5k(Burghley Park)'!G:J,4,FALSE),0) -> 47 | AD18: =LARGE(S18:AC18,1)+LARGE(S18:AC18,2)+LARGE(S18:AC18,3)+LARGE(S18:AC18,4)+LARGE(S18:AC18,5) -> 137 | AE18: =COUNTIF(S18:AC18,">.09") -> 3 | AF18: 9

Sheet Bourne Rotary 3k
D2: Bourne Rotary 3k
D3: 43198
B5: Girl's Results | G5: Boy's Results
B6: Name | C6: Time | D6: % | E6: Points | G6: Name | H6: Time | I6: % | J6: Points
B7: Erin Cox | C7: 13'03"37 | D7: 70.44 | E7: 50 | G7: Jamie Milner | H7: 13'27"78 | I7: 66.73 | J7: 50
B8: Olivia Lewis | C8: 14'46"18 | D8: 65.24 | E8: 49 | G8: Callum Long | H8: 14'47"53 | I8: 62.9 | J8: 49
B9: Freya Chiva | C9: 18'59"78 | D9: 52.2 | E9: 48 | G9: James Thomas | H9: 14'00"88 | I9: 58.89 | J9: 48
B10: Ella Chiva | C10: 18'09"75 | D10: 50.65 | E10: 47 | G10: Antony Hartley | H10: 15'43"59 | I10: 52.46 | J10: 47
B11: Emily Thomas | C11: 18'52"88 | D11: 49.8 | E11: 46

Sheet Langtoft 3k
D2: Langtoft 3k
D3: 43226
B5: Girl's Results | G5: Boy's Results
B6: Name | C6: Time | D6: % | E6: Points | G6: Name | H6: Time | I6: % | J6: Points
B7: Erin Cox | C7: 0.49791667 | D7: 76.93 | E7: 50 | G7: Jenson Lewis | H7: 0.48680556 | I7: 70.57 | J7: 50
B8: Olivia Lewis | C8: 0.61458333 | D8: 65.31 | E8: 49 | G8: Jack Griffin | H8: 0.49444444 | I8: 69.48 | J8: 49
B9: Olivia Linnell | C9: 0.72569444 | D9: 53.95 | E9: 48 | G9: Jamie Milner | H9: 0.54375 | I9: 68.77 | J9: 48
B10: Natasha Cook | C10: 0.71597222 | D10: 51.63 | E10: 47 | G10: James Thomas | H10: 0.54513889 | I10: 63.02 | J10: 47
G11: Antony Hartley | H11: 0.57291667 | I11: 59.97 | J11: 46

Sheet PGP 3k (Ferry Meadows)
D2: Peterborough Grand Prix 3k (Ferry Meadows)
D3: 43257
B5: Girl's Results | G5: Boy's Results
B6: Name | C6: Time | D6: % | E6: Points | G6: Name | H6: Time | I6: % | J6: Points
B7: Olivia Lewis | C7: 0.011238426 | D7: 59.53 | E7: 50 | G7: Jenson Lewis | H7: 0.0080092593 | I7: 71.49 | J7: 50
B8: Scarlet Bird | C8: 0.01119213 | D8: 58.3 | E8: 49 | G8: Jamie Milner | H8: 0.0087152778 | I8: 69.28 | J8: 49
B9: Holly Bird | C9: 0.01212963 | D9: 51.64 | E9: 48 | G9: Jack Griffin | H9: 0.0083796296 | I9: 68.33 | J9: 48
G10: Callum Long | H10: 0.0094444444 | I10: 65.99 | J10: 47
G11: Bayley Graham | H11: 0.0094444444 | I11: 65.99 | J11: 47
G12: Antony Hartley | H12: 0.0091319444 | I12: 62.7 | J12: 45
G13: James Thomas | H13: 0.0094328704 | I13: 60.7 | J13: 44

Sheet PGP 3k (Eye)
D2: Peterborough Grand Prix 3k (Eye)
D3: 43271
B5: Girl's Results | G5: Boy's Results
B6: Name | C6: Time | D6: % | E6: Points | G6: Name | H6: Time | I6: % | J6: Points
B7: Erin Cox | C7: 0.0085416667 | D7: 74.74 | E7: 50 | G7: Jenson Lewis | H7: 0.0081597222 | I7: 70.17 | J7: 50
B8: Olivia Lewis | C8: 0.010914352 | D8: 61.29 | E8: 49 | G8: Jack Griffin | H8: 0.0084027778 | I8: 68.14 | J8: 49
B9: Holly Bird | C9: 0.011909722 | D9: 52.59 | E9: 48 | G9: Bayley Graham | H9: 0.0097569444 | I9: 63.88 | J9: 48
G10: James Thomas | H10: 0.0090162037 | I10: 63.51 | J10: 47
G11: Antony Hartley | H11: 0.0093055556 | I11: 61.53 | J11: 46

Sheet PGP 3k (Ferry Meadows) 
D2: Peterborough Grand Prix 3k (Ferry Meadows)
D3: 43285
B5: Girl's Results | G5: Boy's Results
B6: Name | C6: Time | D6: % | E6: Points | G6: Name | H6: Time | I6: % | J6: Points
B7: Scarlet Bird | C7: 0.0091319444 | D7: 71.45 | E7: 50 | G7: Jenson Lewis | H7: 0.0081018519 | I7: 70.67 | J7: 50
B8: Holly Bird | C8: 0.01162037 | D8: 53.9 | E8: 49 | G8: Bayley Graham | H8: 0.0092708333 | I8: 67.23 | J8: 49
B9: Olivia Lewis | C9: 0.013472222 | D9: 49.66 | E9: 48 | G9: Callum Long | H9: 0.0093981481 | I9: 66.32 | J9: 48
G10: James Thomas | H10: 0.0089583333 | I10: 63.92 | J10: 47
G11: Antony Hartley | H11: 0.0092361111 | I11: 61.99 | J11: 46

Sheet PGP 3k (Stamford)
D2: Peterborough Grand Prix 3k (Stamford)
B5: Girl's Results | G5: Boy's Results
B6: Name | C6: Time | D6: % | E6: Points | G6: Name | H6: Time | I6: % | J6: Points
B7: Erin Cox | C7: 0.48402778 | D7: 79.13 | E7: 50 | G7: Jamie Milner | H7: 0.50069444 | I7: 72.36 | J7: 50
G8: Jenson Lewis | H8: 0.48263889 | I8: 71.18 | J8: 49
G9: Bayley Graham | H9: 0.57430556 | I9: 65.11 | J9: 48
G10: Antony Hartley | H10: 0.52916667 | I10: 64.92 | J10: 47
G11: James Thomas | H11: 0.82777778 | I11: 41.5 | J11: 46
G12: Joe Candish | H12: 0.82986111 | I12: 39.74 | J12: 45

Sheet PGP 3k (Werrington)
D2: Peterborough Grand Prix 3k (Werrington)
D3: 43313
B5: Girl's Results | G5: Boy's Results
B6: Name | C6: Time | D6: % | E6: Points | G6: Name | H6: Time | I6: % | J6: Points
B7: Erin Cox | C7: 0.0081134259 | D7: 78.68 | E7: 50 | G7: Jenson Lewis | H7: 0.0078009259 | I7: 73.4 | J7: 50
B8: Scarlet Bird | C8: 0.010185185 | D8: 64.07 | E8: 49 | G8: James Thomas | H8: 0.0088773148 | I8: 64.5 | J8: 49
B9: Olivia Lewis | C9: 0.010925926 | D9: 61.23 | E9: 48 | G9: Callum Long | H9: 0.0099652778 | I9: 62.54 | J9: 48
B10: Holly Bird | C10: 0.0115625 | D10: 54.17 | E10: 47 | G10: Jamie Milner | H10: 0.013969907 | I10: 43.22 | J10: 47

Sheet RR Fun Run 2k  (St Neots)
D2: Riverside Runners Fun Run 2k (St Neots)
D3: 43317
B5: Girl's Results | G5: Boy's Results
B6: Name | C6: Time | D6: % | E6: Points | G6: Name | H6: Time | I6: % | J6: Points
B7: Scarlet Bird | C7: 0.0058449074 | D7: 71.58 | E7: 50 | G7: Jenson Lewis | H7: 0.0048842593 | I7: 75.45 | J7: 50
B8: Olivia Lewis | C8: 0.0064467593 | D8: 66.54 | E8: 49 | G8: Jamie Milner | H8: 0.0051851852 | I8: 74.95 | J8: 49
B9: Holly Bird | C9: 0.0065740741 | D9: 61.09 | E9: 48

Sheet Park Run 5k (Rutland Water)
D2: Park Run 5k (Rutland Water)
D3: 43372
B5: Girl's Results | G5: Boy's Results
B6: Name | C6: Time | D6: % | E6: Points | G6: Name | H6: Time | I6: % | J6: Points
G7: Jenson Lewis | H7: 0.014479167 | I7: 69.56 | J7: 50
G8: Jamie Milner | H8: 0.015810185 | I8: 67.18 | J8: 49
G9: Bayley Graham | H9: 0.017523148 | I9: 60.62 | J9: 48
G10: Antony Hartley | H10: 0.017094907 | I10: 58.92 | J10: 47
G11: Evan Candish | H11: 0.025405093 | I11: 39.65 | J11: 46
G12: Joe Candish | H12: 0.025081019 | I12: 38.55 | J12: 45

Sheet Anna's Hope Fun Run 5k
D2: Anna's Hope Fun Run 5k (Peterborough)
D3: 43387
B5: Girl's Results | G5: Boy's Results
B6: Name | C6: Time | D6: % | E6: Points | G6: Name | H6: Time | I6: % | J6: Points
B7: Ella Chiva | C7: 0.027905093 | D7: 40.51 | E7: 50 | G7: Jenson Lewis | H7: 0.014178241 | I7: 69.5 | J7: 50
G8: Bayley Graham | H8: 0.016446759 | I8: 64.58 | J8: 49
G9: Callum Long | H9: 0.017025463 | I9: 64.4 | J9: 48
G10: Antony Hartley | H10: 0.016979167 | I10: 58.04 | J10: 47
G11: Evan Candish | H11: 0.025625 | I11: 39.31 | J11: 46

Sheet Santa Fun Run 5k(Burghley Park)
D2: Santa Fun Run 5k (Burghley Park)
D3: 43443
B5: Girl's Results | G5: Boy's Results
B6: Name | C6: Time | D6: % | E6: Points | G6: Name | H6: Time | I6: % | J6: Points
B7: Scarlet Bird | C7: 0.021759259 | D7: 51.96 | E7: 50 | G7: Bayley Graham | H7: 0.017824074 | I7: 59.59 | J7: 50
B8: Freya Chiva | C8: 0.029976852 | D8: 39.52 | E8: 49 | G8: Jamie Milner | H8: 0.018518519 | I8: 57.36 | J8: 49
B9: Ella Chiva | C9: 0.028715278 | D9: 39.37 | E9: 48 | G9: Evan Candish | H9: 0.026585648 | I9: 37.89 | J9: 48
B10: Holly Bird | C10: 0.028715278 | D10: 38 | E10: 47 | G10: Joe Candish | H10: 0.027858796 | I10: 34.7 | J10: 47
