Workbook

Sheet Championship positions
D2: = Qualified
B8: GIRLS' CHAMPIONSHIP 2017 | R8: BOY'S CHAMPIONSHIP 2017
B9: Name/Race No. | C9: 1. Rutland Water Park Run 5k | D9: 2. Bourne Rotary 3k | E9: 3. Langtoft 3k | F9: 4. Deepings 3k | G9: 5. Ferry Meadows 3k | H9: 6. March Darren's Dash 1.5miles | I9: 7. Stamford 3k | J9: 8. Riverside Runners 2k | K9: 9. Rutland Water Park Run 5k | L9: 10. GER, Anna’s Hope Fun Run 5k | M9: 11. Santa Fun Run | N9: Total of Best 5 | O9: No of Races (best five to count) | P9: Position | R9: Name/Race No. | S9: 1. Rutland Water Park Run 5k | T9: 2. Bourne Rotary 3k | U9: 3. Langtoft 3k | V9: 4. Deepings 3k | W9: 5. Ferry Meadows 3k | X9: 6. March Darren's Dash 1.5miles | Y9: 7. Stamford 3k | Z9: 8. Riverside Runners 2k | AA9: 9. Rutland Water Park Run 5k | AB9: 10. GER, Anna’s Hope Fun Run 5k | AC9: 11. Santa Fun Run | AD9: Total of Best 5 | AE9: No of Races (best five to count) | AF9: Position
B10: Natasha Cook | C10: =IFERROR(VLOOKUP($B10,'Rutland Water Park Run 5k'!$B:$E,4,FALSE),0) -> 0 | D10: =IFERROR(VLOOKUP($B10,'Bourne Rotary 3k'!$B:$E,4,FALSE),0) -> 0 | E10: =IFERROR(VLOOKUP($B10,'Langtoft 3k'!$B:$E,4,FALSE),0) -> 50 | F10: =IFERROR(VLOOKUP($B10,'Deepings 3k'!$B:$E,4,FALSE),0) -> 50 | G10: =IFERROR(VLOOKUP($B10,'Ferry Meadows 3k'!$B:$E,4,FALSE),0) -> 0 | H10: =IFERROR(VLOOKUP($B10,'March Darren''s Dash 1.5miles'!$B:$E,4,FALSE),0) -> 0 | I10: =IFERROR(VLOOKUP($B10,'Stamford 3k'!$B:$E,4,FALSE),0) -> 0 | J10: =IFERROR(VLOOKUP($B10,'Riverside Runners 2k'!$B:$E,4,FALSE),0) -> 0 | K10: =IFERROR(VLOOKUP($B10,'Rutland Water Park Run 5k '!$B:$E,4,FALSE),0) -> 0 | L10: =IFERROR(VLOOKUP($B10,'GER, Anna’s Hope Fun Run 5k'!$B:$E,4,FALSE),0) -> 0 | M10: =IFERROR(VLOOKUP($B10,'Santa Fun Run'!$B:$E,4,FALSE),0) -> 0 | N10: =LARGE(C10:M10,1)+LARGE(C10:M10,2)+LARGE(C10:M10,3)+LARGE(C10:M10,4)+LARGE(C10:M10,5) -> 100 | O10: =COUNTIF(C10:M10,">.09") -> 2 | P10: 1= | R10: Jenson Lewis | S10: =IFERROR(VLOOKUP($R10,'Rutland Water Park Run 5k'!$G:$J,4,FALSE),0) -> 0 | T10: =IFERROR(VLOOKUP($R10,'Bourne Rotary 3k'!$G:$J,4,FALSE),0) -> 0 | U10: =IFERROR(VLOOKUP($R10,'Langtoft 3k'!$G:$J,4,FALSE),0) -> 0 | V10: =IFERROR(VLOOKUP($R10,'Deepings 3k'!$G:$J,4,FALSE),0) -> 50 | W10: =IFERROR(VLOOKUP($R10,'Ferry Meadows 3k'!$G:$J,4,FALSE),0) -> 50 | X10: =IFERROR(VLOOKUP($R10,'March Darren''s Dash 1.5miles'!$G:$J,4,FALSE),0) -> 50 | Y10: =IFERROR(VLOOKUP($R10,'Stamford 3k'!$G:$J,4,FALSE),0) -> 50 | Z10: =IFERROR(VLOOKUP($R10,'Riverside Runners 2k'!$G:$J,4,FALSE),0) -> 50 | AA10: =IFERROR(VLOOKUP($R10,'Rutland Water Park Run 5k '!$G:$J,4,FALSE),0) -> 50 | AB10: =IFERROR(VLOOKUP($R10,'GER, Anna’s Hope Fun Run 5k'!$G:$J,4,FALSE),0) -> 0 | AC10: =IFERROR(VLOOKUP($R10, 'Santa Fun Run'!G:J,4,FALSE),0) -> 0 | AD10: =LARGE(S10:AC10,1)+LARGE(S10:AC10,2)+LARGE(S10:AC10,3)+LARGE(S10:AC10,4)+LARGE(S10:AC10,5) -> 250 | AE10: =COUNTIF(S10:AC10,">.09") -> 6 | AF10: 1
B11: Gabriella Dudley | C11: =IFERROR(VLOOKUP($B11,'Rutland Water Park Run 5k'!$B:$E,4,FALSE),0) -> 0 | D11: =IFERROR(VLOOKUP($B11,'Bourne Rotary 3k'!$B:$E,4,FALSE),0) -> 0 | E11: =IFERROR(VLOOKUP($B11,'Langtoft 3k'!$B:$E,4,FALSE),0) -> 0 | F11: =IFERROR(VLOOKUP($B11,'Deepings 3k'!$B:$E,4,FALSE),0) -> 0 | G11: =IFERROR(VLOOKUP($B11,'Ferry Meadows 3k'!$B:$E,4,FALSE),0) -> 0 | H11: =IFERROR(VLOOKUP($B11,'March Darren''s Dash 1.5miles'!$B:$E,4,FALSE),0) -> 50 | I11: =IFERROR(VLOOKUP($B11,'Stamford 3k'!$B:$E,4,FALSE),0) -> 49 | J11: =IFERROR(VLOOKUP($B11,'Riverside Runners 2k'!$B:$E,4,FALSE),0) -> 0 | K11: =IFERROR(VLOOKUP($B11,'Rutland Water Park Run 5k '!$B:$E,4,FALSE),0) -> 0 | L11: =IFERROR(VLOOKUP($B11,'GER, Anna’s Hope Fun Run 5k'!$B:$E,4,FALSE),0) -> 0 | M11: =IFERROR(VLOOKUP($B11,'Santa Fun Run'!$B:$E,4,FALSE),0) -> 0 | N11: =LARGE(C11:M11,1)+LARGE(C11:M11,2)+LARGE(C11:M11,3)+LARGE(C11:M11,4)+LARGE(C11:M11,5) -> 99 | O11: =COUNTIF(C11:M11,">.09") -> 2 | P11: 2= | R11: Finn Chisholm | S11: =IFERROR(VLOOKUP($R11,'Rutland Water Park Run 5k'!$G:$J,4,FALSE),0) -> 50 | T11: =IFERROR(VLOOKUP($R11,'Bourne Rotary 3k'!$G:$J,4,FALSE),0) -> 48 | U11: =IFERROR(VLOOKUP($R11,'Langtoft 3k'!$G:$J,4,FALSE),0) -> 0 | V11: =IFERROR(VLOOKUP($R11,'Deepings 3k'!$G:$J,4,FALSE),0) -> 48 | W11: =IFERROR(VLOOKUP($R11,'Ferry Meadows 3k'!$G:$J,4,FALSE),0) -> 48 | X11: =IFERROR(VLOOKUP($R11,'March Darren''s Dash 1.5miles'!$G:$J,4,FALSE),0) -> 0 | Y11: =IFERROR(VLOOKUP($R11,'Stamford 3k'!$G:$J,4,FALSE),0) -> 49 | Z11: =IFERROR(VLOOKUP($R11,'Riverside Runners 2k'!$G:$J,4,FALSE),0) -> 0 | AA11: =IFERROR(VLOOKUP($R11,'Rutland Water Park Run 5k '!$G:$J,4,FALSE),0) -> 0 | AB11: =IFERROR(VLOOKUP($R11,'GER, Anna’s Hope Fun Run 5k'!$G:$J,4,FALSE),0) -> 0 | AC11: =IFERROR(VLOOKUP($R11, 'Santa Fun Run'!G:J,4,FALSE),0) -> 0 | AD11: =LARGE(S11:AC11,1)+LARGE(S11:AC11,2)+LARGE(S11:AC11,3)+LARGE(S11:AC11,4)+LARGE(S11:AC11,5) -> 243 | AE11: =COUNTIF(S11:AC11,">.09") -> 5 | AF11: 2
B12: Erin Cox | C12: =IFERROR(VLOOKUP($B12,'Rutland Water Park Run 5k'!$B:$E,4,FALSE),0) -> 0 | D12: =IFERROR(VLOOKUP($B12,'Bourne Rotary 3k'!$B:$E,4,FALSE),0) -> 49 | E12: =IFERROR(VLOOKUP($B12,'Langtoft 3k'!$B:$E,4,FALSE),0) -> 0 | F12: =IFERROR(VLOOKUP($B12,'Deepings 3k'!$B:$E,4,FALSE),0) -> 0 | G12: =IFERROR(VLOOKUP($B12,'Ferry Meadows 3k'!$B:$E,4,FALSE),0) -> 0 | H12: =IFERROR(VLOOKUP($B12,'March Darren''s Dash 1.5miles'!$B:$E,4,FALSE),0) -> 0 | I12: =IFERROR(VLOOKUP($B12,'Stamford 3k'!$B:$E,4,FALSE),0) -> 50 | J12: =IFERROR(VLOOKUP($B12,'Riverside Runners 2k'!$B:$E,4,FALSE),0) -> 0 | K12: =IFERROR(VLOOKUP($B12,'Rutland Water Park Run 5k '!$B:$E,4,FALSE),0) -> 0 | L12: =IFERROR(VLOOKUP($B12,'GER, Anna’s Hope Fun Run 5k'!$B:$E,4,FALSE),0) -> 0 | M12: =IFERROR(VLOOKUP($B12,'Santa Fun Run'!$B:$E,4,FALSE),0) -> 0 | N12: =LARGE(C12:M12,1)+LARGE(C12:M12,2)+LARGE(C12:M12,3)+LARGE(C12:M12,4)+LARGE(C12:M12,5) -> 99 | O12: =COUNTIF(C12:M12,">.09") -> 2 | P12: 2= | R12: Jamie Broom | S12: =IFERROR(VLOOKUP($R12,'Rutland Water Park Run 5k'!$G:$J,4,FALSE),0) -> 0 | T12: =IFERROR(VLOOKUP($R12,'Bourne Rotary 3k'!$G:$J,4,FALSE),0) -> 47 | U12: =IFERROR(VLOOKUP($R12,'Langtoft 3k'!$G:$J,4,FALSE),0) -> 49 | V12: =IFERROR(VLOOKUP($R12,'Deepings 3k'!$G:$J,4,FALSE),0) -> 47 | W12: =IFERROR(VLOOKUP($R12,'Ferry Meadows 3k'!$G:$J,4,FALSE),0) -> 0 | X12: =IFERROR(VLOOKUP($R12,'March Darren''s Dash 1.5miles'!$G:$J,4,FALSE),0) -> 0 | Y12: =IFERROR(VLOOKUP($R12,'Stamford 3k'!$G:$J,4,FALSE),0) -> 48 | Z12: =IFERROR(VLOOKUP($R12,'Riverside Runners 2k'!$G:$J,4,FALSE),0) -> 0 | AA12: =IFERROR(VLOOKUP($R12,'Rutland Water Park Run 5k '!$G:$J,4,FALSE),0) -> 48 | AB12: =IFERROR(VLOOKUP($R12,'GER, Anna’s Hope Fun Run 5k'!$G:$J,4,FALSE),0) -> 0 | AC12: =IFERROR(VLOOKUP($R12, 'Santa Fun Run'!G:J,4,FALSE),0) -> 0 | AD12: =LARGE(S12:AC12,1)+LARGE(S12:AC12,2)+LARGE(S12:AC12,3)+LARGE(S12:AC12,4)+LARGE(S12:AC12,5) -> 239 | AE12: =COUNTIF(S12:AC12,">.09") -> 5 | AF12: 3
B13: Elizabeth Hodgkinson | C13: =IFERROR(VLOOKUP($B13,'Rutland Water Park Run 5k'!$B:$E,4,FALSE),0) -> 50 | D13: =IFERROR(VLOOKUP($B13,'Bourne Rotary 3k'!$B:$E,4,FALSE),0) -> 0 | E13: =IFERROR(VLOOKUP($B13,'Langtoft 3k'!$B:$E,4,FALSE),0) -> 0 | F13: =IFERROR(VLOOKUP($B13,'Deepings 3k'!$B:$E,4,FALSE),0) -> 0 | G13: 0 | H13: 0 | I13: =IFERROR(VLOOKUP($B13,'Stamford 3k'!$B:$E,4,FALSE),0) -> 0 | J13: =IFERROR(VLOOKUP($B13,'Riverside Runners 2k'!$B:$E,4,FALSE),0) -> 0 | K13: =IFERROR(VLOOKUP($B13,'Rutland Water Park Run 5k '!$B:$E,4,FALSE),0) -> 0 | L13: =IFERROR(VLOOKUP($B13,'GER, Anna’s Hope Fun Run 5k'!$B:$E,4,FALSE),0) -> 0 | M13: =IFERROR(VLOOKUP($B13,'Santa Fun Run'!$B:$E,4,FALSE),0) -> 0 | N13: =LARGE(C13:M13,1)+LARGE(C13:M13,2)+LARGE(C13:M13,3)+LARGE(C13:M13,4)+LARGE(C13:M13,5) -> 50 | O13: =COUNTIF(C13:M13,">.09") -> 1 | P13: 4= | R13: Joe Candish | S13: =IFERROR(VLOOKUP($R13,'Rutland Water Park Run 5k'!$G:$J,4,FALSE),0) -> 47 | T13: =IFERROR(VLOOKUP($R13,'Bourne Rotary 3k'!$G:$J,4,FALSE),0) -> 46 | U13: =IFERROR(VLOOKUP($R13,'Langtoft 3k'!$G:$J,4,FALSE),0) -> 47 | V13: =IFERROR(VLOOKUP($R13,'Deepings 3k'!$G:$J,4,FALSE),0) -> 45 | W13: =IFERROR(VLOOKUP($R13,'Ferry Meadows 3k'!$G:$J,4,FALSE),0) -> 47 | X13: =IFERROR(VLOOKUP($R13,'March Darren''s Dash 1.5miles'!$G:$J,4,FALSE),0) -> 0 | Y13: =IFERROR(VLOOKUP($R13,'Stamford 3k'!$G:$J,4,FALSE),0) -> 47 | Z13: =IFERROR(VLOOKUP($R13,'Riverside Runners 2k'!$G:$J,4,FALSE),0) -> 0 | AA13: =IFERROR(VLOOKUP($R13,'Rutland Water Park Run 5k '!$G:$J,4,FALSE),0) -> 47 | AB13: =IFERROR(VLOOKUP($R13,'GER, Anna’s Hope Fun Run 5k'!$G:$J,4,FALSE),0) -> 49 | AC13: =IFERROR(VLOOKUP($R13, 'Santa Fun Run'!G:J,4,FALSE),0) -> 0 | AD13: =LARGE(S13:AC13,1)+LARGE(S13:AC13,2)+LARGE(S13:AC13,3)+LARGE(S13:AC13,4)+LARGE(S13:AC13,5) -> 237 | AE13: =COUNTIF(S13:AC13,">.09") -> 8 | AF13: 4
B14: Amelie Fairclough | C14: =IFERROR(VLOOKUP($B14,'Rutland Water Park Run 5k'!$B:$E,4,FALSE),0) -> 0 | D14: =IFERROR(VLOOKUP($B14,'Bourne Rotary 3k'!$B:$E,4,FALSE),0) -> 50 | E14: =IFERROR(VLOOKUP($B14,'Langtoft 3k'!$B:$E,4,FALSE),0) -> 0 | F14: =IFERROR(VLOOKUP($B14,'Deepings 3k'!$B:$E,4,FALSE),0) -> 0 | G14: =IFERROR(VLOOKUP($B14,'Ferry Meadows 3k'!$B:$E,4,FALSE),0) -> 0 | H14: =IFERROR(VLOOKUP($B14,'March Darren''s Dash 1.5miles'!$B:$E,4,FALSE),0) -> 0 | I14: =IFERROR(VLOOKUP($B14,'Stamford 3k'!$B:$E,4,FALSE),0) -> 0 | J14: =IFERROR(VLOOKUP($B14,'Riverside Runners 2k'!$B:$E,4,FALSE),0) -> 0 | K14: =IFERROR(VLOOKUP($B14,'Rutland Water Park Run 5k '!$B:$E,4,FALSE),0) -> 0 | L14: =IFERROR(VLOOKUP($B14,'GER, Anna’s Hope Fun Run 5k'!$B:$E,4,FALSE),0) -> 0 | M14: =IFERROR(VLOOKUP($B14,'Santa Fun Run'!$B:$E,4,FALSE),0) -> 0 | N14: =LARGE(C14:M14,1)+LARGE(C14:M14,2)+LARGE(C14:M14,3)+LARGE(C14:M14,4)+LARGE(C14:M14,5) -> 50 | O14: =COUNTIF(C14:M14,">.09") -> 1 | P14: 4= | R14: Jamie Milner | S14: =IFERROR(VLOOKUP($R14,'Rutland Water Park Run 5k'!$G:$J,4,FALSE),0) -> 0 | T14: =IFERROR(VLOOKUP($R14,'Bourne Rotary 3k'!$G:$J,4,FALSE),0) -> 50 | U14: =IFERROR(VLOOKUP($R14,'Langtoft 3k'!$G:$J,4,FALSE),0) -> 0 | V14: =IFERROR(VLOOKUP($R14,'Deepings 3k'!$G:$J,4,FALSE),0) -> 49 | W14: =IFERROR(VLOOKUP($R14,'Ferry Meadows 3k'!$G:$J,4,FALSE),0) -> 49 | X14: =IFERROR(VLOOKUP($R14,'March Darren''s Dash 1.5miles'!$G:$J,4,FALSE),0) -> 0 | Y14: =IFERROR(VLOOKUP($R14,'Stamford 3k'!$G:$J,4,FALSE),0) -> 0 | Z14: =IFERROR(VLOOKUP($R14,'Riverside Runners 2k'!$G:$J,4,FALSE),0) -> 0 | AA14: =IFERROR(VLOOKUP($R14,'Rutland Water Park Run 5k '!$G:$J,4,FALSE),0) -> 49 | AB14: =IFERROR(VLOOKUP($R14,'GER, Anna’s Hope Fun Run 5k'!$G:$J,4,FALSE),0) -> 0 | AC14: =IFERROR(VLOOKUP($R14, 'Santa Fun Run'!G:J,4,FALSE),0) -> 0 | AD14: =LARGE(S14:AC14,1)+LARGE(S14:AC14,2)+LARGE(S14:AC14,3)+LARGE(S14:AC14,4)+LARGE(S14:AC14,5) -> 197 | AE14: =COUNTIF(S14:AC14,">.09") -> 4 | AF14: 5
B15: Ellie Sewell | C15: =IFERROR(VLOOKUP($B15,'Rutland Water Park Run 5k'!$B:$E,4,FALSE),0) -> 0 | D15: =IFERROR(VLOOKUP($B15,'Bourne Rotary 3k'!$B:$E,4,FALSE),0) -> 0 | E15: =IFERROR(VLOOKUP($B15,'Langtoft 3k'!$B:$E,4,FALSE),0) -> 0 | F15: =IFERROR(VLOOKUP($B15,'Deepings 3k'!$B:$E,4,FALSE),0) -> 0 | G15: =IFERROR(VLOOKUP($B15,'Ferry Meadows 3k'!$B:$E,4,FALSE),0) -> 0 | H15: =IFERROR(VLOOKUP($B15,'March Darren''s Dash 1.5miles'!$B:$E,4,FALSE),0) -> 0 | I15: =IFERROR(VLOOKUP($B15,'Stamford 3k'!$B:$E,4,FALSE),0) -> 0 | J15: =IFERROR(VLOOKUP($B15,'Riverside Runners 2k'!$B:$E,4,FALSE),0) -> 0 | K15: =IFERROR(VLOOKUP($B15,'Rutland Water Park Run 5k '!$B:$E,4,FALSE),0) -> 0 | L15: =IFERROR(VLOOKUP($B15,'GER, Anna’s Hope Fun Run 5k'!$B:$E,4,FALSE),0) -> 50 | M15: =IFERROR(VLOOKUP($B15,'Santa Fun Run'!$B:$E,4,FALSE),0) -> 0 | N15: =LARGE(C15:M15,1)+LARGE(C15:M15,2)+LARGE(C15:M15,3)+LARGE(C15:M15,4)+LARGE(C15:M15,5) -> 50 | O15: =COUNTIF(C15:M15,">.09") -> 1 | P15: 4= | R15: Evan Candish | S15: =IFERROR(VLOOKUP($R15,'Rutland Water Park Run 5k'!$G:$J,4,FALSE),0) -> 49 | T15: =IFERROR(VLOOKUP($R15,'Bourne Rotary 3k'!$G:$J,4,FALSE),0) -> 0 | U15: =IFERROR(VLOOKUP($R15,'Langtoft 3k'!$G:$J,4,FALSE),0) -> 0 | V15: =IFERROR(VLOOKUP($R15,'Deepings 3k'!$G:$J,4,FALSE),0) -> 46 | W15: =IFERROR(VLOOKUP($R15,'Ferry Meadows 3k'!$G:$J,4,FALSE),0) -> 0 | X15: =IFERROR(VLOOKUP($R15,'March Darren''s Dash 1.5miles'!$G:$J,4,FALSE),0) -> 0 | Y15: =IFERROR(VLOOKUP($R15,'Stamford 3k'!$G:$J,4,FALSE),0) -> 0 | Z15: =IFERROR(VLOOKUP($R15,'Riverside Runners 2k'!$G:$J,4,FALSE),0) -> 0 | AA15: =IFERROR(VLOOKUP($R15,'Rutland Water Park Run 5k '!$G:$J,4,FALSE),0) -> 0 | AB15: =IFERROR(VLOOKUP($R15,'GER, Anna’s Hope Fun Run 5k'!$G:$J,4,FALSE),0) -> 50 | AC15: =IFERROR(VLOOKUP($R15, 'Santa Fun Run'!G:J,4,FALSE),0) -> 0 | AD15: =LARGE(S15:AC15,1)+LARGE(S15:AC15,2)+LARGE(S15:AC15,3)+LARGE(S15:AC15,4)+LARGE(S15:AC15,5) -> 145 | AE15: =COUNTIF(S15:AC15,">.09") -> 3 | AF15: 6
B16: Ella Chiva | C16: =IFERROR(VLOOKUP($B16,'Rutland Water Park Run 5k'!$B:$E,4,FALSE),0) -> 0 | D16: =IFERROR(VLOOKUP($B16,'Bourne Rotary 3k'!$B:$E,4,FALSE),0) -> 0 | E16: =IFERROR(VLOOKUP($B16,'Langtoft 3k'!$B:$E,4,FALSE),0) -> 0 | F16: =IFERROR(VLOOKUP($B16,'Deepings 3k'!$B:$E,4,FALSE),0) -> 0 | G16: =IFERROR(VLOOKUP($B16,'Ferry Meadows 3k'!$B:$E,4,FALSE),0) -> 0 | H16: =IFERROR(VLOOKUP($B16,'March Darren''s Dash 1.5miles'!$B:$E,4,FALSE),0) -> 0 | I16: =IFERROR(VLOOKUP($B16,'Stamford 3k'!$B:$E,4,FALSE),0) -> 0 | J16: =IFERROR(VLOOKUP($B16,'Riverside Runners 2k'!$B:$E,4,FALSE),0) -> 0 | K16: =IFERROR(VLOOKUP($B16,'Rutland Water Park Run 5k '!$B:$E,4,FALSE),0) -> 0 | L16: =IFERROR(VLOOKUP($B16,'GER, Anna’s Hope Fun Run 5k'!$B:$E,4,FALSE),0) -> 49 | M16: =IFERROR(VLOOKUP($B16,'Santa Fun Run'!$B:$E,4,FALSE),0) -> 0 | N16: =LARGE(C16:M16,1)+LARGE(C16:M16,2)+LARGE(C16:M16,3)+LARGE(C16:M16,4)+LARGE(C16:M16,5) -> 49 | O16: =COUNTIF(C16:M16,">.09") -> 1 | P16: 7 | R16: Benjamin Hodgkinson | S16: =IFERROR(VLOOKUP($R16,'Rutland Water Park Run 5k'!$G:$J,4,FALSE),0) -> 48 | T16: =IFERROR(VLOOKUP($R16,'Bourne Rotary 3k'!$G:$J,4,FALSE),0) -> 0 | U16: =IFERROR(VLOOKUP($R16,'Langtoft 3k'!$G:$J,4,FALSE),0) -> 48 | V16: =IFERROR(VLOOKUP($R16,'Deepings 3k'!$G:$J,4,FALSE),0) -> 0 | W16: =IFERROR(VLOOKUP($R16,'Ferry Meadows 3k'!$G:$J,4,FALSE),0) -> 0 | X16: =IFERROR(VLOOKUP($R16,'March Darren''s Dash 1.5miles'!$G:$J,4,FALSE),0) -> 0 | Y16: =IFERROR(VLOOKUP($R16,'Stamford 3k'!$G:$J,4,FALSE),0) -> 0 | Z16: =IFERROR(VLOOKUP($R16,'Riverside Runners 2k'!$G:$J,4,FALSE),0) -> 0 | AA16: =IFERROR(VLOOKUP($R16,'Rutland Water Park Run 5k '!$G:$J,4,FALSE),0) -> 0 | AB16: =IFERROR(VLOOKUP($R16,'GER, Anna’s Hope Fun Run 5k'!$G:$J,4,FALSE),0) -> 0 | AC16: =IFERROR(VLOOKUP($R16, 'Santa Fun Run'!G:J,4,FALSE),0) -> 0 | AD16: =LARGE(S16:AC16,1)+LARGE(S16:AC16,2)+LARGE(S16:AC16,3)+LARGE(S16:AC16,4)+LARGE(S16:AC16,5) -> 96 | AE16: =COUNTIF(S16:AC16,">.09") -> 2 | AF16: 7
R17: James Thomas | S17: =IFERROR(VLOOKUP($R17,'Rutland Water Park Run 5k'!$G:$J,4,FALSE),0) -> 0 | T17: =IFERROR(VLOOKUP($R17,'Bourne Rotary 3k'!$G:$J,4,FALSE),0) -> 0 | U17: =IFERROR(VLOOKUP($R17,'Langtoft 3k'!$G:$J,4,FALSE),0) -> 50 | V17: =IFERROR(VLOOKUP($R17,'Deepings 3k'!$G:$J,4,FALSE),0) -> 0 | W17: =IFERROR(VLOOKUP($R17,'Ferry Meadows 3k'!$G:$J,4,FALSE),0) -> 0 | X17: =IFERROR(VLOOKUP($R17,'March Darren''s Dash 1.5miles'!$G:$J,4,FALSE),0) -> 0 | Y17: =IFERROR(VLOOKUP($R17,'Stamford 3k'!$G:$J,4,FALSE),0) -> 0 | Z17: =IFERROR(VLOOKUP($R17,'Riverside Runners 2k'!$G:$J,4,FALSE),0) -> 0 | AA17: =IFERROR(VLOOKUP($R17,'Rutland Water Park Run 5k '!$G:$J,4,FALSE),0) -> 0 | AB17: =IFERROR(VLOOKUP($R17,'GER, Anna’s Hope Fun Run 5k'!$G:$J,4,FALSE),0) -> 0 | AC17: =IFERROR(VLOOKUP($R17, 'Santa Fun Run'!G:J,4,FALSE),0) -> 0 | AD17: =LARGE(S17:AC17,1)+LARGE(S17:AC17,2)+LARGE(S17:AC17,3)+LARGE(S17:AC17,4)+LARGE(S17:AC17,5) -> 50 | AE17: =COUNTIF(S17:AC17,">.09") -> 1 | AF17: 8
R18: Harvey Knight | S18: =IFERROR(VLOOKUP($R18,'Rutland Water Park Run 5k'!$G:$J,4,FALSE),0) -> 0 | T18: =IFERROR(VLOOKUP($R18,'Bourne Rotary 3k'!$G:$J,4,FALSE),0) -> 49 | U18: =IFERROR(VLOOKUP($R18,'Langtoft 3k'!$G:$J,4,FALSE),0) -> 0 | V18: =IFERROR(VLOOKUP($R18,'Deepings 3k'!$G:$J,4,FALSE),0) -> 0 | W18: =IFERROR(VLOOKUP($R18,'Ferry Meadows 3k'!$G:$J,4,FALSE),0) -> 0 | X18: =IFERROR(VLOOKUP($R18,'March Darren''s Dash 1.5miles'!$G:$J,4,FALSE),0) -> 0 | Y18: =IFERROR(VLOOKUP($R18,'Stamford 3k'!$G:$J,4,FALSE),0) -> 0 | Z18: =IFERROR(VLOOKUP($R18,'Riverside Runners 2k'!$G:$J,4,FALSE),0) -> 0 | AA18: =IFERROR(VLOOKUP($R18,'Rutland Water Park Run 5k '!$G:$J,4,FALSE),0) -> 0 | AB18: =IFERROR(VLOOKUP($R18,'GER, Anna’s Hope Fun Run 5k'!$G:$J,4,FALSE),0) -> 0 | AC18: =IFERROR(VLOOKUP($R18, 'Santa Fun Run'!G:J,4,FALSE),0) -> 0 | AD18: =LARGE(S18:AC18,1)+LARGE(S18:AC18,2)+LARGE(S18:AC18,3)+LARGE(S18:AC18,4)+LARGE(S18:AC18,5) -> 49 | AE18: =COUNTIF(S18:AC18,">.09") -> 1 | AF18: 9

Sheet Rutland Water Park Run 5k
D2: Rutland Water Park Run 5k
D3: 42805
B5: Girl's Results | G5: Boy's Results
B6: Name | C6: Time | D6: % | E6: Points | G6: Name | H6: Time | I6: % | J6: Points
B7: Elizabeth Hodgkinson | C7: 32:40'00 | D7: 52.23 | E7: 50 | G7: Finn Chisholm | H7: 23:21'00 | I7: 63.68 | J7: 50
G8: Evan Candish | H8: 34:42'00 | I8: 44.08 | J8: 49
G9: Benjamin Hodgkinson | H9: 43:55'00 | I9: 37.25 | J9: 48
G10: Joe Candish | H10: 41:54'00 | I10: 34.62 | J10: 47

Sheet Bourne Rotary 3k
D2: Bourne Rotary 3k
D3: 42834
B5: Girl's Results | G5: Boy's Results
B6: Name | C6: Time | D6: % | E6: Points | G6: Name | H6: Time | I6: % | J6: Points
B7: Amelie Fairclough | C7: 13:58'53 | D7: 67.28 | E7: 50 | G7: Jamie Milner | H7: 14:02'15 | I7: 66.26 | J7: 50
B8: Erin Cox | C8: 14:01'22 | D8: 67.04 | E8: 49 | G8: Harvey Knight | H8: 14:07'06 | I8: 65.87 | J8: 49
G9: Finn Chisholm | H9: 13:29'22 | I9: 62.7 | J9: 48
G10: Jamie Broom | H10: 14:32'91 | I10: 58.17 | J10: 47
G11: Joe Candish | H11: 24:40'41 | I11: 33.43 | J11: 46

Sheet Langtoft 3k
D2: Langtoft 3k
D3: 42855
B5: Girl's Results | G5: Boy's Results
B6: Name | C6: Time | D6: % | E6: Points | G6: Name | H6: Time | I6: % | J6: Points
B7: Natasha Cook | C7: 0.73819444 | D7: 50.08 | E7: 50 | G7: James Thomas | H7: 0.52430556 | I7: 69.1 | J7: 50
G8: Jamie Broom | H8: 0.57986111 | I8: 60.74 | J8: 49
G9: Benjamin Hodgkinson | H9: 0.77986111 | I9: 46.46 | J9: 48
G10: Joe Candish | H10: 0.84097222 | I10: 40.85 | J10: 47

Sheet Deepings 3k
D2: Deepings 3k
D3: 42876
B5: Girl's Results | G5: Boy's Results
B6: Name | C6: Time | D6: % | E6: Points | G6: Name | H6: Time | I6: % | J6: Points
B7: Natasha Cook | C7: 0.012592593 | D7: 48.93 | E7: 50 | G7: Jenson Lewis | H7: 0.0081828704 | I7: 71.74 | J7: 50
G8: Jamie Milner | H8: 0.0089236111 | I8: 69.84 | J8: 49
G9: Finn Chisholm | H9: 0.0088657407 | I9: 66.21 | J9: 48
G10: Jamie Broom | H10: 0.0092013889 | I10: 63.8 | J10: 47
G11: Evan Candish | H11: 0.013877315 | I11: 42.3 | J11: 46
G12: Joe Candish | H12: 0.01443287 | I12: 39.67 | J12: 45

Sheet Ferry Meadows 3k
D2: Ferry Meadows 3k
D3: June TBA
B5: Girl's Results | G5: Boy's Results
B6: Name | C6: Time | D6: % | E6: Points | G6: Name | H6: Time | I6: % | J6: Points
G7: Jenson Lewis | H7: 0.008275463 | I7: 70.94 | J7: 50
G8: Jamie Milner | H8: 0.0093518519 | I8: 66.64 | J8: 49
G9: Finn Chisholm | H9: 0.0091087963 | I9: 64.45 | J9: 48
G10: Joe Candish | H10: 0.015729167 | I10: 36.4 | J10: 47

Sheet March Darren's Dash 1.5miles
D2: March Darren's Dash 1.5miles
D3: 42919
B5: Girl's Results | G5: Boy's Results
B6: Name | C6: Time | D6: % | E6: Points | G6: Name | H6: Time | I6: % | J6: Points
B7: Gabriella Dudley | C7: 0.0083680556 | D7: 63.12 | E7: 50 | G7: Jenson Lewis | H7: 0.006412037 | I7: 72.42 | J7: 50

Sheet Stamford 3k
D2: Stamford 3k
D3: 42935
B5: Girl's Results | G5: Boy's Results
B6: Name | C6: Time | D6: % | E6: Points | G6: Name | H6: Time | I6: % | J6: Points
B7: Erin Cox | C7: 0.0092361111 | D7: 70.65 | E7: 50 | G7: Jenson Lewis | H7: 0.007974537 | I7: 73.61 | J7: 50
B8: Gabriella Dudley | C8: 0.010243056 | D8: 65.31 | E8: 49 | G8: Finn Chisholm | H8: 0.0087615741 | I8: 67 | J8: 49
G9: Jamie Broom | H9: 0.0097685185 | I9: 60.1 | J9: 48
G10: Joe Candish | H10: 0.015787037 | I10: 35.48 | J10: 47

Sheet Riverside Runners 2k
D2: Riverside Runners 2k
D3: August TBA
B5: Girl's Results | G5: Boy's Results
B6: Name | C6: Time | D6: % | E6: Points | G6: Name | H6: Time | I6: % | J6: Points
G7: Jenson Lewis | H7: 0.0051678241 | I7: 73.2 | J7: 50

Sheet Rutland Water Park Run 5k 
D2: Ferry Meadows 3k
D3: Date
B5: Girl's Results | G5: Boy's Results
B6: Name | C6: Time | D6: % | E6: Points | G6: Name | H6: Time | I6: % | J6: Points
G7: Jenson Lewis | H7: 0.015266204 | I7: 67.63 | J7: 50
G8: Jamie Milner | H8: 0.01712963 | I8: 63.99 | J8: 49
G9: Jamie Broom | H9: 0.020590278 | I9: 50.14 | J9: 48
G10: Joe Candish | H10: 0.030231481 | I10: 32.58 | J10: 47

Sheet GER, Anna’s Hope Fun Run 5k
D2: GER, Anna’s Hope Fun Run 5k
D3: 43016
B5: Girl's Results | G5: Boy's Results
B6: Name | C6: Time | D6: % | E6: Points | G6: Name | H6: Time | I6: % | J6: Points
B7: Ellie Sewell | C7: 0.022013889 | D7: 52.49 | E7: 50 | G7: Evan Candish | H7: 0.027986111 | I7: 36.9 | J7: 50
B8: Ella Chiva | C8: 0.022523148 | D8: 52.6 | E8: 49 | G8: Joe Candish | H8: 0.029270833 | I8: 33.67 | J8: 49

Sheet Santa Fun Run
D2: Santa Fun Run
D3: 43079
B5: Girl's Results | G5: Boy's Results
B6: Name | C6: Time | D6: % | E6: Points | G6: Name | H6: Time | I6: % | J6: Points
