Workbook

Sheet Championship positions
D2: = Qualified
B8: GIRLS' CHAMPIONSHIP 2023 | U8: GIRLS' AGE ADJUSTED CHAMPIONSHIP 2023 | AN8: BOY'S CHAMPIONSHIP 2023 | BG8: BOY'S AGE ADJUSTED CHAMPIONSHIP 2023
B9: Name/Race No. | C9: 1. Rutland Water parkrun | D9: 2. Thorney Fun Run | E9: 3. Langtoft Fun Run | F9: 4. Bretton Park Junior parkrun | G9: 5. Eye Grand Prix | H9: 6. Castle Bytham Chase | I9: 7. Stamford Grand Prix | J9: 8. PANVAC Grand Prix | K9: 9. Werrington Grand Prix | L9: 10. Bushfield Grand Prix | M9: 11. Central Park Junior parkrun | N9: 12. Barnack School | O9: 13. Peterborough Fun Run | P9: 14. Riverside Run (St Neots) | Q9: Total of Best 5 | R9: No of Races (best five to count) | S9: Position | U9: Name/Race No. | V9: 1. Rutland Water parkrun | W9: 2. Thorney Fun Run | X9: 3. Langtoft Fun Run | Y9: 4. Bretton Park Junior parkrun | Z9: 5. Eye Grand Prix | AA9: 6. Castle Bytham Chase | AB9: 7. Stamford Grand Prix | AC9: 8. PANVAC Grand Prix | AD9: 9. Werrington Grand Prix | AE9: 10. Bushfield Grand Prix | AF9: 11. Central Park Junior parkrun | AG9: 12. Barnack School | AH9: 13. Peterborough Fun Run | AI9: 14. Riverside Run (St Neots) | AJ9: Total of Best 5 | AK9: No of Races (best five to count) | AL9: Position | AN9: Name/Race No. | AO9: 1. Rutland Water parkrun | AP9: 2. Thorney Fun Run | AQ9: 3. Langtoft Fun Run | AR9: 4. Bretton Park Junior parkrun | AS9: 5. Eye Grand Prix | AT9: 6. Castle Bytham Chase | AU9: 7. Stamford Grand Prix | AV9: 8. PANVAC Grand Prix | AW9: 9. Werrington Grand Prix | AX9: 10. Bushfield Grand Prix | AY9: 11. Central Park Junior parkrun | AZ9: 12. Barnack School | BA9: 13. Peterborough Fun Run | BB9: 14. Riverside Run (St Neots) | BC9: Total of Best 5 | BD9: No of Races (best five to count) | BE9: Position | BG9: Name/Race No. | BH9: 1. Rutland Water parkrun | BI9: 2. Thorney Fun Run | BJ9: 3. Langtoft Fun Run | BK9: 4. Bretton Park Junior parkrun | BL9: 5. Eye Grand Prix | BM9: 6. Castle Bytham Chase | BN9: 7. Stamford Grand Prix | BO9: 8. PANVAC Grand Prix | BP9: 9. Werrington Grand Prix | BQ9: 10. Bushfield Grand Prix | BR9: 11. Central Park Junior parkrun | BS9: 12. Barnack School | BT9: 13. Peterborough Fun Run | BU9: 14. Riverside Run (St Neots) | BV9: Total of Best 5 | BW9: No of Races (best five to count) | BX9: Position
B10: Avocet Williams | C10: =IFERROR(VLOOKUP($B10,' Rutland Water parkrun (5k)'!$B$6:$D$9,3,FALSE),0) -> 0 | D10: =IFERROR(VLOOKUP($B10,'Thorney Fun Run (3k)'!$B$6:$D$9,3,FALSE),0) -> 0 | E10: =IFERROR(VLOOKUP($B10,'Langtoft Fun Run (3k)'!$B$6:$D$8,3,FALSE),0) -> 50 | F10: =IFERROR(VLOOKUP($B10,'Bretton Park Junior parkrun(2k)'!$B$6:$D$9,3,FALSE),0) -> 0 | G10: =IFERROR(VLOOKUP($B10,'Eye Grand Prix (3k)'!$B$6:$D$9,3,FALSE),0) -> 0 | H10: =IFERROR(VLOOKUP($B10,'Castle Bytham Chase (5k)'!$B$6:$D$9,3,FALSE),0) -> 0 | I10: =IFERROR(VLOOKUP($B10,'Stamford Grand Prix (3k)'!$B$6:$D$9,3,FALSE),0) -> 50 | J10: =IFERROR(VLOOKUP($B10,'PANVAC Grand Prix (3k)'!$B$6:$D$9,4,FALSE),0) -> 0 | K10: =IFERROR(VLOOKUP($B10,'Werrington Grand Prix (3k)'!$B$6:$D$9,3,FALSE),0) -> 50 | L10: =IFERROR(VLOOKUP(B10,'Bushfield Grand Prix (3k)'!$B$6:$D$9,3,FALSE),0) -> 50 | M10: =IFERROR(VLOOKUP($B10,'Central Park Junior parkrun(2k)'!$B$6:$D$9,3,FALSE),0) -> 0 | N10: =IFERROR(VLOOKUP($B10,'Barnack School (2.5k)'!$B$6:$D$10,3,FALSE),0) -> 50 | O10: =IFERROR(VLOOKUP($B10,'Peterborough Fun Run (5k)'!$B$6:$D$9,3,FALSE),0) -> 0 | P10: =IFERROR(VLOOKUP($B10,'Riverside Run (St Neots) (5k)'!$B$6:$D$9,4,FALSE),0) -> 0 | Q10: =LARGE(C10:P10,1)+LARGE(C10:P10,2)+LARGE(C10:P10,3)+LARGE(C10:P10,4)+LARGE(C10:P10,5) -> 250 | R10: =COUNTIF(C10:P10,">.09") -> 5 | S10: 1 | U10: Avocet Williams | V10: =IFERROR(VLOOKUP($U10,' Rutland Water parkrun (5k)'!$B$14:$D$17,3,FALSE),0) -> 0 | W10: =IFERROR(VLOOKUP($U10,'Thorney Fun Run (3k)'!$B$14:$D$17,3,FALSE),0) -> 0 | X10: =IFERROR(VLOOKUP($U10,'Langtoft Fun Run (3k)'!$B$14:$D$16,3,FALSE),0) -> 50 | Y10: =IFERROR(VLOOKUP($U10,'Bretton Park Junior parkrun(2k)'!$B$14:$D$17,3,FALSE),0) -> 0 | Z10: =IFERROR(VLOOKUP($U10,'Eye Grand Prix (3k)'!$B$14:$D$17,3,FALSE),0) -> 0 | AA10: =IFERROR(VLOOKUP($U10,'Castle Bytham Chase (5k)'!$B$14:$D$17,3,FALSE),0) -> 0 | AB10: =IFERROR(VLOOKUP($U10,'Stamford Grand Prix (3k)'!$B$14:$D$17,3,FALSE),0) -> 50 | AC10: =IFERROR(VLOOKUP($U10,'PANVAC Grand Prix (3k)'!$B$14:$D$17,4,FALSE),0) -> 0 | AD10: =IFERROR(VLOOKUP($U10,'Werrington Grand Prix (3k)'!$B$14:$D$17,3,FALSE),0) -> 50 | AE10: =IFERROR(VLOOKUP($U10,'Bushfield Grand Prix (3k)'!$B$14:$D$17,3,FALSE),0) -> 50 | AF10: =IFERROR(VLOOKUP($U10,'Central Park Junior parkrun(2k)'!$B$14:$D$17,3,FALSE),0) -> 0 | AG10: =IFERROR(VLOOKUP($U10,'Barnack School (2.5k)'!$B$14:$D$18,3,FALSE),0) -> 50 | AH10: =IFERROR(VLOOKUP($U10,'Peterborough Fun Run (5k)'!$B$14:$D$17,3,FALSE),0) -> 0 | AI10: =IFERROR(VLOOKUP($U10,'Riverside Run (St Neots) (5k)'!$B$14:$D$17,4,FALSE),0) -> 0 | AJ10: =LARGE(V10:AG10,1)+LARGE(V10:AG10,2)+LARGE(V10:AG10,3)+LARGE(V10:AG10,4)+LARGE(V10:AG10,5) -> 250 | AK10: =COUNTIF(V10:AI10,">.09") -> 5 | AL10: 1 | AN10: Jake Henson | AO10: =IFERROR(VLOOKUP($AN10,' Rutland Water parkrun (5k)'!$F$6:$H$11,3,FALSE),0) -> 0 | AP10: =IFERROR(VLOOKUP($AN10,'Thorney Fun Run (3k)'!$F$6:$H$13,3,FALSE),0) -> 0 | AQ10: =IFERROR(VLOOKUP($AN10,'Langtoft Fun Run (3k)'!$F$6:$H$8,3,FALSE),0) -> 50 | AR10: =IFERROR(VLOOKUP($AN10,'Bretton Park Junior parkrun(2k)'!$F$6:$H11,3,FALSE),0) -> 50 | AS10: =IFERROR(VLOOKUP($AN10,'Eye Grand Prix (3k)'!$F$6:$H$11,3,FALSE),0) -> 50 | AT10: =IFERROR(VLOOKUP($AN10,'Castle Bytham Chase (5k)'!$F$6:$H11,3,FALSE),0) -> 0 | AU10: =IFERROR(VLOOKUP($AN10,'Stamford Grand Prix (3k)'!$F$6:$H11,3,FALSE),0) -> 50 | AV10: =IFERROR(VLOOKUP($AN10,'PANVAC Grand Prix (3k)'!$F$6:$H11,3,FALSE),0) -> 50 | AW10: =IFERROR(VLOOKUP($AN10,'Werrington Grand Prix (3k)'!$F$6:$H11,3,FALSE),0) -> 50 | AX10: =IFERROR(VLOOKUP(AN10,'Bushfield Grand Prix (3k)'!$F$6:$H11,3,FALSE),0) -> 50 | AY10: =IFERROR(VLOOKUP($AN10,'Central Park Junior parkrun(2k)'!$F$6:$H11,3,FALSE),0) -> 50 | AZ10: =IFERROR(VLOOKUP($AN10,'Barnack School (2.5k)'!$F$6:$H7,3,FALSE),0) -> 50 | BA10: =IFERROR(VLOOKUP($B10,'Peterborough Fun Run (5k)'!$F$6:$H11,4,FALSE),0) -> 0 | BB10: =IFERROR(VLOOKUP($B10,'Riverside Run (St Neots) (5k)'!$F$6:$H11,4,FALSE),0) -> 0 | BC10: =LARGE(AO10:BB10,1)+LARGE(AO10:BB10,2)+LARGE(AO10:BB10,3)+LARGE(AO10:BB10,4)+LARGE(AO10:BB10,5) -> 250 | BD10: =COUNTIF(AO10:BB10,">.09") -> 9 | BE10: 1 | BG10: Jake Henson | BH10: =IFERROR(VLOOKUP($BG10,' Rutland Water parkrun (5k)'!$F$14:$H$19,3,FALSE),0) -> 0 | BI10: =IFERROR(VLOOKUP($BG10,'Thorney Fun Run (3k)'!$F$14:$H$19,3,FALSE),0) -> 0 | BJ10: =IFERROR(VLOOKUP($BG10,'Langtoft Fun Run (3k)'!$F$6:$H$19,3,FALSE),0) -> 50 | BK10: =IFERROR(VLOOKUP($BG10,'Bretton Park Junior parkrun(2k)'!$F$14:$H$19,3,FALSE),0) -> 50 | BL10: =IFERROR(VLOOKUP($BG10,'Eye Grand Prix (3k)'!$F$14:$H$19,3,FALSE),0) -> 50 | BM10: =IFERROR(VLOOKUP($BG10,'Castle Bytham Chase (5k)'!$F$14:$H$19,3,FALSE),0) -> 0 | BN10: =IFERROR(VLOOKUP($BG10,'Stamford Grand Prix (3k)'!$F$14:$H$19,3,FALSE),0) -> 50 | BO10: =IFERROR(VLOOKUP($BG10,'PANVAC Grand Prix (3k)'!$F$14:$H$19,3,FALSE),0) -> 50 | BP10: =IFERROR(VLOOKUP($BG10,'Werrington Grand Prix (3k)'!$F$6:$H$11,3,FALSE),0) -> 50 | BQ10: =IFERROR(VLOOKUP($BG10,'Bushfield Grand Prix (3k)'!$F$14:$H$19,3,FALSE),0) -> 50 | BR10: =IFERROR(VLOOKUP($BG10,'Central Park Junior parkrun(2k)'!$F$14:$H$19,3,FALSE),0) -> 50 | BS10: =IFERROR(VLOOKUP($BG10,'Barnack School (2.5k)'!$F$14:$H$15,3,FALSE),0) -> 50 | BT10: =IFERROR(VLOOKUP($U10,'Peterborough Fun Run (5k)'!$F$14:$H$19,4,FALSE),0) -> 0 | BU10: =IFERROR(VLOOKUP($U10,'Riverside Run (St Neots) (5k)'!$F$14:$H$19,4,FALSE),0) -> 0 | BV10: =LARGE(BH10:BU10,1)+LARGE(BH10:BU10,2)+LARGE(BH10:BU10,3)+LARGE(BH10:BU10,4)+LARGE(BH10:BU10,5) -> 250 | BW10: =COUNTIF(BH10:BU10,">.09") -> 9 | BX10: 1
B11: Noa Williams | C11: =IFERROR(VLOOKUP($B11,' Rutland Water parkrun (5k)'!$B$6:$D$9,3,FALSE),0) -> 0 | D11: =IFERROR(VLOOKUP($B11,'Thorney Fun Run (3k)'!$B$6:$D$9,3,FALSE),0) -> 0 | E11: =IFERROR(VLOOKUP($B11,'Langtoft Fun Run (3k)'!$B$6:$D$8,3,FALSE),0) -> 49 | F11: =IFERROR(VLOOKUP($B11,'Bretton Park Junior parkrun(2k)'!$B$6:$D$9,3,FALSE),0) -> 0 | G11: =IFERROR(VLOOKUP($B11,'Eye Grand Prix (3k)'!$B$6:$D$9,3,FALSE),0) -> 0 | H11: =IFERROR(VLOOKUP($B11,'Castle Bytham Chase (5k)'!$B$6:$D$9,3,FALSE),0) -> 0 | I11: =IFERROR(VLOOKUP($B11,'Stamford Grand Prix (3k)'!$B$6:$D$9,3,FALSE),0) -> 49 | J11: =IFERROR(VLOOKUP($B11,'PANVAC Grand Prix (3k)'!$B$6:$D$9,4,FALSE),0) -> 0 | K11: =IFERROR(VLOOKUP($B11,'Werrington Grand Prix (3k)'!$B$6:$D$9,3,FALSE),0) -> 0 | L11: =IFERROR(VLOOKUP(B11,'Bushfield Grand Prix (3k)'!$B$6:$D$9,3,FALSE),0) -> 49 | M11: =IFERROR(VLOOKUP($B11,'Central Park Junior parkrun(2k)'!$B$6:$D$9,3,FALSE),0) -> 0 | N11: =IFERROR(VLOOKUP($B11,'Barnack School (2.5k)'!$B$6:$D$10,3,FALSE),0) -> 49 | O11: =IFERROR(VLOOKUP($B11,'Peterborough Fun Run (5k)'!$B$6:$D$9,3,FALSE),0) -> 0 | P11: =IFERROR(VLOOKUP($B11,'Riverside Run (St Neots) (5k)'!$B$6:$D$9,4,FALSE),0) -> 0 | Q11: =LARGE(C11:P11,1)+LARGE(C11:P11,2)+LARGE(C11:P11,3)+LARGE(C11:P11,4)+LARGE(C11:P11,5) -> 196 | R11: =COUNTIF(C11:P11,">.09") -> 4 | S11: 2 | U11: Noa Williams | V11: =IFERROR(VLOOKUP($U11,' Rutland Water parkrun (5k)'!$B$14:$D$17,3,FALSE),0) -> 0 | W11: =IFERROR(VLOOKUP($U11,'Thorney Fun Run (3k)'!$B$14:$D$17,3,FALSE),0) -> 0 | X11: =IFERROR(VLOOKUP($U11,'Langtoft Fun Run (3k)'!$B$14:$D$16,3,FALSE),0) -> 49 | Y11: =IFERROR(VLOOKUP($U11,'Bretton Park Junior parkrun(2k)'!$B$14:$D$17,3,FALSE),0) -> 0 | Z11: =IFERROR(VLOOKUP($U11,'Eye Grand Prix (3k)'!$B$14:$D$17,3,FALSE),0) -> 0 | AA11: =IFERROR(VLOOKUP($U11,'Castle Bytham Chase (5k)'!$B$14:$D$17,3,FALSE),0) -> 0 | AB11: =IFERROR(VLOOKUP($U11,'Stamford Grand Prix (3k)'!$B$14:$D$17,3,FALSE),0) -> 49 | AC11: =IFERROR(VLOOKUP($U11,'PANVAC Grand Prix (3k)'!$B$14:$D$17,4,FALSE),0) -> 0 | AD11: =IFERROR(VLOOKUP($U11,'Werrington Grand Prix (3k)'!$B$14:$D$17,3,FALSE),0) -> 0 | AE11: =IFERROR(VLOOKUP($U11,'Bushfield Grand Prix (3k)'!$B$14:$D$17,3,FALSE),0) -> 49 | AF11: =IFERROR(VLOOKUP($U11,'Central Park Junior parkrun(2k)'!$B$14:$D$17,3,FALSE),0) -> 0 | AG11: =IFERROR(VLOOKUP($U11,'Barnack School (2.5k)'!$B$14:$D$18,3,FALSE),0) -> 49 | AH11: =IFERROR(VLOOKUP($U11,'Peterborough Fun Run (5k)'!$B$14:$D$17,3,FALSE),0) -> 0 | AI11: =IFERROR(VLOOKUP($U11,'Riverside Run (St Neots) (5k)'!$B$14:$D$17,4,FALSE),0) -> 0 | AJ11: =LARGE(V11:AH11,1)+LARGE(V11:AH11,2)+LARGE(V11:AH11,3)+LARGE(V11:AH11,4)+LARGE(V11:AH11,5) -> 196 | AK11: =COUNTIF(V11:AI11,">.09") -> 4 | AL11: 2 | AN11: Jacob Cox | AO11: =IFERROR(VLOOKUP($AN11,' Rutland Water parkrun (5k)'!$F$6:$H$11,3,FALSE),0) -> 0 | AP11: =IFERROR(VLOOKUP($AN11,'Thorney Fun Run (3k)'!$F$6:$H$13,3,FALSE),0) -> 0 | AQ11: =IFERROR(VLOOKUP($AN11,'Langtoft Fun Run (3k)'!$F$6:$H$8,3,FALSE),0) -> 0 | AR11: =IFERROR(VLOOKUP($AN11,'Bretton Park Junior parkrun(2k)'!$F$6:$H13,3,FALSE),0) -> 0 | AS11: =IFERROR(VLOOKUP($AN11,'Eye Grand Prix (3k)'!$F$6:$H$11,3,FALSE),0) -> 0 | AT11: =IFERROR(VLOOKUP($AN11,'Castle Bytham Chase (5k)'!$F$6:$H13,3,FALSE),0) -> 50 | AU11: =IFERROR(VLOOKUP($AN11,'Stamford Grand Prix (3k)'!$F$6:$H12,3,FALSE),0) -> 0 | AV11: =IFERROR(VLOOKUP($AN11,'PANVAC Grand Prix (3k)'!$F$6:$H12,4,FALSE),0) -> 0 | AW11: =IFERROR(VLOOKUP($AN11,'Werrington Grand Prix (3k)'!$F$6:$H12,3,FALSE),0) -> 0 | AX11: =IFERROR(VLOOKUP(AN11,'Bushfield Grand Prix (3k)'!$F$6:$H13,3,FALSE),0) -> 0 | AY11: =IFERROR(VLOOKUP($AN11,'Central Park Junior parkrun(2k)'!$F$6:$H12,3,FALSE),0) -> 0 | AZ11: =IFERROR(VLOOKUP($AN11,'Barnack School (2.5k)'!$F$6:$H8,3,FALSE),0) -> 0 | BA11: =IFERROR(VLOOKUP($B11,'Peterborough Fun Run (5k)'!$F$6:$H13,4,FALSE),0) -> 0 | BB11: =IFERROR(VLOOKUP($B11,'Riverside Run (St Neots) (5k)'!$F$6:$H13,4,FALSE),0) -> 0 | BC11: =LARGE(AO11:BB11,1)+LARGE(AO11:BB11,2)+LARGE(AO11:BB11,3)+LARGE(AO11:BB11,4)+LARGE(AO11:BB11,5) -> 50 | BD11: =COUNTIF(AO11:BB11,">.09") -> 1 | BE11: 2 | BG11: Jacob Cox | BH11: =IFERROR(VLOOKUP($BG11,' Rutland Water parkrun (5k)'!$F$14:$H$19,3,FALSE),0) -> 0 | BI11: =IFERROR(VLOOKUP($BG11,'Thorney Fun Run (3k)'!$F$14:$H$19,3,FALSE),0) -> 0 | BJ11: =IFERROR(VLOOKUP($BG11,'Langtoft Fun Run (3k)'!$F$6:$H$19,3,FALSE),0) -> 0 | BK11: =IFERROR(VLOOKUP($BG11,'Bretton Park Junior parkrun(2k)'!$F$14:$H$19,3,FALSE),0) -> 0 | BL11: =IFERROR(VLOOKUP($U11,'Eye Grand Prix (3k)'!$F$14:$H$19,3,FALSE),0) -> 0 | BM11: =IFERROR(VLOOKUP($BG11,'Castle Bytham Chase (5k)'!$F$14:$H$19,3,FALSE),0) -> 50 | BN11: =IFERROR(VLOOKUP($BG11,'Stamford Grand Prix (3k)'!$F$14:$H$19,3,FALSE),0) -> 0 | BO11: =IFERROR(VLOOKUP($BG11,'PANVAC Grand Prix (3k)'!$F$14:$H$19,3,FALSE),0) -> 0 | BP11: =IFERROR(VLOOKUP($BG11,'Werrington Grand Prix (3k)'!$F$6:$H$11,3,FALSE),0) -> 0 | BQ11: =IFERROR(VLOOKUP($BG11,'Bushfield Grand Prix (3k)'!$F$14:$H$19,3,FALSE),0) -> 0 | BR11: =IFERROR(VLOOKUP($BG11,'Central Park Junior parkrun(2k)'!$F$14:$H$19,3,FALSE),0) -> 0 | BS11: =IFERROR(VLOOKUP($BG11,'Barnack School (2.5k)'!$F$14:$H$15,3,FALSE),0) -> 0 | BT11: =IFERROR(VLOOKUP($U11,'Peterborough Fun Run (5k)'!$F$14:$H$19,4,FALSE),0) -> 0 | BU11: =IFERROR(VLOOKUP($U11,'Riverside Run (St Neots) (5k)'!$F$14:$H$19,4,FALSE),0) -> 0 | BV11: =LARGE(BH11:BU11,1)+LARGE(BH11:BU11,2)+LARGE(BH11:BU11,3)+LARGE(BH11:BU11,4)+LARGE(BH11:BU11,5) -> 50 | BW11: =COUNTIF(BH11:BU11,">.09") -> 1 | BX11: 2
B12: Sophia Campbell | C12: =IFERROR(VLOOKUP($B12,' Rutland Water parkrun (5k)'!$B$6:$D$9,3,FALSE),0) -> 0 | D12: =IFERROR(VLOOKUP($B12,'Thorney Fun Run (3k)'!$B$6:$D$9,3,FALSE),0) -> 0 | E12: =IFERROR(VLOOKUP($B12,'Langtoft Fun Run (3k)'!$B$6:$D$8,3,FALSE),0) -> 0 | F12: =IFERROR(VLOOKUP($B12,'Bretton Park Junior parkrun(2k)'!$B$6:$D$9,3,FALSE),0) -> 0 | G12: =IFERROR(VLOOKUP($B12,'Eye Grand Prix (3k)'!$B$6:$D$9,3,FALSE),0) -> 0 | H12: =IFERROR(VLOOKUP($B12,'Castle Bytham Chase (5k)'!$B$6:$D$9,3,FALSE),0) -> 0 | I12: =IFERROR(VLOOKUP($B12,'Stamford Grand Prix (3k)'!$B$6:$D$9,3,FALSE),0) -> 0 | J12: =IFERROR(VLOOKUP($B12,'PANVAC Grand Prix (3k)'!$B$6:$D$9,4,FALSE),0) -> 0 | K12: =IFERROR(VLOOKUP($B12,'Werrington Grand Prix (3k)'!$B$6:$D$9,3,FALSE),0) -> 0 | L12: =IFERROR(VLOOKUP(B12,'Bushfield Grand Prix (3k)'!$B$6:$D$9,3,FALSE),0) -> 0 | M12: =IFERROR(VLOOKUP($B12,'Central Park Junior parkrun(2k)'!$B$6:$D$9,3,FALSE),0) -> 50 | N12: =IFERROR(VLOOKUP($B12,'Barnack School (2.5k)'!$B$6:$D$10,3,FALSE),0) -> 48 | O12: =IFERROR(VLOOKUP($B12,'Peterborough Fun Run (5k)'!$B$6:$D$9,3,FALSE),0) -> 50 | P12: =IFERROR(VLOOKUP($B12,'Riverside Run (St Neots) (5k)'!$B$6:$D$9,4,FALSE),0) -> 0 | Q12: =LARGE(C12:P12,1)+LARGE(C12:P12,2)+LARGE(C12:P12,3)+LARGE(C12:P12,4)+LARGE(C12:P12,5) -> 148 | R12: =COUNTIF(C12:P12,">.09") -> 3 | S12: 3 | U12: Sophia Campbell | V12: =IFERROR(VLOOKUP($U12,' Rutland Water parkrun (5k)'!$B$14:$D$17,3,FALSE),0) -> 0 | W12: =IFERROR(VLOOKUP($U12,'Thorney Fun Run (3k)'!$B$14:$D$17,3,FALSE),0) -> 0 | X12: =IFERROR(VLOOKUP($U12,'Langtoft Fun Run (3k)'!$B$14:$D$16,3,FALSE),0) -> 0 | Y12: =IFERROR(VLOOKUP($U12,'Bretton Park Junior parkrun(2k)'!$B$14:$D$17,3,FALSE),0) -> 0 | Z12: =IFERROR(VLOOKUP($U12,'Eye Grand Prix (3k)'!$B$14:$D$17,3,FALSE),0) -> 0 | AA12: =IFERROR(VLOOKUP($U12,'Castle Bytham Chase (5k)'!$B$14:$D$17,3,FALSE),0) -> 0 | AB12: =IFERROR(VLOOKUP($U12,'Stamford Grand Prix (3k)'!$B$14:$D$17,3,FALSE),0) -> 0 | AC12: =IFERROR(VLOOKUP($U12,'PANVAC Grand Prix (3k)'!$B$14:$D$17,4,FALSE),0) -> 0 | AD12: =IFERROR(VLOOKUP($U12,'Werrington Grand Prix (3k)'!$B$14:$D$17,3,FALSE),0) -> 0 | AE12: =IFERROR(VLOOKUP($U12,'Bushfield Grand Prix (3k)'!$B$14:$D$17,3,FALSE),0) -> 0 | AF12: =IFERROR(VLOOKUP($U12,'Central Park Junior parkrun(2k)'!$B$14:$D$17,3,FALSE),0) -> 50 | AG12: =IFERROR(VLOOKUP($U12,'Barnack School (2.5k)'!$B$14:$D$18,3,FALSE),0) -> 47 | AH12: =IFERROR(VLOOKUP($U12,'Peterborough Fun Run (5k)'!$B$14:$D$17,3,FALSE),0) -> 50 | AI12: =IFERROR(VLOOKUP($U12,'Riverside Run (St Neots) (5k)'!$B$14:$D$17,4,FALSE),0) -> 0 | AJ12: =LARGE(V12:AH12,1)+LARGE(V12:AH12,2)+LARGE(V12:AH12,3)+LARGE(V12:AH12,4)+LARGE(V12:AH12,5) -> 147 | AK12: =COUNTIF(V12:AI12,">.09") -> 3 | AL12: 3 | AN12: Riley Peacock-Smith | AO12: =IFERROR(VLOOKUP($AN12,' Rutland Water parkrun (5k)'!$F$6:$H$11,3,FALSE),0) -> 0 | AP12: =IFERROR(VLOOKUP($AN12,'Thorney Fun Run (3k)'!$F$6:$H$13,3,FALSE),0) -> 0 | AQ12: =IFERROR(VLOOKUP($AN12,'Langtoft Fun Run (3k)'!$F$6:$H$8,3,FALSE),0) -> 49 | AR12: =IFERROR(VLOOKUP($AN12,'Bretton Park Junior parkrun(2k)'!$F$6:$H12,3,FALSE),0) -> 0 | AS12: =IFERROR(VLOOKUP($AN12,'Eye Grand Prix (3k)'!$F$6:$H$11,3,FALSE),0) -> 0 | AT12: =IFERROR(VLOOKUP($AN12,'Castle Bytham Chase (5k)'!$F$6:$H12,3,FALSE),0) -> 0 | AU12: =IFERROR(VLOOKUP($AN12,'Stamford Grand Prix (3k)'!$F$6:$H13,3,FALSE),0) -> 0 | AV12: =IFERROR(VLOOKUP($AN12,'PANVAC Grand Prix (3k)'!$F$6:$H13,4,FALSE),0) -> 0 | AW12: =IFERROR(VLOOKUP($AN12,'Werrington Grand Prix (3k)'!$F$6:$H13,3,FALSE),0) -> 0 | AX12: =IFERROR(VLOOKUP(AN12,'Bushfield Grand Prix (3k)'!$F$6:$H12,3,FALSE),0) -> 0 | AY12: =IFERROR(VLOOKUP($AN12,'Central Park Junior parkrun(2k)'!$F$6:$H13,3,FALSE),0) -> 0 | AZ12: =IFERROR(VLOOKUP($AN12,'Barnack School (2.5k)'!$F$6:$H9,3,FALSE),0) -> 0 | BA12: =IFERROR(VLOOKUP($B12,'Peterborough Fun Run (5k)'!$F$6:$H12,4,FALSE),0) -> 0 | BB12: =IFERROR(VLOOKUP($B12,'Riverside Run (St Neots) (5k)'!$F$6:$H12,4,FALSE),0) -> 0 | BC12: =LARGE(AO12:BB12,1)+LARGE(AO12:BB12,2)+LARGE(AO12:BB12,3)+LARGE(AO12:BB12,4)+LARGE(AO12:BB12,5) -> 49 | BD12: =COUNTIF(AO12:BB12,">.09") -> 1 | BE12: 3 | BG12: Riley Peacock-Smith | BH12: =IFERROR(VLOOKUP($BG12,' Rutland Water parkrun (5k)'!$F$14:$H$19,3,FALSE),0) -> 0 | BI12: =IFERROR(VLOOKUP($BG12,'Thorney Fun Run (3k)'!$F$14:$H$19,3,FALSE),0) -> 0 | BJ12: =IFERROR(VLOOKUP($BG12,'Langtoft Fun Run (3k)'!$F$6:$H$19,3,FALSE),0) -> 49 | BK12: =IFERROR(VLOOKUP($BG12,'Bretton Park Junior parkrun(2k)'!$F$14:$H$19,3,FALSE),0) -> 0 | BL12: =IFERROR(VLOOKUP($U12,'Eye Grand Prix (3k)'!$F$14:$H$19,3,FALSE),0) -> 0 | BM12: =IFERROR(VLOOKUP($BG12,'Castle Bytham Chase (5k)'!$F$14:$H$19,3,FALSE),0) -> 0 | BN12: =IFERROR(VLOOKUP($BG12,'Stamford Grand Prix (3k)'!$F$14:$H$19,3,FALSE),0) -> 0 | BO12: =IFERROR(VLOOKUP($BG12,'PANVAC Grand Prix (3k)'!$F$14:$H$19,3,FALSE),0) -> 0 | BP12: =IFERROR(VLOOKUP($BG12,'Werrington Grand Prix (3k)'!$F$6:$H$11,3,FALSE),0) -> 0 | BQ12: =IFERROR(VLOOKUP($BG12,'Bushfield Grand Prix (3k)'!$F$14:$H$19,3,FALSE),0) -> 0 | BR12: =IFERROR(VLOOKUP($BG12,'Central Park Junior parkrun(2k)'!$F$14:$H$19,3,FALSE),0) -> 0 | BS12: =IFERROR(VLOOKUP($BG12,'Barnack School (2.5k)'!$F$14:$H$15,3,FALSE),0) -> 0 | BT12: =IFERROR(VLOOKUP($U12,'Peterborough Fun Run (5k)'!$F$14:$H$19,4,FALSE),0) -> 0 | BU12: =IFERROR(VLOOKUP($U12,'Riverside Run (St Neots) (5k)'!$F$14:$H$19,4,FALSE),0) -> 0 | BV12: =LARGE(BH12:BU12,1)+LARGE(BH12:BU12,2)+LARGE(BH12:BU12,3)+LARGE(BH12:BU12,4)+LARGE(BH12:BU12,5) -> 49 | BW12: =COUNTIF(BH12:BU12,">.09") -> 1 | BX12: 3
B13: Ella Barratt | C13: =IFERROR(VLOOKUP($B13,' Rutland Water parkrun (5k)'!$B$6:$D$9,3,FALSE),0) -> 0 | D13: =IFERROR(VLOOKUP($B13,'Thorney Fun Run (3k)'!$B$6:$D$9,3,FALSE),0) -> 0 | E13: =IFERROR(VLOOKUP($B13,'Langtoft Fun Run (3k)'!$B$6:$D$8,3,FALSE),0) -> 0 | F13: =IFERROR(VLOOKUP($B13,'Bretton Park Junior parkrun(2k)'!$B$6:$D$9,3,FALSE),0) -> 0 | G13: =IFERROR(VLOOKUP($B13,'Eye Grand Prix (3k)'!$B$6:$D$9,3,FALSE),0) -> 0 | H13: =IFERROR(VLOOKUP($B13,'Castle Bytham Chase (5k)'!$B$6:$D$9,3,FALSE),0) -> 50 | I13: =IFERROR(VLOOKUP($B13,'Stamford Grand Prix (3k)'!$B$6:$D$9,3,FALSE),0) -> 0 | J13: =IFERROR(VLOOKUP($B13,'PANVAC Grand Prix (3k)'!$B$6:$D$9,4,FALSE),0) -> 0 | K13: =IFERROR(VLOOKUP($B13,'Werrington Grand Prix (3k)'!$B$6:$D$9,3,FALSE),0) -> 0 | L13: =IFERROR(VLOOKUP(B13,'Bushfield Grand Prix (3k)'!$B$6:$D$9,3,FALSE),0) -> 0 | M13: =IFERROR(VLOOKUP($B13,'Central Park Junior parkrun(2k)'!$B$6:$D$9,3,FALSE),0) -> 0 | N13: =IFERROR(VLOOKUP($B13,'Barnack School (2.5k)'!$B$6:$D$10,3,FALSE),0) -> 0 | O13: =IFERROR(VLOOKUP($B13,'Peterborough Fun Run (5k)'!$B$6:$D$9,3,FALSE),0) -> 0 | P13: =IFERROR(VLOOKUP($B13,'Riverside Run (St Neots) (5k)'!$B$6:$D$9,4,FALSE),0) -> 0 | Q13: =LARGE(C13:P13,1)+LARGE(C13:P13,2)+LARGE(C13:P13,3)+LARGE(C13:P13,4)+LARGE(C13:P13,5) -> 50 | R13: =COUNTIF(C13:P13,">.09") -> 1 | S13: 4 | U13: Ella Barratt | V13: =IFERROR(VLOOKUP($U13,' Rutland Water parkrun (5k)'!$B$14:$D$17,3,FALSE),0) -> 0 | W13: =IFERROR(VLOOKUP($U13,'Thorney Fun Run (3k)'!$B$14:$D$17,3,FALSE),0) -> 0 | X13: =IFERROR(VLOOKUP($U13,'Langtoft Fun Run (3k)'!$B$14:$D$16,3,FALSE),0) -> 0 | Y13: =IFERROR(VLOOKUP($U13,'Bretton Park Junior parkrun(2k)'!$B$14:$D$17,3,FALSE),0) -> 0 | Z13: =IFERROR(VLOOKUP($U13,'Eye Grand Prix (3k)'!$B$14:$D$17,3,FALSE),0) -> 0 | AA13: =IFERROR(VLOOKUP($U13,'Castle Bytham Chase (5k)'!$B$14:$D$17,3,FALSE),0) -> 50 | AB13: =IFERROR(VLOOKUP($U13,'Stamford Grand Prix (3k)'!$B$14:$D$17,3,FALSE),0) -> 0 | AC13: =IFERROR(VLOOKUP($U13,'PANVAC Grand Prix (3k)'!$B$14:$D$17,4,FALSE),0) -> 0 | AD13: =IFERROR(VLOOKUP($U13,'Werrington Grand Prix (3k)'!$B$14:$D$17,3,FALSE),0) -> 0 | AE13: =IFERROR(VLOOKUP($U13,'Bushfield Grand Prix (3k)'!$B$14:$D$17,3,FALSE),0) -> 0 | AF13: =IFERROR(VLOOKUP($U13,'Central Park Junior parkrun(2k)'!$B$14:$D$17,3,FALSE),0) -> 0 | AG13: =IFERROR(VLOOKUP($U13,'Barnack School (2.5k)'!$B$14:$D$18,3,FALSE),0) -> 0 | AH13: =IFERROR(VLOOKUP($U13,'Peterborough Fun Run (5k)'!$B$14:$D$17,3,FALSE),0) -> 0 | AI13: =IFERROR(VLOOKUP($U13,'Riverside Run (St Neots) (5k)'!$B$14:$D$17,4,FALSE),0) -> 0 | AJ13: =LARGE(V13:AH13,1)+LARGE(V13:AH13,2)+LARGE(V13:AH13,3)+LARGE(V13:AH13,4)+LARGE(V13:AH13,5) -> 50 | AK13: =COUNTIF(V13:AI13,">.09") -> 1 | AL13: 4
B14: Elena Staley | C14: =IFERROR(VLOOKUP($B14,' Rutland Water parkrun (5k)'!$B$6:$D$9,3,FALSE),0) -> 0 | D14: =IFERROR(VLOOKUP($B14,'Thorney Fun Run (3k)'!$B$6:$D$9,3,FALSE),0) -> 0 | E14: =IFERROR(VLOOKUP($B14,'Langtoft Fun Run (3k)'!$B$6:$D$8,3,FALSE),0) -> 0 | F14: =IFERROR(VLOOKUP($B14,'Bretton Park Junior parkrun(2k)'!$B$6:$D$9,3,FALSE),0) -> 0 | G14: =IFERROR(VLOOKUP($B14,'Eye Grand Prix (3k)'!$B$6:$D$9,3,FALSE),0) -> 0 | H14: =IFERROR(VLOOKUP($B14,'Castle Bytham Chase (5k)'!$B$6:$D$9,3,FALSE),0) -> 0 | I14: =IFERROR(VLOOKUP($B14,'Stamford Grand Prix (3k)'!$B$6:$D$9,3,FALSE),0) -> 0 | J14: =IFERROR(VLOOKUP($B14,'PANVAC Grand Prix (3k)'!$B$6:$D$9,4,FALSE),0) -> 0 | K14: =IFERROR(VLOOKUP($B14,'Werrington Grand Prix (3k)'!$B$6:$D$9,3,FALSE),0) -> 0 | L14: =IFERROR(VLOOKUP(B14,'Bushfield Grand Prix (3k)'!$B$6:$D$9,3,FALSE),0) -> 0 | M14: =IFERROR(VLOOKUP($B14,'Central Park Junior parkrun(2k)'!$B$6:$D$9,3,FALSE),0) -> 0 | N14: =IFERROR(VLOOKUP($B14,'Barnack School (2.5k)'!$B$6:$D$10,3,FALSE),0) -> 47 | O14: =IFERROR(VLOOKUP($B14,'Peterborough Fun Run (5k)'!$B$6:$D$9,3,FALSE),0) -> 0 | P14: =IFERROR(VLOOKUP($B14,'Riverside Run (St Neots) (5k)'!$B$6:$D$9,4,FALSE),0) -> 0 | Q14: =LARGE(C14:P14,1)+LARGE(C14:P14,2)+LARGE(C14:P14,3)+LARGE(C14:P14,4)+LARGE(C14:P14,5) -> 47 | R14: =COUNTIF(C14:P14,">.09") -> 1 | S14: 5 | U14: Elena Staley | V14: =IFERROR(VLOOKUP($U14,' Rutland Water parkrun (5k)'!$B$14:$D$17,3,FALSE),0) -> 0 | W14: =IFERROR(VLOOKUP($U14,'Thorney Fun Run (3k)'!$B$14:$D$17,3,FALSE),0) -> 0 | X14: =IFERROR(VLOOKUP($U14,'Langtoft Fun Run (3k)'!$B$14:$D$16,3,FALSE),0) -> 0 | Y14: =IFERROR(VLOOKUP($U14,'Bretton Park Junior parkrun(2k)'!$B$14:$D$17,3,FALSE),0) -> 0 | Z14: =IFERROR(VLOOKUP($U14,'Eye Grand Prix (3k)'!$B$14:$D$17,3,FALSE),0) -> 0 | AA14: =IFERROR(VLOOKUP($U14,'Castle Bytham Chase (5k)'!$B$14:$D$17,3,FALSE),0) -> 0 | AB14: =IFERROR(VLOOKUP($U14,'Stamford Grand Prix (3k)'!$B$14:$D$17,3,FALSE),0) -> 0 | AC14: =IFERROR(VLOOKUP($U14,'PANVAC Grand Prix (3k)'!$B$14:$D$17,4,FALSE),0) -> 0 | AD14: =IFERROR(VLOOKUP($U14,'Werrington Grand Prix (3k)'!$B$14:$D$17,3,FALSE),0) -> 0 | AE14: =IFERROR(VLOOKUP($U14,'Bushfield Grand Prix (3k)'!$B$14:$D$17,3,FALSE),0) -> 0 | AF14: =IFERROR(VLOOKUP($U14,'Central Park Junior parkrun(2k)'!$B$14:$D$17,3,FALSE),0) -> 0 | AG14: =IFERROR(VLOOKUP($U14,'Barnack School (2.5k)'!$B$14:$D$18,3,FALSE),0) -> 48 | AH14: =IFERROR(VLOOKUP($U14,'Peterborough Fun Run (5k)'!$B$14:$D$17,3,FALSE),0) -> 0 | AI14: =IFERROR(VLOOKUP($U14,'Riverside Run (St Neots) (5k)'!$B$14:$D$17,4,FALSE),0) -> 0 | AJ14: =LARGE(V14:AH14,1)+LARGE(V14:AH14,2)+LARGE(V14:AH14,3)+LARGE(V14:AH14,4)+LARGE(V14:AH14,5) -> 48 | AK14: =COUNTIF(V14:AI14,">.09") -> 1 | AL14: 5

Sheet  Rutland Water parkrun (5k)
C2: Rutland Water parkrun
C3: 45003
B5: Girl's Results | F5: Boy's Results
B6: Name | C6: Time | D6: Points | F6: Name | G6: Time | H6: Points
B13: Girl's Age Adjusted Results | F13: Boy's Age Adjusted Results
B14: Name | C14: % | D14: Points | F14: Name | G14: % | H14: Points

Sheet Thorney Fun Run (3k)
C2: Thorney Fun Run
C3: 45011
B5: Girl's Results | F5: Boy's Results
B6: Name | C6: Time | D6: Points | F6: Name | G6: Time | H6: Points
B15: Girl's Age Adjusted Results | F15: Boy's Age Adjusted Results
B16: Name | C16: % | D16: Points | F16: Name | G16: % | H16: Points

Sheet Langtoft Fun Run (3k)
C2: Langtoft Fun Run
C3: 45046
B5: Girl's Results | F5: Boy's Results
B6: Name | C6: Time | D6: Points | F6: Name | G6: Time | H6: Points
B7: Avocet Williams | C7: 0.0097222222 | D7: 50 | F7: Jake Henson | G7: 0.0080671296 | H7: 50
B8: Noa Williams | C8: 0.010381944 | D8: 49 | F8: Riley Peacock-Smith | G8: 0.0089467593 | H8: 49
B13: Girl's Age Adjusted Results | F13: Boy's Age Adjusted Results
B14: Name | C14: % | D14: Points | F14: Name | G14: % | H14: Points
B15: Avocet Williams | C15: 68.81 | D15: 50 | F15: Jake Henson | G15: 77.26 | H15: 50
B16: Noa Williams | C16: 64.44 | D16: 49 | F16: Riley Peacock-Smith | G16: 62.61 | H16: 49

Sheet Bretton Park Junior parkrun(2k)
C2: Bretton Park Junior parkrun
C3: 45060
B5: Girl's Results | F5: Boy's Results
B6: Name | C6: Time | D6: Points | F6: Name | G6: Time | H6: Points
F7: Jake Henson | G7: 0.33194444 | H7: 50
B13: Girl's Age Adjusted Results | F13: Boy's Age Adjusted Results
B14: Name | C14: % | D14: Points | F14: Name | G14: % | H14: Points
F15: Jake Henson | G15: 72.51 | H15: 50

Sheet Eye Grand Prix (3k)
C2: Eye Grand Prix
C3: 45091
B5: Girl's Results | F5: Boy's Results
B6: Name | C6: Time | D6: Points | F6: Name | G6: Time | H6: Points
F7: Jake Henson | G7: 0.49027778 | H7: 50
B13: Girl's Age Adjusted Results | F13: Boy's Age Adjusted Results
B14: Name | C14: % | D14: Points | F14: Name | G14: % | H14: Points
F15: Jake Henson | G15: 76.27 | H15: 50

Sheet Castle Bytham Chase (5k)
C2: Castle Bytham Chase
C3: 45101
B5: Girl's Results | F5: Boy's Results
B6: Name | C6: Time | D6: Points | F6: Name | G6: Time | H6: Points
B7: Ella Barratt | C7: 00:25:54 | D7: 50 | F7: Jacob Cox | G7: 0.017060185 | H7: 50
B13: Girl's Age Adjusted Results | F13: Boy's Age Adjusted Results
B14: Name | C14: % | D14: Points | F14: Name | G14: % | H14: Points
B15: Ella Barratt | C15: 62.86 | D15: 50 | F15: Jacob Cox | G15: 56.67 | H15: 50

Sheet Stamford Grand Prix (3k)
C2: Stamford Grand Prix
C3: 45105
B5: Girl's Results | F5: Boy's Results
B6: Name | C6: Time | D6: Points | F6: Name | G6: Time | H6: Points
B7: Avocet Williams | C7: 0.56388889 | D7: 50 | F7: Jake Henson | G7: 0.4875 | H7: 50
B8: Noa Williams | C8: 0.70833333 | D8: 49
B13: Girl's Age Adjusted Results | F13: Boy's Age Adjusted Results
B14: Name | C14: % | D14: Points | F14: Name | G14: % | H14: Points
B15: Avocet Williams | C15: 69.43 | D15: 50 | F15: Jake Henson | G15: 74.32 | H15: 50
B16: Noa Williams | C16: 55.27 | D16: 49

Sheet PANVAC Grand Prix (3k)
C2: PANVAC Grand Prix
C3: 45119
B5: Girl's Results | F5: Boy's Results
B6: Name | C6: Time | D6: Points | F6: Name | G6: Time | H6: Points
F7: Jake Henson | G7: 0.46805556 | H7: 50
B13: Girl's Age Adjusted Results | F13: Boy's Age Adjusted Results
B14: Name | C14: % | D14: Points | F14: Name | G14: % | H14: Points
F15: Jake Henson | G15: 79.89 | H15: 50

Sheet Werrington Grand Prix (3k)
C2: Werrington Grand Prix
C3: 45133
B5: Girl's Results | F5: Boy's Results
B6: Name | C6: Time | D6: Points | F6: Name | G6: Time | H6: Points
B7: Avocet Williams | C7: 0.58263889 | D7: 50 | F7: Jake Henson | G7: 0.48333333 | H7: 50
B13: Girl's Age Adjusted Results | F13: Boy's Age Adjusted Results
B14: Name | C14: % | D14: Points | F14: Name | G14: % | H14: Points
B15: Avocet Williams | C15: 68.89 | D15: 50 | F15: Jake Henson | G15: 77.37 | H15: 50

Sheet Bushfield Grand Prix (3k)
C2: Bushfield Grand Prix
C3: 45147
B5: Girl's Results | F5: Boy's Results
B6: Name | C6: Time | D6: Points | F6: Name | G6: Time | H6: Points
B7: Avocet Williams | C7: 0.56388889 | D7: 50 | F7: Jake Henson | G7: 0.4625 | H7: 50
B8: Noa Williams | C8: 0.67430556 | D8: 49
B13: Girl's Age Adjusted Results | F13: Boy's Age Adjusted Results
B14: Name | C14: % | D14: Points | F14: Name | G14: % | H14: Points
B15: Avocet Williams | C15: 71.18 | D15: 50 | F15: Jake Henson | G15: 80.85 | H15: 50
B16: Noa Williams | C16: 59.53 | D16: 49

Sheet Central Park Junior parkrun(2k)
C2: Central Park Junior parkrun
C3: 45179
B5: Girl's Results | F5: Boy's Results
B6: Name | C6: Time | D6: Points | F6: Name | G6: Time | H6: Points
B7: Sophia Campbell | C7: 0.64236111 | D7: 50 | F7: Jake Henson | G7: 0.30763889 | H7: 50
B13: Girl's Age Adjusted Results | F13: Boy's Age Adjusted Results
B14: Name | C14: % | D14: Points | F14: Name | G14: % | H14: Points
B15: Sophia Campbell | C15: 40.07 | D15: 50 | F15: Jake Henson | G15: 78.24 | H15: 50

Sheet Barnack School (2.5k)
C2: Barnack School
C3: 45206
B5: Girl's Results | F5: Boy's Results
B6: Name | C6: Time | D6: Points | F6: Name | G6: Time | H6: Points
B7: Avocet Williams | C7: 0.0075925926 | D7: 50 | F7: Jake Henson | G7: 0.0065162037 | H7: 50
B8: Noa Williams | C8: 0.010104167 | D8: 49
B9: Sophia Campbell | C9: 0.010625 | D9: 48
B10: Elena Staley | C10: 0.010763889 | D10: 47
B13: Girl's Age Adjusted Results | F13: Boy's Age Adjusted Results
B14: Name | C14: % | D14: Points | F14: Name | G14: % | H14: Points
B15: Avocet Williams | C15: 70.52 | D15: 50 | F15: Jake Henson | G15: 78.6 | H15: 50
B16: Noa Williams | C16: 52.99 | D16: 49
B17: Elena Staley | C17: 52.46 | D17: 48
B18: Sophia Campbell | C18: 51.67 | D18: 47

Sheet Peterborough Fun Run (5k)
C2: Anna's Hope Peterborough Fun Run
C3: 45214
B5: Girl's Results | F5: Boy's Results
B6: Name | C6: Time | D6: Points | F6: Name | G6: Time | H6: Points
B7: Sophia Campbell | C7: 0.026539352 | D7: 50
B13: Girl's Age Adjusted Results | F13: Boy's Age Adjusted Results
B14: Name | C14: % | D14: Points | F14: Name | G14: % | H14: Points
B15: Sophia Campbell | C15: 44.64 | D15: 50

Sheet Riverside Run (St Neots) (5k)
C2: Riverside Run (St Neots)
C3: Nov?
B5: Girl's Results | F5: Boy's Results
B6: Name | C6: Time | D6: Points | F6: Name | G6: Time | H6: Points
B13: Girl's Age Adjusted Results | F13: Boy's Age Adjusted Results
B14: Name | C14: % | D14: Points | F14: Name | G14: % | H14: Points
