Workbook

Sheet Championship positions
D2: = Qualified
B8: GIRLS' CHAMPIONSHIP 2022 | S8: GIRLS' AGE ADJUSTED CHAMPIONSHIP 2022 | AJ8: BOY'S CHAMPIONSHIP 2022 | BA8: BOY'S AGE ADJUSTED CHAMPIONSHIP 2022
B9: Name/Race No. | C9: 1. Bourne Run in the Woods (3k) | D9: 2. Cambridge Cambourne (1M) | E9: 3. Langtoft Fun Run (3k) | F9: 4. Little Bytham Farm Run (5k) | G9: 5. Eye Grand Prix (3k) | H9: 6. Stamford Grand Prix (3k) | I9: 7. PANVAC Grand Prix (3k) | J9: 8. Werrington Grand Prix (3k) | K9: 9. Revesby Race the Estate (2.5k) | L9: 10. Bushfield Grand Prix (3k) | M9: 11. RW Junior parkrun (2k) | N9: 12. Peterborough Fun Run (5k) | O9: Total of Best 5 | P9: No of Races (best five to count) | Q9: Position | S9: Name/Race No. | T9: 1. Bourne Run in the Woods (3k) | U9: 2. Cambridge Cambourne (1M) | V9: 3. Langtoft Fun Run (3k) | W9: 4. Little Bytham Farm Run (5k) | X9: 5. Eye Grand Prix (3k) | Y9: 6. Stamford Grand Prix (3k) | Z9: 7. PANVAC Grand Prix (3k) | AA9: 8. Werrington Grand Prix (3k) | AB9: 9. Revesby Race the Estate (2.5k) | AC9: 10. Bushfield Grand Prix (3k) | AD9: 11. RW Junior parkrun (2k) | AE9: 12. Peterborough Fun Run (5k) | AF9: Total of Best 5 | AG9: No of Races (best five to count) | AH9: Position | AJ9: Name/Race No. | AK9: 1. Bourne Run in the Woods (3k) | AL9: 2. Cambridge Cambourne (1M) | AM9: 3. Langtoft Fun Run (3k) | AN9: 4. Little Bytham Farm Run (5k) | AO9: 5. Eye Grand Prix (3k) | AP9: 6. Stamford Grand Prix (3k) | AQ9: 7. PANVAC Grand Prix (3k) | AR9: 8. Werrington Grand Prix (3k) | AS9: 9. Revesby Race the Estate (2.5k) | AT9: 10. Bushfield Grand Prix (3k) | AU9: 11. RW Junior parkrun (2k) | AV9: 12. Peterborough Fun Run (5k) | AW9: Total of Best 5 | AX9: No of Races (best five to count) | AY9: Position | BA9: Name/Race No. | BB9: 1. Bourne Run in the Woods (3k) | BC9: 2. Cambridge Cambourne (1M) | BD9: 3. Langtoft Fun Run (3k) | BE9: 4. Little Bytham Farm Run (5k) | BF9: 5. Eye Grand Prix (3k) | BG9: 6. Stamford Grand Prix (3k) | BH9: 7. PANVAC Grand Prix (3k) | BI9: 8. Werrington Grand Prix (3k) | BJ9: 9. Revesby Race the Estate (2.5k) | BK9: 10. Bushfield Grand Prix (3k) | BL9: 11. RW Junior parkrun (2k) | BM9: 12. Peterborough Fun Run (5k) | BN9: Total of Best 5 | BO9: No of Races (best five to count) | BP9: Position
B10: Ella Barratt | C10: =IFERROR(VLOOKUP($B10,'Bourne Run in the Woods (3k)'!$B$6:$D$9,3,FALSE),0) -> 50 | D10: =IFERROR(VLOOKUP($AJ10,'Cambridge Cambourne (1M)'!$B$6:$D$9,3,FALSE),0) -> 0 | E10: =IFERROR(VLOOKUP($B10,'Langtoft Fun Run (3k)'!$B$6:$D$9,3,FALSE),0) -> 50 | F10: =IFERROR(VLOOKUP($B10,'Little Bytham Farm Run (5k)'!$B$6:$D$9,3,FALSE),0) -> 50 | G10: =IFERROR(VLOOKUP($B10,'Eye Grand Prix (3k)'!$B$6:$D$9,3,FALSE),0) -> 0 | H10: =IFERROR(VLOOKUP($B10,'Stamford Grand Prix (3k)'!$B$6:$D$9,3,FALSE),0) -> 50 | I10: =IFERROR(VLOOKUP($B10,'PANVAC Grand Prix (3k)'!$B:$D,4,FALSE),0) -> 0 | J10: =IFERROR(VLOOKUP($B10,'Werrington Grand Prix (3k)'!$B:$D,4,FALSE),0) -> 0 | K10: =IFERROR(VLOOKUP($B10,'Werrington Grand Prix (3k)'!$B:$D,4,FALSE),0) -> 0 | L10: =IFERROR(VLOOKUP(B10,'Bushfield Grand Prix (3k)'!$B$6:$D$9,3,FALSE),0) -> 50 | M10: =IFERROR(VLOOKUP($B10,'RW Junior parkrun (2k)'!$B:$D,4,FALSE),0) -> 0 | N10: =IFERROR(VLOOKUP($B10,'Peterborough Fun Run (5k)'!$B:$D,4,FALSE),0) -> 0 | O10: =LARGE(C10:L10,1)+LARGE(C10:L10,2)+LARGE(C10:L10,3)+LARGE(C10:L10,4)+LARGE(C10:L10,5) -> 250 | P10: =COUNTIF(C10:L10,">.09") -> 5 | Q10: 1 | S10: Ella Barratt | T10: =IFERROR(VLOOKUP($S10,'Bourne Run in the Woods (3k)'!$B$14:$D$17,3,FALSE),0) -> 50 | U10: =IFERROR(VLOOKUP($AJ10,'Cambridge Cambourne (1M)'!$B$14:$D$17,3,FALSE),0) -> 0 | V10: =IFERROR(VLOOKUP($S10,'Langtoft Fun Run (3k)'!$B$17:$D$19,3,FALSE),0) -> 50 | W10: =IFERROR(VLOOKUP($S10,'Little Bytham Farm Run (5k)'!$B$14:$D$17,3,FALSE),0) -> 50 | X10: =IFERROR(VLOOKUP($S10,'Eye Grand Prix (3k)'!$B$14:$D$17,3,FALSE),0) -> 0 | Y10: =IFERROR(VLOOKUP($S10,'Stamford Grand Prix (3k)'!$B$14:$D$17,3,FALSE),0) -> 50 | Z10: =IFERROR(VLOOKUP($S10,'PANVAC Grand Prix (3k)'!$B:$D,4,FALSE),0) -> 0 | AA10: =IFERROR(VLOOKUP($S10,'Werrington Grand Prix (3k)'!$B:$D,4,FALSE),0) -> 0 | AB10: =IFERROR(VLOOKUP($S10,'Werrington Grand Prix (3k)'!$B:$D,4,FALSE),0) -> 0 | AC10: =IFERROR(VLOOKUP($S10,'Bushfield Grand Prix (3k)'!$B$14:$D$17,3,FALSE),0) -> 50 | AD10: =IFERROR(VLOOKUP($S10,'RW Junior parkrun (2k)'!$B:$D,4,FALSE),0) -> 0 | AE10: =IFERROR(VLOOKUP($S10,'Peterborough Fun Run (5k)'!$B:$D,4,FALSE),0) -> 0 | AF10: =LARGE(T10:AE10,1)+LARGE(T10:AE10,2)+LARGE(T10:AE10,3)+LARGE(T10:AE10,4)+LARGE(T10:AE10,5) -> 250 | AG10: =COUNTIF(T10:AC10,">.09") -> 5 | AH10: 1 | AJ10: Jacob Cox | AK10: =IFERROR(VLOOKUP($AJ10,'Bourne Run in the Woods (3k)'!$F$6:$H$11,3,FALSE),0) -> 0 | AL10: =IFERROR(VLOOKUP($AJ10,'Cambridge Cambourne (1M)'!$F$6:$H$11,3,FALSE),0) -> 0 | AM10: =IFERROR(VLOOKUP($AJ10,'Langtoft Fun Run (3k)'!$F$6:$H$13,3,FALSE),0) -> 0 | AN10: =IFERROR(VLOOKUP($AJ10,'Little Bytham Farm Run (5k)'!$F$6:$H$11,3,FALSE),0) -> 50 | AO10: =IFERROR(VLOOKUP($AJ10,'Eye Grand Prix (3k)'!$F$6:$H$11,3,FALSE),0) -> 50 | AP10: =IFERROR(VLOOKUP($AJ10,'Stamford Grand Prix (3k)'!$F$6:$H$11,3,FALSE),0) -> 48 | AQ10: =IFERROR(VLOOKUP($AJ10,'PANVAC Grand Prix (3k)'!$F$6:$H$11,3,FALSE),0) -> 0 | AR10: =IFERROR(VLOOKUP($AJ10,'Werrington Grand Prix (3k)'!$F$6:$H$11,3,FALSE),0) -> 50 | AS10: =IFERROR(VLOOKUP($AJ10,'Werrington Grand Prix (3k)'!$F:$H,4,FALSE),0) -> 0 | AT10: =IFERROR(VLOOKUP($AJ10,'Bushfield Grand Prix (3k)'!$F$6:$H$11,3,FALSE),0) -> 50 | AU10: =IFERROR(VLOOKUP($AJ10,'RW Junior parkrun (2k)'!$F$6:$H$11,3,FALSE),0) -> 0 | AV10: 50 | AW10: =LARGE(AK10:AV10,1)+LARGE(AK10:AV10,2)+LARGE(AK10:AV10,3)+LARGE(AK10:AV10,4)+LARGE(AK10:AV10,5) -> 250 | AX10: =COUNTIF(AK10:AT10,">.09") -> 5 | AY10: 1= | BA10: Jake Henson | BB10: =IFERROR(VLOOKUP($BA10,'Bourne Run in the Woods (3k)'!$F$14:$H$19,3,FALSE),0) -> 50 | BC10: =IFERROR(VLOOKUP($BA10,'Cambridge Cambourne (1M)'!$F$14:$H$19,3,FALSE),0) -> 50 | BD10: =IFERROR(VLOOKUP($BA10,'Langtoft Fun Run (3k)'!$F$16:$H$23,3,FALSE),0) -> 50 | BE10: =IFERROR(VLOOKUP($BA10,'Little Bytham Farm Run (5k)'!$F$14:$H$19,3,FALSE),0) -> 0 | BF10: =IFERROR(VLOOKUP($BA10,'Eye Grand Prix (3k)'!$F$14:$H$19,3,FALSE),0) -> 0 | BG10: =IFERROR(VLOOKUP($BA10,'Stamford Grand Prix (3k)'!$F$14:$H$19,3,FALSE),0) -> 50 | BH10: =IFERROR(VLOOKUP($BA10,'PANVAC Grand Prix (3k)'!$F$14:$H$19,3,FALSE),0) -> 50 | BI10: =IFERROR(VLOOKUP($BA10,'Werrington Grand Prix (3k)'!$F$14:$H$19,3,FALSE),0) -> 0 | BJ10: =IFERROR(VLOOKUP($BA10,'Werrington Grand Prix (3k)'!$F$14:$H$19,3,FALSE),0) -> 0 | BK10: =IFERROR(VLOOKUP($BA10,'Bushfield Grand Prix (3k)'!$F$14:$H$19,3,FALSE),0) -> 0 | BL10: =IFERROR(VLOOKUP($BA10,'RW Junior parkrun (2k)'!$F$14:$H$19,3,FALSE),0) -> 50 | BM10: =IFERROR(VLOOKUP($BA10,'Peterborough Fun Run (5k)'!$F:$H,4,FALSE),0) -> 0 | BN10: =LARGE(BB10:BM10,1)+LARGE(BB10:BM10,2)+LARGE(BB10:BM10,3)+LARGE(BB10:BM10,4)+LARGE(BB10:BM10,5) -> 250 | BO10: =COUNTIF(BB10:BK10,">.09") -> 5 | BP10: 1
B11: Avocet Williams | C11: =IFERROR(VLOOKUP($B11,'Bourne Run in the Woods (3k)'!$B$6:$D$9,3,FALSE),0) -> 49 | D11: =IFERROR(VLOOKUP($AJ11,'Cambridge Cambourne (1M)'!$B$6:$D$9,3,FALSE),0) -> 0 | E11: =IFERROR(VLOOKUP($B11,'Langtoft Fun Run (3k)'!$B$6:$D$9,3,FALSE),0) -> 49 | F11: =IFERROR(VLOOKUP($B11,'Little Bytham Farm Run (5k)'!$B$6:$D$9,3,FALSE),0) -> 0 | G11: =IFERROR(VLOOKUP($B11,'Eye Grand Prix (3k)'!$B$6:$D$9,3,FALSE),0) -> 0 | H11: =IFERROR(VLOOKUP($B11,'Stamford Grand Prix (3k)'!$B$6:$D$9,3,FALSE),0) -> 49 | I11: =IFERROR(VLOOKUP($B11,'PANVAC Grand Prix (3k)'!$B:$D,4,FALSE),0) -> 0 | J11: =IFERROR(VLOOKUP($B11,'Werrington Grand Prix (3k)'!$B:$D,4,FALSE),0) -> 0 | K11: =IFERROR(VLOOKUP($B11,'Werrington Grand Prix (3k)'!$B:$D,4,FALSE),0) -> 0 | L11: =IFERROR(VLOOKUP(B11,'Bushfield Grand Prix (3k)'!$B$6:$D$9,3,FALSE),0) -> 0 | M11: =IFERROR(VLOOKUP($B11,'RW Junior parkrun (2k)'!$B:$D,4,FALSE),0) -> 0 | N11: =IFERROR(VLOOKUP($B11,'Peterborough Fun Run (5k)'!$B:$D,4,FALSE),0) -> 0 | O11: =LARGE(C11:L11,1)+LARGE(C11:L11,2)+LARGE(C11:L11,3)+LARGE(C11:L11,4)+LARGE(C11:L11,5) -> 147 | P11: =COUNTIF(C11:L11,">.09") -> 3 | Q11: 2 | S11: Avocet Williams | T11: =IFERROR(VLOOKUP($S11,'Bourne Run in the Woods (3k)'!$B$14:$D$17,3,FALSE),0) -> 49 | U11: =IFERROR(VLOOKUP($AJ11,'Cambridge Cambourne (1M)'!$B$14:$D$17,3,FALSE),0) -> 0 | V11: =IFERROR(VLOOKUP($S11,'Langtoft Fun Run (3k)'!$B$17:$D$19,3,FALSE),0) -> 49 | W11: =IFERROR(VLOOKUP($S11,'Little Bytham Farm Run (5k)'!$B$14:$D$17,3,FALSE),0) -> 0 | X11: =IFERROR(VLOOKUP($S11,'Eye Grand Prix (3k)'!$B$14:$D$17,3,FALSE),0) -> 0 | Y11: =IFERROR(VLOOKUP($S11,'Stamford Grand Prix (3k)'!$B$14:$D$17,3,FALSE),0) -> 49 | Z11: =IFERROR(VLOOKUP($B11,'PANVAC Grand Prix (3k)'!$B:$D,4,FALSE),0) -> 0 | AA11: =IFERROR(VLOOKUP($B11,'Werrington Grand Prix (3k)'!$B:$D,4,FALSE),0) -> 0 | AB11: =IFERROR(VLOOKUP($B11,'Werrington Grand Prix (3k)'!$B:$D,4,FALSE),0) -> 0 | AC11: =IFERROR(VLOOKUP($S11,'Bushfield Grand Prix (3k)'!$B$14:$D$17,3,FALSE),0) -> 0 | AD11: =IFERROR(VLOOKUP($B11,'RW Junior parkrun (2k)'!$B:$D,4,FALSE),0) -> 0 | AE11: 0 | AF11: =LARGE(T11:AE11,1)+LARGE(T11:AE11,2)+LARGE(T11:AE11,3)+LARGE(T11:AE11,4)+LARGE(T11:AE11,5) -> 147 | AG11: =COUNTIF(T11:AC11,">.09") -> 3 | AH11: 2 | AJ11: Jake Henson | AK11: =IFERROR(VLOOKUP($AJ11,'Bourne Run in the Woods (3k)'!$F$6:$H$11,3,FALSE),0) -> 48 | AL11: =IFERROR(VLOOKUP($AJ11,'Cambridge Cambourne (1M)'!$F$6:$H$11,3,FALSE),0) -> 50 | AM11: =IFERROR(VLOOKUP($AJ11,'Langtoft Fun Run (3k)'!$F$6:$H$13,3,FALSE),0) -> 48 | AN11: =IFERROR(VLOOKUP($AJ11,'Little Bytham Farm Run (5k)'!$F$6:$H$11,3,FALSE),0) -> 0 | AO11: =IFERROR(VLOOKUP($AJ11,'Eye Grand Prix (3k)'!$F$6:$H$11,3,FALSE),0) -> 0 | AP11: =IFERROR(VLOOKUP($AJ11,'Stamford Grand Prix (3k)'!$F$6:$H$11,3,FALSE),0) -> 50 | AQ11: =IFERROR(VLOOKUP($AJ11,'PANVAC Grand Prix (3k)'!$F$6:$H$11,3,FALSE),0) -> 50 | AR11: =IFERROR(VLOOKUP($AJ11,'Werrington Grand Prix (3k)'!$F$6:$H$11,3,FALSE),0) -> 0 | AS11: =IFERROR(VLOOKUP($AJ11,'Werrington Grand Prix (3k)'!$F:$H,4,FALSE),0) -> 0 | AT11: =IFERROR(VLOOKUP($AJ11,'Bushfield Grand Prix (3k)'!$F$6:$H$11,3,FALSE),0) -> 0 | AU11: =IFERROR(VLOOKUP($AJ11,'RW Junior parkrun (2k)'!$F$6:$H$11,3,FALSE),0) -> 50 | AV11: =IFERROR(VLOOKUP($AJ11,'Peterborough Fun Run (5k)'!$F:$H,4,FALSE),0) -> 0 | AW11: =LARGE(AK11:AV11,1)+LARGE(AK11:AV11,2)+LARGE(AK11:AV11,3)+LARGE(AK11:AV11,4)+LARGE(AK11:AV11,5) -> 248 | AX11: =COUNTIF(AK11:AT11,">.09") -> 5 | AY11: 1= | BA11: Jacob Cox | BB11: =IFERROR(VLOOKUP($BA11,'Bourne Run in the Woods (3k)'!$F$14:$H$19,3,FALSE),0) -> 0 | BC11: =IFERROR(VLOOKUP($BA11,'Cambridge Cambourne (1M)'!$F$14:$H$19,3,FALSE),0) -> 0 | BD11: =IFERROR(VLOOKUP($BA11,'Langtoft Fun Run (3k)'!$F$16:$H$23,3,FALSE),0) -> 0 | BE11: =IFERROR(VLOOKUP($BA11,'Little Bytham Farm Run (5k)'!$F$14:$H$19,3,FALSE),0) -> 50 | BF11: =IFERROR(VLOOKUP($BA11,'Eye Grand Prix (3k)'!$F$14:$H$19,3,FALSE),0) -> 50 | BG11: =IFERROR(VLOOKUP($BA11,'Stamford Grand Prix (3k)'!$F$14:$H$19,3,FALSE),0) -> 46 | BH11: =IFERROR(VLOOKUP($BA11,'PANVAC Grand Prix (3k)'!$F$14:$H$19,3,FALSE),0) -> 0 | BI11: =IFERROR(VLOOKUP($BA11,'Werrington Grand Prix (3k)'!$F$14:$H$19,3,FALSE),0) -> 50 | BJ11: 0 | BK11: =IFERROR(VLOOKUP($BA11,'Bushfield Grand Prix (3k)'!$F$14:$H$19,3,FALSE),0) -> 49 | BL11: =IFERROR(VLOOKUP($BA11,'RW Junior parkrun (2k)'!$F$14:$H$19,3,FALSE),0) -> 0 | BM11: 50 | BN11: =LARGE(BB11:BM11,1)+LARGE(BB11:BM11,2)+LARGE(BB11:BM11,3)+LARGE(BB11:BM11,4)+LARGE(BB11:BM11,5) -> 249 | BO11: =COUNTIF(BB11:BK11,">.09") -> 5 | BP11: 2
B12: Noa Williams | C12: =IFERROR(VLOOKUP($B12,'Bourne Run in the Woods (3k)'!$B$6:$D$9,3,FALSE),0) -> 48 | D12: =IFERROR(VLOOKUP($AJ12,'Cambridge Cambourne (1M)'!$B$6:$D$9,3,FALSE),0) -> 0 | E12: =IFERROR(VLOOKUP($B12,'Langtoft Fun Run (3k)'!$B$6:$D$9,3,FALSE),0) -> 48 | F12: =IFERROR(VLOOKUP($B12,'Little Bytham Farm Run (5k)'!$B$6:$D$9,3,FALSE),0) -> 0 | G12: =IFERROR(VLOOKUP($B12,'Eye Grand Prix (3k)'!$B$6:$D$9,3,FALSE),0) -> 0 | H12: =IFERROR(VLOOKUP($B12,'Stamford Grand Prix (3k)'!$B$6:$D$9,3,FALSE),0) -> 48 | I12: =IFERROR(VLOOKUP($B12,'PANVAC Grand Prix (3k)'!$B:$D,4,FALSE),0) -> 0 | J12: =IFERROR(VLOOKUP($B12,'Werrington Grand Prix (3k)'!$B:$D,4,FALSE),0) -> 0 | K12: =IFERROR(VLOOKUP($B12,'Werrington Grand Prix (3k)'!$B:$D,4,FALSE),0) -> 0 | L12: =IFERROR(VLOOKUP(B12,'Bushfield Grand Prix (3k)'!$B$6:$D$9,3,FALSE),0) -> 0 | M12: =IFERROR(VLOOKUP($B12,'RW Junior parkrun (2k)'!$B:$D,4,FALSE),0) -> 0 | N12: =IFERROR(VLOOKUP($B12,'Peterborough Fun Run (5k)'!$B:$D,4,FALSE),0) -> 0 | O12: =LARGE(C12:L12,1)+LARGE(C12:L12,2)+LARGE(C12:L12,3)+LARGE(C12:L12,4)+LARGE(C12:L12,5) -> 144 | P12: =COUNTIF(C12:L12,">.09") -> 3 | Q12: 3 | S12: Noa Williams | T12: =IFERROR(VLOOKUP($S12,'Bourne Run in the Woods (3k)'!$B$14:$D$17,3,FALSE),0) -> 48 | U12: =IFERROR(VLOOKUP($AJ12,'Cambridge Cambourne (1M)'!$B$14:$D$17,3,FALSE),0) -> 0 | V12: =IFERROR(VLOOKUP($S12,'Langtoft Fun Run (3k)'!$B$17:$D$19,3,FALSE),0) -> 48 | W12: =IFERROR(VLOOKUP($S12,'Little Bytham Farm Run (5k)'!$B$14:$D$17,3,FALSE),0) -> 0 | X12: =IFERROR(VLOOKUP($S12,'Eye Grand Prix (3k)'!$B$14:$D$17,3,FALSE),0) -> 0 | Y12: =IFERROR(VLOOKUP($S12,'Stamford Grand Prix (3k)'!$B$14:$D$17,3,FALSE),0) -> 48 | Z12: =IFERROR(VLOOKUP($B12,'PANVAC Grand Prix (3k)'!$B:$D,4,FALSE),0) -> 0 | AA12: =IFERROR(VLOOKUP($B12,'Werrington Grand Prix (3k)'!$B:$D,4,FALSE),0) -> 0 | AB12: =IFERROR(VLOOKUP($B12,'Werrington Grand Prix (3k)'!$B:$D,4,FALSE),0) -> 0 | AC12: =IFERROR(VLOOKUP($S12,'Bushfield Grand Prix (3k)'!$B$14:$D$17,3,FALSE),0) -> 0 | AD12: =IFERROR(VLOOKUP($B12,'RW Junior parkrun (2k)'!$B:$D,4,FALSE),0) -> 0 | AE12: =IFERROR(VLOOKUP($B12,'Peterborough Fun Run (5k)'!$B:$D,4,FALSE),0) -> 0 | AF12: =LARGE(T12:AE12,1)+LARGE(T12:AE12,2)+LARGE(T12:AE12,3)+LARGE(T12:AE12,4)+LARGE(T12:AE12,5) -> 144 | AG12: =COUNTIF(T12:AC12,">.09") -> 3 | AH12: 3 | AJ12: Oliver Abbott | AK12: =IFERROR(VLOOKUP($AJ12,'Bourne Run in the Woods (3k)'!$F$6:$H$11,3,FALSE),0) -> 0 | AL12: =IFERROR(VLOOKUP($AJ12,'Cambridge Cambourne (1M)'!$F$6:$H$11,3,FALSE),0) -> 0 | AM12: =IFERROR(VLOOKUP($AJ12,'Langtoft Fun Run (3k)'!$F$6:$H$13,3,FALSE),0) -> 0 | AN12: =IFERROR(VLOOKUP($AJ12,'Little Bytham Farm Run (5k)'!$F$6:$H$11,3,FALSE),0) -> 0 | AO12: =IFERROR(VLOOKUP($AJ12,'Eye Grand Prix (3k)'!$F$6:$H$11,3,FALSE),0) -> 0 | AP12: =IFERROR(VLOOKUP($AJ12,'Stamford Grand Prix (3k)'!$F$6:$H$11,3,FALSE),0) -> 47 | AQ12: =IFERROR(VLOOKUP($AJ12,'PANVAC Grand Prix (3k)'!$F$6:$H$11,3,FALSE),0) -> 49 | AR12: =IFERROR(VLOOKUP($AJ12,'Werrington Grand Prix (3k)'!$F$6:$H$11,3,FALSE),0) -> 0 | AS12: =IFERROR(VLOOKUP($AJ12,'Werrington Grand Prix (3k)'!$F:$H,4,FALSE),0) -> 0 | AT12: =IFERROR(VLOOKUP($AJ12,'Bushfield Grand Prix (3k)'!$F$6:$H$11,3,FALSE),0) -> 49 | AU12: =IFERROR(VLOOKUP($AJ12,'RW Junior parkrun (2k)'!$F$6:$H$11,3,FALSE),0) -> 49 | AV12: =IFERROR(VLOOKUP($AJ12,'Peterborough Fun Run (5k)'!$F:$H,4,FALSE),0) -> 0 | AW12: =LARGE(AK12:AV12,1)+LARGE(AK12:AV12,2)+LARGE(AK12:AV12,3)+LARGE(AK12:AV12,4)+LARGE(AK12:AV12,5) -> 194 | AX12: =COUNTIF(AK12:AT12,">.09") -> 3 | AY12: 3 | BA12: Oliver Abbott | BB12: =IFERROR(VLOOKUP($BA12,'Bourne Run in the Woods (3k)'!$F$14:$H$19,3,FALSE),0) -> 0 | BC12: =IFERROR(VLOOKUP($BA12,'Cambridge Cambourne (1M)'!$F$14:$H$19,3,FALSE),0) -> 0 | BD12: =IFERROR(VLOOKUP($BA12,'Langtoft Fun Run (3k)'!$F$16:$H$23,3,FALSE),0) -> 0 | BE12: =IFERROR(VLOOKUP($BA12,'Little Bytham Farm Run (5k)'!$F$14:$H$19,3,FALSE),0) -> 0 | BF12: =IFERROR(VLOOKUP($BA12,'Eye Grand Prix (3k)'!$F$14:$H$19,3,FALSE),0) -> 0 | BG12: =IFERROR(VLOOKUP($BA12,'Stamford Grand Prix (3k)'!$F$14:$H$19,3,FALSE),0) -> 49 | BH12: =IFERROR(VLOOKUP($BA12,'PANVAC Grand Prix (3k)'!$F$14:$H$19,3,FALSE),0) -> 49 | BI12: =IFERROR(VLOOKUP($BA12,'Werrington Grand Prix (3k)'!$F$14:$H$19,3,FALSE),0) -> 0 | BJ12: 0 | BK12: =IFERROR(VLOOKUP($BA12,'Bushfield Grand Prix (3k)'!$F$14:$H$19,3,FALSE),0) -> 50 | BL12: =IFERROR(VLOOKUP($BA12,'RW Junior parkrun (2k)'!$F$14:$H$19,3,FALSE),0) -> 49 | BM12: =IFERROR(VLOOKUP($BA12,'Peterborough Fun Run (5k)'!$F:$H,4,FALSE),0) -> 0 | BN12: =LARGE(BB12:BM12,1)+LARGE(BB12:BM12,2)+LARGE(BB12:BM12,3)+LARGE(BB12:BM12,4)+LARGE(BB12:BM12,5) -> 197 | BO12: =COUNTIF(BB12:BK12,">.09") -> 3 | BP12: 3
AJ13: Riley Peacock-Smith | AK13: =IFERROR(VLOOKUP($AJ13,'Bourne Run in the Woods (3k)'!$F$6:$H$11,3,FALSE),0) -> 49 | AL13: =IFERROR(VLOOKUP($AJ13,'Cambridge Cambourne (1M)'!$F$6:$H$11,3,FALSE),0) -> 0 | AM13: =IFERROR(VLOOKUP($AJ13,'Langtoft Fun Run (3k)'!$F$6:$H$13,3,FALSE),0) -> 49 | AN13: =IFERROR(VLOOKUP($AJ13,'Little Bytham Farm Run (5k)'!$F$6:$H$11,3,FALSE),0) -> 49 | AO13: =IFERROR(VLOOKUP($AJ13,'Eye Grand Prix (3k)'!$F$6:$H$11,3,FALSE),0) -> 0 | AP13: =IFERROR(VLOOKUP($AJ13,'Stamford Grand Prix (3k)'!$F$6:$H$11,3,FALSE),0) -> 46 | AQ13: =IFERROR(VLOOKUP($AJ13,'PANVAC Grand Prix (3k)'!$F$6:$H$11,3,FALSE),0) -> 0 | AR13: =IFERROR(VLOOKUP($AJ13,'Werrington Grand Prix (3k)'!$F$6:$H$11,3,FALSE),0) -> 0 | AS13: =IFERROR(VLOOKUP($AJ13,'Werrington Grand Prix (3k)'!$F:$H,4,FALSE),0) -> 0 | AT13: =IFERROR(VLOOKUP($AJ13,'Bushfield Grand Prix (3k)'!$F$6:$H$11,3,FALSE),0) -> 0 | AU13: =IFERROR(VLOOKUP($AJ13,'RW Junior parkrun (2k)'!$F$6:$H$11,3,FALSE),0) -> 0 | AV13: =IFERROR(VLOOKUP($AJ13,'Peterborough Fun Run (5k)'!$F:$H,4,FALSE),0) -> 0 | AW13: =LARGE(AK13:AV13,1)+LARGE(AK13:AV13,2)+LARGE(AK13:AV13,3)+LARGE(AK13:AV13,4)+LARGE(AK13:AV13,5) -> 193 | AX13: =COUNTIF(AK13:AT13,">.09") -> 4 | AY13: 4 | BA13: Riley Peacock-Smith | BB13: =IFERROR(VLOOKUP($BA13,'Bourne Run in the Woods (3k)'!$F$14:$H$19,3,FALSE),0) -> 48 | BC13: =IFERROR(VLOOKUP($BA13,'Cambridge Cambourne (1M)'!$F$14:$H$19,3,FALSE),0) -> 0 | BD13: =IFERROR(VLOOKUP($BA13,'Langtoft Fun Run (3k)'!$F$16:$H$23,3,FALSE),0) -> 48 | BE13: =IFERROR(VLOOKUP($BA13,'Little Bytham Farm Run (5k)'!$F$14:$H$19,3,FALSE),0) -> 49 | BF13: =IFERROR(VLOOKUP($BA13,'Eye Grand Prix (3k)'!$F$14:$H$19,3,FALSE),0) -> 0 | BG13: =IFERROR(VLOOKUP($BA13,'Stamford Grand Prix (3k)'!$F$14:$H$19,3,FALSE),0) -> 47 | BH13: =IFERROR(VLOOKUP($BA13,'PANVAC Grand Prix (3k)'!$F$14:$H$19,3,FALSE),0) -> 0 | BI13: =IFERROR(VLOOKUP($BA13,'Werrington Grand Prix (3k)'!$F$14:$H$19,3,FALSE),0) -> 0 | BJ13: 0 | BK13: =IFERROR(VLOOKUP($BA13,'Bushfield Grand Prix (3k)'!$F$14:$H$19,3,FALSE),0) -> 0 | BL13: =IFERROR(VLOOKUP($BA13,'RW Junior parkrun (2k)'!$F$14:$H$19,3,FALSE),0) -> 0 | BM13: =IFERROR(VLOOKUP($BA13,'Peterborough Fun Run (5k)'!$F:$H,4,FALSE),0) -> 0 | BN13: =LARGE(BB13:BM13,1)+LARGE(BB13:BM13,2)+LARGE(BB13:BM13,3)+LARGE(BB13:BM13,4)+LARGE(BB13:BM13,5) -> 192 | BO13: =COUNTIF(BB13:BK13,">.09") -> 4 | BP13: 4
AJ14: Ethan Wallage | AK14: =IFERROR(VLOOKUP($AJ14,'Bourne Run in the Woods (3k)'!$F$6:$H$11,3,FALSE),0) -> 0 | AL14: =IFERROR(VLOOKUP($AJ14,'Cambridge Cambourne (1M)'!$F$6:$H$11,3,FALSE),0) -> 0 | AM14: =IFERROR(VLOOKUP($AJ14,'Langtoft Fun Run (3k)'!$F$6:$H$13,3,FALSE),0) -> 50 | AN14: =IFERROR(VLOOKUP($AJ14,'Little Bytham Farm Run (5k)'!$F$6:$H$11,3,FALSE),0) -> 0 | AO14: =IFERROR(VLOOKUP($AJ14,'Eye Grand Prix (3k)'!$F$6:$H$11,3,FALSE),0) -> 0 | AP14: =IFERROR(VLOOKUP($AJ14,'Stamford Grand Prix (3k)'!$F$6:$H$11,3,FALSE),0) -> 49 | AQ14: =IFERROR(VLOOKUP($AJ14,'PANVAC Grand Prix (3k)'!$F$6:$H$11,3,FALSE),0) -> 0 | AR14: =IFERROR(VLOOKUP($AJ14,'Werrington Grand Prix (3k)'!$F$6:$H$11,3,FALSE),0) -> 0 | AS14: =IFERROR(VLOOKUP($AJ14,'Werrington Grand Prix (3k)'!$F:$H,4,FALSE),0) -> 0 | AT14: =IFERROR(VLOOKUP($AJ14,'Bushfield Grand Prix (3k)'!$F$6:$H$11,3,FALSE),0) -> 0 | AU14: =IFERROR(VLOOKUP($AJ14,'RW Junior parkrun (2k)'!$F$6:$H$11,3,FALSE),0) -> 0 | AV14: =IFERROR(VLOOKUP($AJ14,'Peterborough Fun Run (5k)'!$F:$H,4,FALSE),0) -> 0 | AW14: =LARGE(AK14:AV14,1)+LARGE(AK14:AV14,2)+LARGE(AK14:AV14,3)+LARGE(AK14:AV14,4)+LARGE(AK14:AV14,5) -> 99 | AX14: =COUNTIF(AK14:AT14,">.09") -> 2 | AY14: 5 | BA14: Ethan Wallage | BB14: =IFERROR(VLOOKUP($BA14,'Bourne Run in the Woods (3k)'!$F$14:$H$19,3,FALSE),0) -> 0 | BC14: =IFERROR(VLOOKUP($BA14,'Cambridge Cambourne (1M)'!$F$14:$H$19,3,FALSE),0) -> 0 | BD14: =IFERROR(VLOOKUP($BA14,'Langtoft Fun Run (3k)'!$F$16:$H$23,3,FALSE),0) -> 49 | BE14: =IFERROR(VLOOKUP($BA14,'Little Bytham Farm Run (5k)'!$F$14:$H$19,3,FALSE),0) -> 0 | BF14: =IFERROR(VLOOKUP($BA14,'Eye Grand Prix (3k)'!$F$14:$H$19,3,FALSE),0) -> 0 | BG14: =IFERROR(VLOOKUP($BA14,'Stamford Grand Prix (3k)'!$F$14:$H$19,3,FALSE),0) -> 48 | BH14: =IFERROR(VLOOKUP($BA14,'PANVAC Grand Prix (3k)'!$F$14:$H$19,3,FALSE),0) -> 0 | BI14: =IFERROR(VLOOKUP($BA14,'Werrington Grand Prix (3k)'!$F$14:$H$19,3,FALSE),0) -> 0 | BJ14: 0 | BK14: =IFERROR(VLOOKUP($BA14,'Bushfield Grand Prix (3k)'!$F$14:$H$19,3,FALSE),0) -> 0 | BL14: =IFERROR(VLOOKUP($BA14,'RW Junior parkrun (2k)'!$F$14:$H$19,3,FALSE),0) -> 0 | BM14: =IFERROR(VLOOKUP($BA14,'Peterborough Fun Run (5k)'!$F:$H,4,FALSE),0) -> 0 | BN14: =LARGE(BB14:BM14,1)+LARGE(BB14:BM14,2)+LARGE(BB14:BM14,3)+LARGE(BB14:BM14,4)+LARGE(BB14:BM14,5) -> 97 | BO14: =COUNTIF(BB14:BK14,">.09") -> 2 | BP14: 5
AJ15: Riley Vines | AK15: =IFERROR(VLOOKUP($AJ15,'Bourne Run in the Woods (3k)'!$F$6:$H$11,3,FALSE),0) -> 50 | AL15: =IFERROR(VLOOKUP($AJ15,'Cambridge Cambourne (1M)'!$F$6:$H$11,3,FALSE),0) -> 0 | AM15: =IFERROR(VLOOKUP($AJ15,'Langtoft Fun Run (3k)'!$F$6:$H$13,3,FALSE),0) -> 45 | AN15: =IFERROR(VLOOKUP($AJ15,'Little Bytham Farm Run (5k)'!$F$6:$H$11,3,FALSE),0) -> 0 | AO15: =IFERROR(VLOOKUP($AJ15,'Eye Grand Prix (3k)'!$F$6:$H$11,3,FALSE),0) -> 0 | AP15: =IFERROR(VLOOKUP($AJ15,'Stamford Grand Prix (3k)'!$F$6:$H$11,3,FALSE),0) -> 0 | AQ15: =IFERROR(VLOOKUP($AJ15,'PANVAC Grand Prix (3k)'!$F$6:$H$11,3,FALSE),0) -> 0 | AR15: =IFERROR(VLOOKUP($AJ15,'Werrington Grand Prix (3k)'!$F$6:$H$11,3,FALSE),0) -> 0 | AS15: =IFERROR(VLOOKUP($AJ15,'Werrington Grand Prix (3k)'!$F:$H,4,FALSE),0) -> 0 | AT15: =IFERROR(VLOOKUP($AJ15,'Bushfield Grand Prix (3k)'!$F$6:$H$11,3,FALSE),0) -> 0 | AU15: =IFERROR(VLOOKUP($AJ15,'RW Junior parkrun (2k)'!$F$6:$H$11,3,FALSE),0) -> 0 | AV15: =IFERROR(VLOOKUP($AJ15,'Peterborough Fun Run (5k)'!$F:$H,4,FALSE),0) -> 0 | AW15: =LARGE(AK15:AV15,1)+LARGE(AK15:AV15,2)+LARGE(AK15:AV15,3)+LARGE(AK15:AV15,4)+LARGE(AK15:AV15,5) -> 95 | AX15: =COUNTIF(AK15:AT15,">.09") -> 2 | AY15: 6 | BA15: Liam Carrick | BB15: =IFERROR(VLOOKUP($BA15,'Bourne Run in the Woods (3k)'!$F$14:$H$19,3,FALSE),0) -> 49 | BC15: =IFERROR(VLOOKUP($BA15,'Cambridge Cambourne (1M)'!$F$14:$H$19,3,FALSE),0) -> 0 | BD15: =IFERROR(VLOOKUP($BA15,'Langtoft Fun Run (3k)'!$F$16:$H$23,3,FALSE),0) -> 47 | BE15: =IFERROR(VLOOKUP($BA15,'Little Bytham Farm Run (5k)'!$F$14:$H$19,3,FALSE),0) -> 0 | BF15: =IFERROR(VLOOKUP($BA15,'Eye Grand Prix (3k)'!$F$14:$H$19,3,FALSE),0) -> 0 | BG15: =IFERROR(VLOOKUP($BA15,'Stamford Grand Prix (3k)'!$F$14:$H$19,3,FALSE),0) -> 0 | BH15: =IFERROR(VLOOKUP($BA15,'PANVAC Grand Prix (3k)'!$F$14:$H$19,3,FALSE),0) -> 0 | BI15: =IFERROR(VLOOKUP($BA15,'Werrington Grand Prix (3k)'!$F$14:$H$19,3,FALSE),0) -> 0 | BJ15: 0 | BK15: =IFERROR(VLOOKUP($BA15,'Bushfield Grand Prix (3k)'!$F$14:$H$19,3,FALSE),0) -> 0 | BL15: =IFERROR(VLOOKUP($BA15,'RW Junior parkrun (2k)'!$F$14:$H$19,3,FALSE),0) -> 0 | BM15: =IFERROR(VLOOKUP($BA15,'Peterborough Fun Run (5k)'!$F:$H,4,FALSE),0) -> 0 | BN15: =LARGE(BB15:BM15,1)+LARGE(BB15:BM15,2)+LARGE(BB15:BM15,3)+LARGE(BB15:BM15,4)+LARGE(BB15:BM15,5) -> 96 | BO15: =COUNTIF(BB15:BK15,">.09") -> 2 | BP15: 6
AJ16: Liam Carrick | AK16: =IFERROR(VLOOKUP($AJ16,'Bourne Run in the Woods (3k)'!$F$6:$H$11,3,FALSE),0) -> 47 | AL16: =IFERROR(VLOOKUP($AJ16,'Cambridge Cambourne (1M)'!$F$6:$H$11,3,FALSE),0) -> 0 | AM16: =IFERROR(VLOOKUP($AJ16,'Langtoft Fun Run (3k)'!$F$6:$H$13,3,FALSE),0) -> 47 | AN16: =IFERROR(VLOOKUP($AJ16,'Little Bytham Farm Run (5k)'!$F$6:$H$11,3,FALSE),0) -> 0 | AO16: =IFERROR(VLOOKUP($AJ16,'Eye Grand Prix (3k)'!$F$6:$H$11,3,FALSE),0) -> 0 | AP16: =IFERROR(VLOOKUP($AJ16,'Stamford Grand Prix (3k)'!$F$6:$H$11,3,FALSE),0) -> 0 | AQ16: =IFERROR(VLOOKUP($AJ16,'PANVAC Grand Prix (3k)'!$F$6:$H$11,3,FALSE),0) -> 0 | AR16: =IFERROR(VLOOKUP($AJ16,'Werrington Grand Prix (3k)'!$F$6:$H$11,3,FALSE),0) -> 0 | AS16: =IFERROR(VLOOKUP($AJ16,'Werrington Grand Prix (3k)'!$F:$H,4,FALSE),0) -> 0 | AT16: =IFERROR(VLOOKUP($AJ16,'Bushfield Grand Prix (3k)'!$F$6:$H$11,3,FALSE),0) -> 0 | AU16: =IFERROR(VLOOKUP($AJ16,'RW Junior parkrun (2k)'!$F$6:$H$11,3,FALSE),0) -> 0 | AV16: =IFERROR(VLOOKUP($AJ16,'Peterborough Fun Run (5k)'!$F:$H,4,FALSE),0) -> 0 | AW16: =LARGE(AK16:AV16,1)+LARGE(AK16:AV16,2)+LARGE(AK16:AV16,3)+LARGE(AK16:AV16,4)+LARGE(AK16:AV16,5) -> 94 | AX16: =COUNTIF(AK16:AT16,">.09") -> 2 | AY16: 7 | BA16: Riley Vines | BB16: =IFERROR(VLOOKUP($BA16,'Bourne Run in the Woods (3k)'!$F$14:$H$19,3,FALSE),0) -> 47 | BC16: =IFERROR(VLOOKUP($BA16,'Cambridge Cambourne (1M)'!$F$14:$H$19,3,FALSE),0) -> 0 | BD16: =IFERROR(VLOOKUP($BA16,'Langtoft Fun Run (3k)'!$F$16:$H$23,3,FALSE),0) -> 45 | BE16: =IFERROR(VLOOKUP($BA16,'Little Bytham Farm Run (5k)'!$F$14:$H$19,3,FALSE),0) -> 0 | BF16: =IFERROR(VLOOKUP($BA16,'Eye Grand Prix (3k)'!$F$14:$H$19,3,FALSE),0) -> 0 | BG16: =IFERROR(VLOOKUP($BA16,'Stamford Grand Prix (3k)'!$F$14:$H$19,3,FALSE),0) -> 0 | BH16: =IFERROR(VLOOKUP($BA16,'PANVAC Grand Prix (3k)'!$F$14:$H$19,3,FALSE),0) -> 0 | BI16: =IFERROR(VLOOKUP($BA16,'Werrington Grand Prix (3k)'!$F$14:$H$19,3,FALSE),0) -> 0 | BJ16: 0 | BK16: =IFERROR(VLOOKUP($BA16,'Bushfield Grand Prix (3k)'!$F$14:$H$19,3,FALSE),0) -> 0 | BL16: =IFERROR(VLOOKUP($BA16,'RW Junior parkrun (2k)'!$F$14:$H$19,3,FALSE),0) -> 0 | BM16: =IFERROR(VLOOKUP($BA16,'Peterborough Fun Run (5k)'!$F:$H,4,FALSE),0) -> 0 | BN16: =LARGE(BB16:BM16,1)+LARGE(BB16:BM16,2)+LARGE(BB16:BM16,3)+LARGE(BB16:BM16,4)+LARGE(BB16:BM16,5) -> 92 | BO16: =COUNTIF(BB16:BK16,">.09") -> 2 | BP16: 7=
AJ17: Tait Vines | AK17: =IFERROR(VLOOKUP($AJ17,'Bourne Run in the Woods (3k)'!$F$6:$H$11,3,FALSE),0) -> 46 | AL17: =IFERROR(VLOOKUP($AJ17,'Cambridge Cambourne (1M)'!$F$6:$H$11,3,FALSE),0) -> 0 | AM17: =IFERROR(VLOOKUP($AJ17,'Langtoft Fun Run (3k)'!$F$6:$H$13,3,FALSE),0) -> 46 | AN17: =IFERROR(VLOOKUP($AJ17,'Little Bytham Farm Run (5k)'!$F$6:$H$11,3,FALSE),0) -> 0 | AO17: =IFERROR(VLOOKUP($AJ17,'Eye Grand Prix (3k)'!$F$6:$H$11,3,FALSE),0) -> 0 | AP17: =IFERROR(VLOOKUP($AJ17,'Stamford Grand Prix (3k)'!$F$6:$H$11,3,FALSE),0) -> 0 | AQ17: =IFERROR(VLOOKUP($AJ17,'PANVAC Grand Prix (3k)'!$F$6:$H$11,3,FALSE),0) -> 0 | AR17: =IFERROR(VLOOKUP($AJ17,'Werrington Grand Prix (3k)'!$F$6:$H$11,3,FALSE),0) -> 0 | AS17: =IFERROR(VLOOKUP($AJ17,'Werrington Grand Prix (3k)'!$F:$H,4,FALSE),0) -> 0 | AT17: =IFERROR(VLOOKUP($AJ17,'Bushfield Grand Prix (3k)'!$F$6:$H$11,3,FALSE),0) -> 0 | AU17: =IFERROR(VLOOKUP($AJ17,'RW Junior parkrun (2k)'!$F$6:$H$11,3,FALSE),0) -> 0 | AV17: =IFERROR(VLOOKUP($AJ17,'Peterborough Fun Run (5k)'!$F:$H,4,FALSE),0) -> 0 | AW17: =LARGE(AK17:AV17,1)+LARGE(AK17:AV17,2)+LARGE(AK17:AV17,3)+LARGE(AK17:AV17,4)+LARGE(AK17:AV17,5) -> 92 | AX17: =COUNTIF(AK17:AT17,">.09") -> 2 | AY17: 8 | BA17: Tait Vines | BB17: =IFERROR(VLOOKUP($BA17,'Bourne Run in the Woods (3k)'!$F$14:$H$19,3,FALSE),0) -> 46 | BC17: =IFERROR(VLOOKUP($BA17,'Cambridge Cambourne (1M)'!$F$14:$H$19,3,FALSE),0) -> 0 | BD17: =IFERROR(VLOOKUP($BA17,'Langtoft Fun Run (3k)'!$F$16:$H$23,3,FALSE),0) -> 46 | BE17: =IFERROR(VLOOKUP($BA17,'Little Bytham Farm Run (5k)'!$F$14:$H$19,3,FALSE),0) -> 0 | BF17: =IFERROR(VLOOKUP($BA17,'Eye Grand Prix (3k)'!$F$14:$H$19,3,FALSE),0) -> 0 | BG17: =IFERROR(VLOOKUP($BA17,'Stamford Grand Prix (3k)'!$F$14:$H$19,3,FALSE),0) -> 0 | BH17: =IFERROR(VLOOKUP($BA17,'PANVAC Grand Prix (3k)'!$F$14:$H$19,3,FALSE),0) -> 0 | BI17: =IFERROR(VLOOKUP($BA17,'Werrington Grand Prix (3k)'!$F$14:$H$19,3,FALSE),0) -> 0 | BJ17: 0 | BK17: =IFERROR(VLOOKUP($BA17,'Bushfield Grand Prix (3k)'!$F$14:$H$19,3,FALSE),0) -> 0 | BL17: =IFERROR(VLOOKUP($BA17,'RW Junior parkrun (2k)'!$F$14:$H$19,3,FALSE),0) -> 0 | BM17: =IFERROR(VLOOKUP($BA17,'Peterborough Fun Run (5k)'!$F:$H,4,FALSE),0) -> 0 | BN17: =LARGE(BB17:BM17,1)+LARGE(BB17:BM17,2)+LARGE(BB17:BM17,3)+LARGE(BB17:BM17,4)+LARGE(BB17:BM17,5) -> 92 | BO17: =COUNTIF(BB17:BK17,">.09") -> 2 | BP17: 7=
AJ18: Dylan Macphee | AK18: =IFERROR(VLOOKUP($AJ18,'Bourne Run in the Woods (3k)'!$F$6:$H$11,3,FALSE),0) -> 0 | AL18: =IFERROR(VLOOKUP($AJ18,'Cambridge Cambourne (1M)'!$F$6:$H$11,3,FALSE),0) -> 0 | AM18: =IFERROR(VLOOKUP($AJ18,'Langtoft Fun Run (3k)'!$F$6:$H$13,3,FALSE),0) -> 0 | AN18: =IFERROR(VLOOKUP($AJ18,'Little Bytham Farm Run (5k)'!$F$6:$H$11,3,FALSE),0) -> 48 | AO18: =IFERROR(VLOOKUP($AJ18,'Eye Grand Prix (3k)'!$F$6:$H$11,3,FALSE),0) -> 0 | AP18: =IFERROR(VLOOKUP($AJ18,'Stamford Grand Prix (3k)'!$F$6:$H$11,3,FALSE),0) -> 0 | AQ18: =IFERROR(VLOOKUP($AJ18,'PANVAC Grand Prix (3k)'!$F$6:$H$11,3,FALSE),0) -> 0 | AR18: =IFERROR(VLOOKUP($AJ18,'Werrington Grand Prix (3k)'!$F$6:$H$11,3,FALSE),0) -> 0 | AS18: =IFERROR(VLOOKUP($AJ18,'Werrington Grand Prix (3k)'!$F:$H,4,FALSE),0) -> 0 | AT18: =IFERROR(VLOOKUP($AJ18,'Bushfield Grand Prix (3k)'!$F$6:$H$11,3,FALSE),0) -> 0 | AU18: =IFERROR(VLOOKUP($AJ18,'RW Junior parkrun (2k)'!$F$6:$H$11,3,FALSE),0) -> 0 | AV18: =IFERROR(VLOOKUP($AJ18,'Peterborough Fun Run (5k)'!$F:$H,4,FALSE),0) -> 0 | AW18: =LARGE(AK18:AV18,1)+LARGE(AK18:AV18,2)+LARGE(AK18:AV18,3)+LARGE(AK18:AV18,4)+LARGE(AK18:AV18,5) -> 48 | AX18: =COUNTIF(AK18:AT18,">.09") -> 1 | AY18: 9 | BA18: Dylan Macphee | BB18: =IFERROR(VLOOKUP($BA18,'Bourne Run in the Woods (3k)'!$F$14:$H$19,3,FALSE),0) -> 0 | BC18: =IFERROR(VLOOKUP($BA18,'Cambridge Cambourne (1M)'!$F$14:$H$19,3,FALSE),0) -> 0 | BD18: =IFERROR(VLOOKUP($BA18,'Langtoft Fun Run (3k)'!$F$16:$H$23,3,FALSE),0) -> 0 | BE18: =IFERROR(VLOOKUP($BA18,'Little Bytham Farm Run (5k)'!$F$14:$H$19,3,FALSE),0) -> 48 | BF18: =IFERROR(VLOOKUP($BA18,'Eye Grand Prix (3k)'!$F$14:$H$19,3,FALSE),0) -> 0 | BG18: =IFERROR(VLOOKUP($BA18,'Stamford Grand Prix (3k)'!$F$14:$H$19,3,FALSE),0) -> 0 | BH18: =IFERROR(VLOOKUP($BA18,'PANVAC Grand Prix (3k)'!$F$14:$H$19,3,FALSE),0) -> 0 | BI18: =IFERROR(VLOOKUP($BA18,'Werrington Grand Prix (3k)'!$F$14:$H$19,3,FALSE),0) -> 0 | BJ18: 0 | BK18: =IFERROR(VLOOKUP($BA18,'Bushfield Grand Prix (3k)'!$F$14:$H$19,3,FALSE),0) -> 0 | BL18: =IFERROR(VLOOKUP($BA18,'RW Junior parkrun (2k)'!$F$14:$H$19,3,FALSE),0) -> 0 | BM18: =IFERROR(VLOOKUP($BA18,'Peterborough Fun Run (5k)'!$F:$H,4,FALSE),0) -> 0 | BN18: =LARGE(BB18:BM18,1)+LARGE(BB18:BM18,2)+LARGE(BB18:BM18,3)+LARGE(BB18:BM18,4)+LARGE(BB18:BM18,5) -> 48 | BO18: =COUNTIF(BB18:BK18,">.09") -> 1 | BP18: 9
AJ19: Rufus Chiva | AK19: =IFERROR(VLOOKUP($AJ19,'Bourne Run in the Woods (3k)'!$F$6:$H$11,3,FALSE),0) -> 0 | AL19: =IFERROR(VLOOKUP($AJ19,'Cambridge Cambourne (1M)'!$F$6:$H$11,3,FALSE),0) -> 0 | AM19: =IFERROR(VLOOKUP($AJ19,'Langtoft Fun Run (3k)'!$F$6:$H$13,3,FALSE),0) -> 44 | AN19: =IFERROR(VLOOKUP($AJ19,'Little Bytham Farm Run (5k)'!$F$6:$H$11,3,FALSE),0) -> 0 | AO19: =IFERROR(VLOOKUP($AJ19,'Eye Grand Prix (3k)'!$F$6:$H$11,3,FALSE),0) -> 0 | AP19: =IFERROR(VLOOKUP($AJ19,'Stamford Grand Prix (3k)'!$F$6:$H$11,3,FALSE),0) -> 0 | AQ19: =IFERROR(VLOOKUP($AJ19,'PANVAC Grand Prix (3k)'!$F$6:$H$11,3,FALSE),0) -> 0 | AR19: =IFERROR(VLOOKUP($AJ19,'Werrington Grand Prix (3k)'!$F$6:$H$11,3,FALSE),0) -> 0 | AS19: =IFERROR(VLOOKUP($AJ19,'Werrington Grand Prix (3k)'!$F:$H,4,FALSE),0) -> 0 | AT19: =IFERROR(VLOOKUP($AJ19,'Bushfield Grand Prix (3k)'!$F$6:$H$11,3,FALSE),0) -> 0 | AU19: =IFERROR(VLOOKUP($AJ19,'RW Junior parkrun (2k)'!$F$6:$H$11,3,FALSE),0) -> 0 | AV19: =IFERROR(VLOOKUP($AJ19,'Peterborough Fun Run (5k)'!$F:$H,4,FALSE),0) -> 0 | AW19: =LARGE(AK19:AV19,1)+LARGE(AK19:AV19,2)+LARGE(AK19:AV19,3)+LARGE(AK19:AV19,4)+LARGE(AK19:AV19,5) -> 44 | AX19: =COUNTIF(AK19:AT19,">.09") -> 1 | AY19: 10 | BA19: Rufus Chiva | BB19: =IFERROR(VLOOKUP($BA19,'Bourne Run in the Woods (3k)'!$F$14:$H$19,3,FALSE),0) -> 0 | BC19: =IFERROR(VLOOKUP($BA19,'Cambridge Cambourne (1M)'!$F$14:$H$19,3,FALSE),0) -> 0 | BD19: =IFERROR(VLOOKUP($BA19,'Langtoft Fun Run (3k)'!$F$16:$H$23,3,FALSE),0) -> 44 | BE19: =IFERROR(VLOOKUP($BA19,'Little Bytham Farm Run (5k)'!$F$14:$H$19,3,FALSE),0) -> 0 | BF19: =IFERROR(VLOOKUP($BA19,'Eye Grand Prix (3k)'!$F$14:$H$19,3,FALSE),0) -> 0 | BG19: =IFERROR(VLOOKUP($BA19,'Stamford Grand Prix (3k)'!$F$14:$H$19,3,FALSE),0) -> 0 | BH19: =IFERROR(VLOOKUP($BA19,'PANVAC Grand Prix (3k)'!$F$14:$H$19,3,FALSE),0) -> 0 | BI19: =IFERROR(VLOOKUP($BA19,'Werrington Grand Prix (3k)'!$F$14:$H$19,3,FALSE),0) -> 0 | BJ19: 0 | BK19: =IFERROR(VLOOKUP($BA19,'Bushfield Grand Prix (3k)'!$F$14:$H$19,3,FALSE),0) -> 0 | BL19: =IFERROR(VLOOKUP($BA19,'RW Junior parkrun (2k)'!$F$14:$H$19,3,FALSE),0) -> 0 | BM19: =IFERROR(VLOOKUP($BA19,'Peterborough Fun Run (5k)'!$F:$H,4,FALSE),0) -> 0 | BN19: =LARGE(BB19:BM19,1)+LARGE(BB19:BM19,2)+LARGE(BB19:BM19,3)+LARGE(BB19:BM19,4)+LARGE(BB19:BM19,5) -> 44 | BO19: =COUNTIF(BB19:BK19,">.09") -> 1 | BP19: 10

Sheet Bourne Run in the Woods (3k)
C2: Bourne Run in the Woods (3k)
C3: 44647
B5: Girl's Results | F5: Boy's Results
B6: Name | C6: Time | D6: Points | F6: Name | G6: Time | H6: Points
B7: Ella Barratt | C7: 0.55763889 | D7: 50 | F7: Riley Vines | G7: 0.50833333 | H7: 50
B8: Avocet Williams | C8: 0.62777778 | D8: 49 | F8: Riley Peacock-Smith | G8: 0.51666667 | H8: 49
B9: Noa Williams | C9: 0.63958333 | D9: 48 | F9: Jake Henson | G9: 0.5375 | H9: 48
F10: Liam Carrick | G10: 0.58263889 | H10: 47
F11: Tait Vines | G11: 0.70555556 | H11: 46
B13: Girl's Age Adjusted Results | F13: Boy's Age Adjusted Results
B14: Name | C14: % | D14: Points | F14: Name | G14: % | H14: Points
B15: Ella Barratt | C15: 70.21 | D15: 50 | F15: Jake Henson | G15: 72.09 | H15: 50
B16: Avocet Williams | C16: 65.77 | D16: 49 | F16: Liam Carrick | G16: 66.5 | H16: 49
B17: Noa Williams | C17: 64.55 | D17: 48 | F17: Riley Peacock-Smith | G17: 66.49 | H17: 48
F18: Riley Vines | G18: 66.12 | H18: 47
F19: Tait Vines | G19: 53 | H19: 46

Sheet Cambridge Cambourne (1M)
C2: Cambridge Cambourne (1M)
C3: 44661
B5: Girl's Results | F5: Boy's Results
B6: Name | C6: Time | D6: Points | F6: Name | G6: Time | H6: Points
F7: Jake Henson | G7: 0.0044675926 | H7: 50
B13: Girl's Age Adjusted Results | F13: Boy's Age Adjusted Results
B14: Name | C14: % | D14: Points | F14: Name | G14: % | H14: Points
F15: Jake Henson | G15: 73.13 | H15: 50

Sheet Langtoft Fun Run (3k)
C2: Langtoft Fun Run (3k)
C3: 44682
B5: Girl's Results | F5: Boy's Results
B6: Name | C6: Time | D6: Points | F6: Name | G6: Time | H6: Points
B7: Ella Barratt | C7: 00:13:06 | D7: 50 | F7: Ethan Wallage | G7: 00:12:07 | H7: 50
B8: Avocet Williams | C8: 00:14:52 | D8: 49 | F8: Riley Peacock-Smith | G8: 00:12:19 | H8: 49
B9: Noa Williams | C9: 00:15:15 | D9: 48 | F9: Jake Henson | G9: 00:12:26 | H9: 48
F10: Liam Carrick | G10: 00:15:39 | H10: 47
F11: Tait Vines | G11: 00:17:12 | H11: 46
F12: Riley Vines | G12: 00:18:46 | H12: 45
F13: Rufus Chiva | G13: 00:23:36 | H13: 44
B15: Girl's Age Adjusted Results | F15: Boy's Age Adjusted Results
B16: Name | C16: % | D16: Points | F16: Name | G16: % | H16: Points
B17: Ella Barratt | C17: 71.73 | D17: 50 | F17: Jake Henson | G17: 74.79 | H17: 50
B18: Avocet Williams | C18: 66.65 | D18: 49 | F18: Ethan Wallage | G18: 68.05 | H18: 49
B19: Noa Williams | C19: 64.98 | D19: 48 | F19: Riley Peacock-Smith | G19: 66.94 | H19: 48
F20: Liam Carrick | G20: 59.42 | H20: 47
F21: Tait Vines | G21: 52.18 | H21: 46
F22: Riley Vines | G22: 42.98 | H22: 45
F23: Rufus Chiva | G23: 39.4 | H23: 44

Sheet Little Bytham Farm Run (5k)
C2: Little Bytham Farm Run (5k)
C3: 44710
B5: Girl's Results | F5: Boy's Results
B6: Name | C6: Time | D6: Points | F6: Name | G6: Time | H6: Points
B7: Ella Barratt | C7: 00:25:19 | D7: 50 | F7: Jacob Cox | G7: 00:22:51 | H7: 50
F8: Riley Peacock-Smith | G8: 00:24:26 | H8: 49
F9: Dylan Macphee | G9: 00:28:18 | H9: 48
B13: Girl's Age Adjusted Results | F13: Boy's Age Adjusted Results
B14: Name | C14: % | D14: Points | F14: Name | G14: % | H14: Points
B15: Ella Barratt | C15: 65.73 | D15: 50 | F15: Jacob Cox | G15: 62.1 | H15: 50
F16: Riley Peacock-Smith | G16: 59.36 | H16: 49
F17: Dylan Macphee | G17: 52.55 | H17: 48

Sheet Eye Grand Prix (3k)
C2: Eye Grand Prix (3k)
C3: 44734
B5: Girl's Results | F5: Boy's Results
B6: Name | C6: Time | D6: Points | F6: Name | G6: Time | H6: Points
F7: Jacob Cox | G7: 00:13:19 | H7: 50
B13: Girl's Age Adjusted Results | F13: Boy's Age Adjusted Results
B14: Name | C14: % | D14: Points | F14: Name | G14: % | H14: Points
F15: Jacob Cox | G15: 60.58 | H15: 50

Sheet Stamford Grand Prix (3k)
C2: Stamford Grand Prix (3k)
C3: 44748
B5: Girl's Results | F5: Boy's Results
B6: Name | C6: Time | D6: Points | F6: Name | G6: Time | H6: Points
B7: Ella Barratt | C7: 13:58 | D7: 50 | F7: Jake Henson | G7: 13:21 | H7: 50
B8: Avocet Williams | C8: 15:48 | D8: 49 | F8: Ethan Wallage | G8: 13:27 | H8: 49
B9: Noa Williams | C9: 17:18 | D9: 48 | F9: Jacob Cox | G9: 13:47 | H9: 48
F10: Oliver Abbott | G10: 13:54 | H10: 47
F11: Riley Peacock-Smith | G11: 13:59 | H11: 46
B13: Girl's Age Adjusted Results | F13: Boy's Age Adjusted Results
B14: Name | C14: % | D14: Points | F14: Name | G14: % | H14: Points
B15: Ella Barratt | C15: 67.28 | D15: 50 | F15: Jake Henson | G15: 69.66 | H15: 50
B16: Avocet Williams | C16: 62.71 | D16: 49 | F16: Oliver Abbott | G16: 66.9 | H16: 49
B17: Noa Williams | C17: 57.28 | D17: 48 | F17: Ethan Wallage | G17: 61.3 | H17: 48
F18: Riley Peacock-Smith | G18: 58.96 | H18: 47
F19: Jacob Cox | G19: 58.52 | H19: 46

Sheet PANVAC Grand Prix (3k)
C2: PANVAC Grand Prix (3k)
C3: 44762
B5: Girl's Results | F5: Boy's Results
B6: Name | C6: Time | D6: Points | F6: Name | G6: Time | H6: Points
F7: Jake Henson | G7: 0.50972222 | H7: 50
F8: Oliver Abbott | G8: 0.52916667 | H8: 49
B13: Girl's Age Adjusted Results | F13: Boy's Age Adjusted Results
B14: Name | C14: % | D14: Points | F14: Name | G14: % | H14: Points
F15: Jake Henson | G15: 76.02 | H15: 50
F16: Oliver Abbott | G16: 73.22 | H16: 49

Sheet Werrington Grand Prix (3k)
C2: Werrington Grand Prix (3k)
C3: 44776
B5: Girl's Results | F5: Boy's Results
B6: Name | C6: Time | D6: Points | F6: Name | G6: Time | H6: Points
F7: Jacob Cox | G7: 0.56805556 | H7: 50
B13: Girl's Age Adjusted Results | F13: Boy's Age Adjusted Results
B14: Name | C14: % | D14: Points | F14: Name | G14: % | H14: Points
F15: Jacob Cox | G15: 59.17 | H15: 50

Sheet Revesby Race the Estate (2.5k)
C2: Revesby Race the Estate (2.5k)
C3: 44780
B5: Girl's Results | F5: Boy's Results
B6: Name | C6: Time | D6: Points | F6: Name | G6: Time | H6: Points
B13: Girl's Age Adjusted Results | F13: Boy's Age Adjusted Results
B14: Name | C14: % | D14: Points | F14: Name | G14: % | H14: Points

Sheet Bushfield Grand Prix (3k)
C2: Bushfield Grand Prix (3k)
C3: 44790
B5: Girl's Results | F5: Boy's Results
B6: Name | C6: Time | D6: Points | F6: Name | G6: Time | H6: Points
B7: Ella Barratt | C7: 0.54722222 | D7: 50 | F7: Jacob Cox | G7: 0.53055556 | H7: 50
F8: Oliver Abbott | G8: 0.54097222 | H8: 49
B13: Girl's Age Adjusted Results | F13: Boy's Age Adjusted Results
B14: Name | C14: % | D14: Points | F14: Name | G14: % | H14: Points
B15: Ella Barratt | C15: 71.54 | D15: 50 | F15: Oliver Abbott | G15: 71.62 | H15: 50
F16: Jacob Cox | G16: 63.35 | H16: 49

Sheet RW Junior parkrun (2k)
C2: RW Junior parkrun (2k)
C3: 44822
B5: Girl's Results | F5: Boy's Results
B6: Name | C6: Time | D6: Points | F6: Name | G6: Time | H6: Points
F7: Jake Henson | G7: 0.3375 | H7: 50
F8: Oliver Abbott | G8: 0.35347222 | H8: 49
B13: Girl's Age Adjusted Results | F13: Boy's Age Adjusted Results
B14: Name | C14: % | D14: Points | F14: Name | G14: % | H14: Points
F15: Jake Henson | G15: 73.89 | H15: 50
F16: Oliver Abbott | G16: 70.55 | H16: 49

Sheet Peterborough Fun Run (5k)
C2: Peterborough Fun Run (5k)
C3: 44850
B5: Girl's Results | F5: Boy's Results
B6: Name | C6: Time | D6: Points | F6: Name | G6: Time | H6: Points
F7: Jacob Cox | G7: 0.015237269 | H7: 50
B13: Girl's Age Adjusted Results | F13: Boy's Age Adjusted Results
B14: Name | C14: % | D14: Points | F14: Name | G14: % | H14: Points
F15: Jacob Cox | G15: 64.67 | H15: 50
