Workbook

Sheet Championship positions
D2: = Qualified
B8: GIRLS' CHAMPIONSHIP 2019 | S8: BOY'S CHAMPIONSHIP 2019
B9: Name/Race No. | C9: 1. Bourne Rotary 3k | D9: 2. Langtoft 3k | E9: 3. Little Bytham Farm Run | F9: 4. PGP 3k (Ferry Meadows) | G9: 5. PGP 3k (Eye) | H9: 6. PGP 3k (Ferry Meadows) | I9: 7. PGP 3k (Stamford) | J9: 8. PGP 3k (Werrington) | K9: 9. RR Fun Run 2k (St Neots) | L9: 10. Parkrun 5k (Rutland Water) | M9: 11. Anna's Hope Fun Run 5k | N9: 12. Parkrun 5k (Peterborough) | O9: Total of Best 5 | P9: No of Races (best five to count) | Q9: Position | S9: Name/Race No. | T9: 1. Bourne Rotary 3k | U9: 2. Langtoft 3k | V9: 3. Little Bytham Farm Run | W9: 4. PGP 3k (Ferry Meadows) | X9: 5. PGP 3k (Eye) | Y9: 6. PGP 3k (Ferry Meadows) | Z9: 7. PGP 3k (Stamford) | AA9: 8. PGP 3k (Werrington) | AB9: 9. RR Fun Run 2k (St Neots) | AC9: 10. Parkrun 5k (Rutland Water) | AD9: 11. Anna's Hope Fun Run 5k | AE9: 12. Parkrun 5k (Peterborough) | AF9: Total of Best 5 | AG9: No of Races (best five to count) | AH9: Position
B10: Erin Cox | C10: =IFERROR(VLOOKUP($B10,'Bourne Rotary 3k'!B:E,4,FALSE),0) -> 50 | D10: =IFERROR(VLOOKUP($B10,'Langtoft 3k'!B:E,4,FALSE),0) -> 50 | E10: =IFERROR(VLOOKUP($B10,'Little Bytham Farm Run'!B:E,4,FALSE),0) -> 0 | F10: =IFERROR(VLOOKUP($B10,'PGP 3k (Ferry Meadows)'!$B:$E,4,FALSE),0) -> 0 | G10: =IFERROR(VLOOKUP($B10,'PGP 3k (Eye)'!B:E,4,FALSE),0) -> 50 | H10: =IFERROR(VLOOKUP($B10,'PGP 3k (Ferry Meadows) '!B:E,4,FALSE),0) -> 50 | I10: =IFERROR(VLOOKUP($B10,'PGP 3k (Stamford)'!$B:$E,4,FALSE),0) -> 50 | J10: =IFERROR(VLOOKUP($B10,'PGP 3k (Werrington)'!B:F,4,FALSE),0) -> 50 | K10: =IFERROR(VLOOKUP($B10,'RR Fun Run 2k (St Neots)'!$B:$E,4,FALSE),0) -> 0 | L10: =IFERROR(VLOOKUP($B10,'Parkrun 5k (Rutland Water)'!B:E,4,FALSE),0) -> 0 | M10: =IFERROR(VLOOKUP($B10,'Anna''s Hope Fun Run 5k'!$B:$E,4,FALSE),0) -> 0 | N10: =IFERROR(VLOOKUP($B10,'Parkrun 5k (Peterborough)'!B:E,4,FALSE),0) -> 0 | O10: =LARGE(C10:N10,1)+LARGE(C10:N10,2)+LARGE(C10:N10,3)+LARGE(C10:N10,4)+LARGE(C10:N10,5) -> 250 | P10: =COUNTIF(C10:N10,">.09") -> 6 | Q10: 1 | S10: Jenson Lewis | T10: =IFERROR(VLOOKUP($S10,'Bourne Rotary 3k'!$G:$J,4,FALSE),0) -> 50 | U10: =IFERROR(VLOOKUP($S10,'Langtoft 3k'!$G:$J,4,FALSE),0) -> 50 | V10: =IFERROR(VLOOKUP($S10,'Little Bytham Farm Run'!G:J,4,FALSE),0) -> 50 | W10: =IFERROR(VLOOKUP($S10,'PGP 3k (Ferry Meadows)'!$G:$J,4,FALSE),0) -> 50 | X10: =IFERROR(VLOOKUP($S10,'PGP 3k (Eye)'!G:J,4,FALSE),0) -> 50 | Y10: =IFERROR(VLOOKUP($S10,'PGP 3k (Ferry Meadows) '!$G:$J,4,FALSE),0) -> 50 | Z10: =IFERROR(VLOOKUP($S10,'PGP 3k (Stamford)'!$G:$J,4,FALSE),0) -> 50 | AA10: =IFERROR(VLOOKUP($S10,'PGP 3k (Werrington)'!$G:$J,4,FALSE),0) -> 50 | AB10: =IFERROR(VLOOKUP($S10,'RR Fun Run 2k (St Neots)'!$G:$J,4,FALSE),0) -> 50 | AC10: =IFERROR(VLOOKUP($S10,'Parkrun 5k (Rutland Water)'!$G:$J,4,FALSE),0) -> 50 | AD10: =IFERROR(VLOOKUP($S10, 'Anna''s Hope Fun Run 5k'!G:J,4,FALSE),0) -> 0 | AE10: =IFERROR(VLOOKUP($S10,'Parkrun 5k (Peterborough)'!G:J,4,FALSE),0) -> 0 | AF10: =LARGE(T10:AE10,1)+LARGE(T10:AE10,2)+LARGE(T10:AE10,3)+LARGE(T10:AE10,4)+LARGE(T10:AE10,5) -> 250 | AG10: =COUNTIF(T10:AE10,">.09") -> 10 | AH10: 1
B11: Olivia Lewis | C11: =IFERROR(VLOOKUP($B11,'Bourne Rotary 3k'!B:E,4,FALSE),0) -> 49 | D11: =IFERROR(VLOOKUP($B11,'Langtoft 3k'!B:E,4,FALSE),0) -> 47 | E11: =IFERROR(VLOOKUP($B11,'Little Bytham Farm Run'!B:E,4,FALSE),0) -> 50 | F11: =IFERROR(VLOOKUP($B11,'PGP 3k (Ferry Meadows)'!$B:$E,4,FALSE),0) -> 49 | G11: =IFERROR(VLOOKUP($B11,'PGP 3k (Eye)'!B:E,4,FALSE),0) -> 48 | H11: =IFERROR(VLOOKUP($B11,'PGP 3k (Ferry Meadows) '!B:E,4,FALSE),0) -> 48 | I11: =IFERROR(VLOOKUP($B11,'PGP 3k (Stamford)'!$B:$E,4,FALSE),0) -> 0 | J11: =IFERROR(VLOOKUP($B11,'PGP 3k (Werrington)'!B:F,4,FALSE),0) -> 49 | K11: =IFERROR(VLOOKUP($B11,'RR Fun Run 2k (St Neots)'!$B:$E,4,FALSE),0) -> 50 | L11: =IFERROR(VLOOKUP($B11,'Parkrun 5k (Rutland Water)'!B:E,4,FALSE),0) -> 49 | M11: =IFERROR(VLOOKUP($B11,'Anna''s Hope Fun Run 5k'!$B:$E,4,FALSE),0) -> 50 | N11: =IFERROR(VLOOKUP($B11,'Parkrun 5k (Peterborough)'!B:E,4,FALSE),0) -> 0 | O11: =LARGE(C11:N11,1)+LARGE(C11:N11,2)+LARGE(C11:N11,3)+LARGE(C11:N11,4)+LARGE(C11:N11,5) -> 248 | P11: =COUNTIF(C11:N11,">.09") -> 10 | Q11: 2 | S11: James Thomas | T11: =IFERROR(VLOOKUP($S11,'Bourne Rotary 3k'!$G:$J,4,FALSE),0) -> 49 | U11: =IFERROR(VLOOKUP($S11,'Langtoft 3k'!$G:$J,4,FALSE),0) -> 49 | V11: =IFERROR(VLOOKUP($S11,'Little Bytham Farm Run'!G:J,4,FALSE),0) -> 49 | W11: =IFERROR(VLOOKUP($S11,'PGP 3k (Ferry Meadows)'!$G:$J,4,FALSE),0) -> 48 | X11: =IFERROR(VLOOKUP($S11,'PGP 3k (Eye)'!G:J,4,FALSE),0) -> 48 | Y11: =IFERROR(VLOOKUP($S11,'PGP 3k (Ferry Meadows) '!$G:$J,4,FALSE),0) -> 48 | Z11: =IFERROR(VLOOKUP($S11,'PGP 3k (Stamford)'!$G:$J,4,FALSE),0) -> 49 | AA11: =IFERROR(VLOOKUP($S11,'PGP 3k (Werrington)'!$G:$J,4,FALSE),0) -> 48 | AB11: =IFERROR(VLOOKUP($S11,'RR Fun Run 2k (St Neots)'!$G:$J,4,FALSE),0) -> 0 | AC11: =IFERROR(VLOOKUP($S11,'Parkrun 5k (Rutland Water)'!$G:$J,4,FALSE),0) -> 49 | AD11: =IFERROR(VLOOKUP($S11, 'Anna''s Hope Fun Run 5k'!G:J,4,FALSE),0) -> 50 | AE11: =IFERROR(VLOOKUP($S11,'Parkrun 5k (Peterborough)'!G:J,4,FALSE),0) -> 0 | AF11: =LARGE(T11:AE11,1)+LARGE(T11:AE11,2)+LARGE(T11:AE11,3)+LARGE(T11:AE11,4)+LARGE(T11:AE11,5) -> 246 | AG11: =COUNTIF(T11:AE11,">.09") -> 10 | AH11: 2
B12: Evie May Griffin | C12: =IFERROR(VLOOKUP($B12,'Bourne Rotary 3k'!B:E,4,FALSE),0) -> 0 | D12: =IFERROR(VLOOKUP($B12,'Langtoft 3k'!B:E,4,FALSE),0) -> 48 | E12: =IFERROR(VLOOKUP($B12,'Little Bytham Farm Run'!B:E,4,FALSE),0) -> 0 | F12: =IFERROR(VLOOKUP($B12,'PGP 3k (Ferry Meadows)'!$B:$E,4,FALSE),0) -> 50 | G12: =IFERROR(VLOOKUP($B12,'PGP 3k (Eye)'!B:E,4,FALSE),0) -> 49 | H12: =IFERROR(VLOOKUP($B12,'PGP 3k (Ferry Meadows) '!B:E,4,FALSE),0) -> 49 | I12: =IFERROR(VLOOKUP($B12,'PGP 3k (Stamford)'!$B:$E,4,FALSE),0) -> 49 | J12: =IFERROR(VLOOKUP($B12,'PGP 3k (Werrington)'!B:F,4,FALSE),0) -> 0 | K12: =IFERROR(VLOOKUP($B12,'RR Fun Run 2k (St Neots)'!$B:$E,4,FALSE),0) -> 0 | L12: =IFERROR(VLOOKUP($B12,'Parkrun 5k (Rutland Water)'!B:E,4,FALSE),0) -> 50 | M12: =IFERROR(VLOOKUP($B12,'Anna''s Hope Fun Run 5k'!$B:$E,4,FALSE),0) -> 0 | N12: =IFERROR(VLOOKUP($B12,'Parkrun 5k (Peterborough)'!B:E,4,FALSE),0) -> 0 | O12: =LARGE(C12:N12,1)+LARGE(C12:N12,2)+LARGE(C12:N12,3)+LARGE(C12:N12,4)+LARGE(C12:N12,5) -> 247 | P12: =COUNTIF(C12:N12,">.09") -> 6 | Q12: 3 | S12: Antony Hartley | T12: =IFERROR(VLOOKUP($S12,'Bourne Rotary 3k'!$G:$J,4,FALSE),0) -> 48 | U12: =IFERROR(VLOOKUP($S12,'Langtoft 3k'!$G:$J,4,FALSE),0) -> 47 | V12: =IFERROR(VLOOKUP($S12,'Little Bytham Farm Run'!G:J,4,FALSE),0) -> 0 | W12: =IFERROR(VLOOKUP($S12,'PGP 3k (Ferry Meadows)'!$G:$J,4,FALSE),0) -> 47 | X12: =IFERROR(VLOOKUP($S12,'PGP 3k (Eye)'!G:J,4,FALSE),0) -> 44 | Y12: =IFERROR(VLOOKUP($S12,'PGP 3k (Ferry Meadows) '!$G:$J,4,FALSE),0) -> 47 | Z12: =IFERROR(VLOOKUP($S12,'PGP 3k (Stamford)'!$G:$J,4,FALSE),0) -> 47 | AA12: =IFERROR(VLOOKUP($S12,'PGP 3k (Werrington)'!$G:$J,4,FALSE),0) -> 0 | AB12: =IFERROR(VLOOKUP($S12,'RR Fun Run 2k (St Neots)'!$G:$J,4,FALSE),0) -> 0 | AC12: =IFERROR(VLOOKUP($S12,'Parkrun 5k (Rutland Water)'!$G:$J,4,FALSE),0) -> 48 | AD12: =IFERROR(VLOOKUP($S12, 'Anna''s Hope Fun Run 5k'!G:J,4,FALSE),0) -> 48 | AE12: =IFERROR(VLOOKUP($S12,'Parkrun 5k (Peterborough)'!G:J,4,FALSE),0) -> 0 | AF12: =LARGE(T12:AE12,1)+LARGE(T12:AE12,2)+LARGE(T12:AE12,3)+LARGE(T12:AE12,4)+LARGE(T12:AE12,5) -> 238 | AG12: =COUNTIF(T12:AE12,">.09") -> 8 | AH12: 3
B13: Matilda Hind | C13: =IFERROR(VLOOKUP($B13,'Bourne Rotary 3k'!B:E,4,FALSE),0) -> 48 | D13: =IFERROR(VLOOKUP($B13,'Langtoft 3k'!B:E,4,FALSE),0) -> 49 | E13: =IFERROR(VLOOKUP($B13,'Little Bytham Farm Run'!B:E,4,FALSE),0) -> 0 | F13: =IFERROR(VLOOKUP($B13,'PGP 3k (Ferry Meadows)'!$B:$E,4,FALSE),0) -> 0 | G13: =IFERROR(VLOOKUP($B13,'PGP 3k (Eye)'!B:E,4,FALSE),0) -> 0 | H13: =IFERROR(VLOOKUP($B13,'PGP 3k (Ferry Meadows) '!B:E,4,FALSE),0) -> 0 | I13: =IFERROR(VLOOKUP($B13,'PGP 3k (Stamford)'!$B:$E,4,FALSE),0) -> 0 | J13: =IFERROR(VLOOKUP($B13,'PGP 3k (Werrington)'!B:F,4,FALSE),0) -> 0 | K13: =IFERROR(VLOOKUP($B13,'RR Fun Run 2k (St Neots)'!$B:$E,4,FALSE),0) -> 0 | L13: =IFERROR(VLOOKUP($B13,'Parkrun 5k (Rutland Water)'!B:E,4,FALSE),0) -> 0 | M13: =IFERROR(VLOOKUP($B13,'Anna''s Hope Fun Run 5k'!$B:$E,4,FALSE),0) -> 0 | N13: =IFERROR(VLOOKUP($B13,'Parkrun 5k (Peterborough)'!B:E,4,FALSE),0) -> 0 | O13: =LARGE(C13:N13,1)+LARGE(C13:N13,2)+LARGE(C13:N13,3)+LARGE(C13:N13,4)+LARGE(C13:N13,5) -> 97 | P13: =COUNTIF(C13:N13,">.09") -> 2 | Q13: 4 | S13: Callum Long | T13: =IFERROR(VLOOKUP($S13,'Bourne Rotary 3k'!$G:$J,4,FALSE),0) -> 47 | U13: =IFERROR(VLOOKUP($S13,'Langtoft 3k'!$G:$J,4,FALSE),0) -> 0 | V13: =IFERROR(VLOOKUP($S13,'Little Bytham Farm Run'!G:J,4,FALSE),0) -> 48 | W13: =IFERROR(VLOOKUP($S13,'PGP 3k (Ferry Meadows)'!$G:$J,4,FALSE),0) -> 45 | X13: =IFERROR(VLOOKUP($S13,'PGP 3k (Eye)'!G:J,4,FALSE),0) -> 45 | Y13: =IFERROR(VLOOKUP($S13,'PGP 3k (Ferry Meadows) '!$G:$J,4,FALSE),0) -> 46 | Z13: =IFERROR(VLOOKUP($S13,'PGP 3k (Stamford)'!$G:$J,4,FALSE),0) -> 0 | AA13: =IFERROR(VLOOKUP($S13,'PGP 3k (Werrington)'!$G:$J,4,FALSE),0) -> 0 | AB13: =IFERROR(VLOOKUP($S13,'RR Fun Run 2k (St Neots)'!$G:$J,4,FALSE),0) -> 0 | AC13: =IFERROR(VLOOKUP($S13,'Parkrun 5k (Rutland Water)'!$G:$J,4,FALSE),0) -> 0 | AD13: =IFERROR(VLOOKUP($S13, 'Anna''s Hope Fun Run 5k'!G:J,4,FALSE),0) -> 0 | AE13: =IFERROR(VLOOKUP($S13,'Parkrun 5k (Peterborough)'!G:J,4,FALSE),0) -> 0 | AF13: =LARGE(T13:AE13,1)+LARGE(T13:AE13,2)+LARGE(T13:AE13,3)+LARGE(T13:AE13,4)+LARGE(T13:AE13,5) -> 231 | AG13: =COUNTIF(T13:AE13,">.09") -> 5 | AH13: 4=
B14: Caitlyn Fedasch | C14: =IFERROR(VLOOKUP($B14,'Bourne Rotary 3k'!B:E,4,FALSE),0) -> 47 | D14: =IFERROR(VLOOKUP($B14,'Langtoft 3k'!B:E,4,FALSE),0) -> 0 | E14: =IFERROR(VLOOKUP($B14,'Little Bytham Farm Run'!B:E,4,FALSE),0) -> 0 | F14: =IFERROR(VLOOKUP($B14,'PGP 3k (Ferry Meadows)'!$B:$E,4,FALSE),0) -> 48 | G14: =IFERROR(VLOOKUP($B14,'PGP 3k (Eye)'!B:E,4,FALSE),0) -> 0 | H14: =IFERROR(VLOOKUP($B14,'PGP 3k (Ferry Meadows) '!B:E,4,FALSE),0) -> 0 | I14: =IFERROR(VLOOKUP($B14,'PGP 3k (Stamford)'!$B:$E,4,FALSE),0) -> 0 | J14: =IFERROR(VLOOKUP($B14,'PGP 3k (Werrington)'!B:F,4,FALSE),0) -> 0 | K14: =IFERROR(VLOOKUP($B14,'RR Fun Run 2k (St Neots)'!$B:$E,4,FALSE),0) -> 0 | L14: =IFERROR(VLOOKUP($B14,'Parkrun 5k (Rutland Water)'!B:E,4,FALSE),0) -> 0 | M14: =IFERROR(VLOOKUP($B14,'Anna''s Hope Fun Run 5k'!$B:$E,4,FALSE),0) -> 0 | N14: =IFERROR(VLOOKUP($B14,'Parkrun 5k (Peterborough)'!B:E,4,FALSE),0) -> 0 | O14: =LARGE(C14:N14,1)+LARGE(C14:N14,2)+LARGE(C14:N14,3)+LARGE(C14:N14,4)+LARGE(C14:N14,5) -> 95 | P14: =COUNTIF(C14:N14,">.09") -> 2 | Q14: 5 | S14: Liam Jones | T14: =IFERROR(VLOOKUP($S14,'Bourne Rotary 3k'!$G:$J,4,FALSE),0) -> 0 | U14: =IFERROR(VLOOKUP($S14,'Langtoft 3k'!$G:$J,4,FALSE),0) -> 0 | V14: =IFERROR(VLOOKUP($S14,'Little Bytham Farm Run'!G:J,4,FALSE),0) -> 47 | W14: =IFERROR(VLOOKUP($S14,'PGP 3k (Ferry Meadows)'!$G:$J,4,FALSE),0) -> 46 | X14: =IFERROR(VLOOKUP($S14,'PGP 3k (Eye)'!G:J,4,FALSE),0) -> 46 | Y14: =IFERROR(VLOOKUP($S14,'PGP 3k (Ferry Meadows) '!$G:$J,4,FALSE),0) -> 45 | Z14: =IFERROR(VLOOKUP($S14,'PGP 3k (Stamford)'!$G:$J,4,FALSE),0) -> 45 | AA14: =IFERROR(VLOOKUP($S14,'PGP 3k (Werrington)'!$G:$J,4,FALSE),0) -> 0 | AB14: =IFERROR(VLOOKUP($S14,'RR Fun Run 2k (St Neots)'!$G:$J,4,FALSE),0) -> 0 | AC14: =IFERROR(VLOOKUP($S14,'Parkrun 5k (Rutland Water)'!$G:$J,4,FALSE),0) -> 47 | AD14: =IFERROR(VLOOKUP($S14, 'Anna''s Hope Fun Run 5k'!G:J,4,FALSE),0) -> 0 | AE14: =IFERROR(VLOOKUP($S14,'Parkrun 5k (Peterborough)'!G:J,4,FALSE),0) -> 0 | AF14: =LARGE(T14:AE14,1)+LARGE(T14:AE14,2)+LARGE(T14:AE14,3)+LARGE(T14:AE14,4)+LARGE(T14:AE14,5) -> 231 | AG14: =COUNTIF(T14:AE14,">.09") -> 6 | AH14: 4=
B15: Natasha Cook | C15: =IFERROR(VLOOKUP($B15,'Bourne Rotary 3k'!B:E,4,FALSE),0) -> 0 | D15: =IFERROR(VLOOKUP($B15,'Langtoft 3k'!B:E,4,FALSE),0) -> 46 | E15: =IFERROR(VLOOKUP($B15,'Little Bytham Farm Run'!B:E,4,FALSE),0) -> 0 | F15: =IFERROR(VLOOKUP($B15,'PGP 3k (Ferry Meadows)'!$B:$E,4,FALSE),0) -> 0 | G15: =IFERROR(VLOOKUP($B15,'PGP 3k (Eye)'!B:E,4,FALSE),0) -> 0 | H15: =IFERROR(VLOOKUP($B15,'PGP 3k (Ferry Meadows) '!B:E,4,FALSE),0) -> 0 | I15: =IFERROR(VLOOKUP($B15,'PGP 3k (Stamford)'!$B:$E,4,FALSE),0) -> 0 | J15: =IFERROR(VLOOKUP($B15,'PGP 3k (Werrington)'!B:F,4,FALSE),0) -> 0 | K15: =IFERROR(VLOOKUP($B15,'RR Fun Run 2k (St Neots)'!$B:$E,4,FALSE),0) -> 0 | L15: =IFERROR(VLOOKUP($B15,'Parkrun 5k (Rutland Water)'!B:E,4,FALSE),0) -> 0 | M15: =IFERROR(VLOOKUP($B15,'Anna''s Hope Fun Run 5k'!$B:$E,4,FALSE),0) -> 0 | N15: =IFERROR(VLOOKUP($B15,'Parkrun 5k (Peterborough)'!B:E,4,FALSE),0) -> 0 | O15: =LARGE(C15:N15,1)+LARGE(C15:N15,2)+LARGE(C15:N15,3)+LARGE(C15:N15,4)+LARGE(C15:N15,5) -> 46 | P15: =COUNTIF(C15:N15,">.09") -> 1 | Q15: 6 | S15: Riley Peacock-Smith | T15: =IFERROR(VLOOKUP($S15,'Bourne Rotary 3k'!$G:$J,4,FALSE),0) -> 46 | U15: =IFERROR(VLOOKUP($S15,'Langtoft 3k'!$G:$J,4,FALSE),0) -> 46 | V15: =IFERROR(VLOOKUP($S15,'Little Bytham Farm Run'!G:J,4,FALSE),0) -> 0 | W15: =IFERROR(VLOOKUP($S15,'PGP 3k (Ferry Meadows)'!$G:$J,4,FALSE),0) -> 44 | X15: =IFERROR(VLOOKUP($S15,'PGP 3k (Eye)'!G:J,4,FALSE),0) -> 47 | Y15: =IFERROR(VLOOKUP($S15,'PGP 3k (Ferry Meadows) '!$G:$J,4,FALSE),0) -> 0 | Z15: =IFERROR(VLOOKUP($S15,'PGP 3k (Stamford)'!$G:$J,4,FALSE),0) -> 46 | AA15: =IFERROR(VLOOKUP($S15,'PGP 3k (Werrington)'!$G:$J,4,FALSE),0) -> 0 | AB15: =IFERROR(VLOOKUP($S15,'RR Fun Run 2k (St Neots)'!$G:$J,4,FALSE),0) -> 0 | AC15: =IFERROR(VLOOKUP($S15,'Parkrun 5k (Rutland Water)'!$G:$J,4,FALSE),0) -> 0 | AD15: =IFERROR(VLOOKUP($S15, 'Anna''s Hope Fun Run 5k'!G:J,4,FALSE),0) -> 0 | AE15: =IFERROR(VLOOKUP($S15,'Parkrun 5k (Peterborough)'!G:J,4,FALSE),0) -> 0 | AF15: =LARGE(T15:AE15,1)+LARGE(T15:AE15,2)+LARGE(T15:AE15,3)+LARGE(T15:AE15,4)+LARGE(T15:AE15,5) -> 229 | AG15: =COUNTIF(T15:AE15,">.09") -> 5 | AH15: 6
S16: Jack Griffin | T16: =IFERROR(VLOOKUP($S16,'Bourne Rotary 3k'!$G:$J,4,FALSE),0) -> 0 | U16: =IFERROR(VLOOKUP($S16,'Langtoft 3k'!$G:$J,4,FALSE),0) -> 0 | V16: =IFERROR(VLOOKUP($S16,'Little Bytham Farm Run'!G:J,4,FALSE),0) -> 0 | W16: =IFERROR(VLOOKUP($S16,'PGP 3k (Ferry Meadows)'!$G:$J,4,FALSE),0) -> 49 | X16: =IFERROR(VLOOKUP($S16,'PGP 3k (Eye)'!G:J,4,FALSE),0) -> 49 | Y16: =IFERROR(VLOOKUP($S16,'PGP 3k (Ferry Meadows) '!$G:$J,4,FALSE),0) -> 49 | Z16: =IFERROR(VLOOKUP($S16,'PGP 3k (Stamford)'!$G:$J,4,FALSE),0) -> 0 | AA16: =IFERROR(VLOOKUP($S16,'PGP 3k (Werrington)'!$G:$J,4,FALSE),0) -> 49 | AB16: =IFERROR(VLOOKUP($S16,'RR Fun Run 2k (St Neots)'!$G:$J,4,FALSE),0) -> 0 | AC16: =IFERROR(VLOOKUP($S16,'Parkrun 5k (Rutland Water)'!$G:$J,4,FALSE),0) -> 0 | AD16: =IFERROR(VLOOKUP($S16, 'Anna''s Hope Fun Run 5k'!G:J,4,FALSE),0) -> 0 | AE16: =IFERROR(VLOOKUP($S16,'Parkrun 5k (Peterborough)'!G:J,4,FALSE),0) -> 0 | AF16: =LARGE(T16:AE16,1)+LARGE(T16:AE16,2)+LARGE(T16:AE16,3)+LARGE(T16:AE16,4)+LARGE(T16:AE16,5) -> 196 | AG16: =COUNTIF(T16:AE16,">.09") -> 4 | AH16: 7
S17: Joe Candish | T17: =IFERROR(VLOOKUP($S17,'Bourne Rotary 3k'!$G:$J,4,FALSE),0) -> 42 | U17: =IFERROR(VLOOKUP($S17,'Langtoft 3k'!$G:$J,4,FALSE),0) -> 44 | V17: =IFERROR(VLOOKUP($S17,'Little Bytham Farm Run'!G:J,4,FALSE),0) -> 0 | W17: =IFERROR(VLOOKUP($S17,'PGP 3k (Ferry Meadows)'!$G:$J,4,FALSE),0) -> 0 | X17: =IFERROR(VLOOKUP($S17,'PGP 3k (Eye)'!G:J,4,FALSE),0) -> 0 | Y17: =IFERROR(VLOOKUP($S17,'PGP 3k (Ferry Meadows) '!$G:$J,4,FALSE),0) -> 0 | Z17: =IFERROR(VLOOKUP($S17,'PGP 3k (Stamford)'!$G:$J,4,FALSE),0) -> 0 | AA17: =IFERROR(VLOOKUP($S17,'PGP 3k (Werrington)'!$G:$J,4,FALSE),0) -> 0 | AB17: =IFERROR(VLOOKUP($S17,'RR Fun Run 2k (St Neots)'!$G:$J,4,FALSE),0) -> 47 | AC17: =IFERROR(VLOOKUP($S17,'Parkrun 5k (Rutland Water)'!$G:$J,4,FALSE),0) -> 0 | AD17: =IFERROR(VLOOKUP($S17, 'Anna''s Hope Fun Run 5k'!G:J,4,FALSE),0) -> 46 | AE17: =IFERROR(VLOOKUP($S17,'Parkrun 5k (Peterborough)'!G:J,4,FALSE),0) -> 0 | AF17: =LARGE(T17:AE17,1)+LARGE(T17:AE17,2)+LARGE(T17:AE17,3)+LARGE(T17:AE17,4)+LARGE(T17:AE17,5) -> 179 | AG17: =COUNTIF(T17:AE17,">.09") -> 4 | AH17: 8
S18: Bayley Graham | T18: =IFERROR(VLOOKUP($S18,'Bourne Rotary 3k'!$G:$J,4,FALSE),0) -> 0 | U18: =IFERROR(VLOOKUP($S18,'Langtoft 3k'!$G:$J,4,FALSE),0) -> 0 | V18: =IFERROR(VLOOKUP($S18,'Little Bytham Farm Run'!G:J,4,FALSE),0) -> 46 | W18: =IFERROR(VLOOKUP($S18,'PGP 3k (Ferry Meadows)'!$G:$J,4,FALSE),0) -> 0 | X18: =IFERROR(VLOOKUP($S18,'PGP 3k (Eye)'!G:J,4,FALSE),0) -> 0 | Y18: =IFERROR(VLOOKUP($S18,'PGP 3k (Ferry Meadows) '!$G:$J,4,FALSE),0) -> 0 | Z18: =IFERROR(VLOOKUP($S18,'PGP 3k (Stamford)'!$G:$J,4,FALSE),0) -> 0 | AA18: =IFERROR(VLOOKUP($S18,'PGP 3k (Werrington)'!$G:$J,4,FALSE),0) -> 47 | AB18: =IFERROR(VLOOKUP($S18,'RR Fun Run 2k (St Neots)'!$G:$J,4,FALSE),0) -> 0 | AC18: =IFERROR(VLOOKUP($S18,'Parkrun 5k (Rutland Water)'!$G:$J,4,FALSE),0) -> 0 | AD18: =IFERROR(VLOOKUP($S18, 'Anna''s Hope Fun Run 5k'!G:J,4,FALSE),0) -> 49 | AE18: =IFERROR(VLOOKUP($S18,'Parkrun 5k (Peterborough)'!G:J,4,FALSE),0) -> 0 | AF18: =LARGE(T18:AE18,1)+LARGE(T18:AE18,2)+LARGE(T18:AE18,3)+LARGE(T18:AE18,4)+LARGE(T18:AE18,5) -> 142 | AG18: =COUNTIF(T18:AE18,">.09") -> 3 | AH18: 9
S19: Evan Candish | T19: =IFERROR(VLOOKUP($S19,'Bourne Rotary 3k'!$G:$J,4,FALSE),0) -> 43 | U19: =IFERROR(VLOOKUP($S19,'Langtoft 3k'!$G:$J,4,FALSE),0) -> 0 | V19: =IFERROR(VLOOKUP($S19,'Little Bytham Farm Run'!G:J,4,FALSE),0) -> 0 | W19: =IFERROR(VLOOKUP($S19,'PGP 3k (Ferry Meadows)'!$G:$J,4,FALSE),0) -> 0 | X19: =IFERROR(VLOOKUP($S19,'PGP 3k (Eye)'!G:J,4,FALSE),0) -> 0 | Y19: =IFERROR(VLOOKUP($S19,'PGP 3k (Ferry Meadows) '!$G:$J,4,FALSE),0) -> 0 | Z19: =IFERROR(VLOOKUP($S19,'PGP 3k (Stamford)'!$G:$J,4,FALSE),0) -> 0 | AA19: =IFERROR(VLOOKUP($S19,'PGP 3k (Werrington)'!$G:$J,4,FALSE),0) -> 0 | AB19: =IFERROR(VLOOKUP($S19,'RR Fun Run 2k (St Neots)'!$G:$J,4,FALSE),0) -> 48 | AC19: =IFERROR(VLOOKUP($S19,'Parkrun 5k (Rutland Water)'!$G:$J,4,FALSE),0) -> 0 | AD19: =IFERROR(VLOOKUP($S19, 'Anna''s Hope Fun Run 5k'!G:J,4,FALSE),0) -> 47 | AE19: =IFERROR(VLOOKUP($S19,'Parkrun 5k (Peterborough)'!G:J,4,FALSE),0) -> 0 | AF19: =LARGE(T19:AE19,1)+LARGE(T19:AE19,2)+LARGE(T19:AE19,3)+LARGE(T19:AE19,4)+LARGE(T19:AE19,5) -> 138 | AG19: =COUNTIF(T19:AE19,">.09") -> 3 | AH19: 10
S20: Toby Wilkinson | T20: =IFERROR(VLOOKUP($S20,'Bourne Rotary 3k'!$G:$J,4,FALSE),0) -> 44 | U20: =IFERROR(VLOOKUP($S20,'Langtoft 3k'!$G:$J,4,FALSE),0) -> 0 | V20: =IFERROR(VLOOKUP($S20,'Little Bytham Farm Run'!G:J,4,FALSE),0) -> 0 | W20: =IFERROR(VLOOKUP($S20,'PGP 3k (Ferry Meadows)'!$G:$J,4,FALSE),0) -> 0 | X20: =IFERROR(VLOOKUP($S20,'PGP 3k (Eye)'!G:J,4,FALSE),0) -> 0 | Y20: =IFERROR(VLOOKUP($S20,'PGP 3k (Ferry Meadows) '!$G:$J,4,FALSE),0) -> 0 | Z20: =IFERROR(VLOOKUP($S20,'PGP 3k (Stamford)'!$G:$J,4,FALSE),0) -> 44 | AA20: =IFERROR(VLOOKUP($S20,'PGP 3k (Werrington)'!$G:$J,4,FALSE),0) -> 0 | AB20: =IFERROR(VLOOKUP($S20,'RR Fun Run 2k (St Neots)'!$G:$J,4,FALSE),0) -> 49 | AC20: =IFERROR(VLOOKUP($S20,'Parkrun 5k (Rutland Water)'!$G:$J,4,FALSE),0) -> 0 | AD20: =IFERROR(VLOOKUP($S20, 'Anna''s Hope Fun Run 5k'!G:J,4,FALSE),0) -> 0 | AE20: =IFERROR(VLOOKUP($S20,'Parkrun 5k (Peterborough)'!G:J,4,FALSE),0) -> 0 | AF20: =LARGE(T20:AE20,1)+LARGE(T20:AE20,2)+LARGE(T20:AE20,3)+LARGE(T20:AE20,4)+LARGE(T20:AE20,5) -> 137 | AG20: =COUNTIF(T20:AE20,">.09") -> 3 | AH20: 11
S21: Lucas Chisholm | T21: =IFERROR(VLOOKUP($S21,'Bourne Rotary 3k'!$G:$J,4,FALSE),0) -> 45 | U21: =IFERROR(VLOOKUP($S21,'Langtoft 3k'!$G:$J,4,FALSE),0) -> 0 | V21: =IFERROR(VLOOKUP($S21,'Little Bytham Farm Run'!G:J,4,FALSE),0) -> 0 | W21: =IFERROR(VLOOKUP($S21,'PGP 3k (Ferry Meadows)'!$G:$J,4,FALSE),0) -> 0 | X21: =IFERROR(VLOOKUP($S21,'PGP 3k (Eye)'!G:J,4,FALSE),0) -> 0 | Y21: =IFERROR(VLOOKUP($S21,'PGP 3k (Ferry Meadows) '!$G:$J,4,FALSE),0) -> 0 | Z21: =IFERROR(VLOOKUP($S21,'PGP 3k (Stamford)'!$G:$J,4,FALSE),0) -> 48 | AA21: =IFERROR(VLOOKUP($S21,'PGP 3k (Werrington)'!$G:$J,4,FALSE),0) -> 0 | AB21: =IFERROR(VLOOKUP($S21,'RR Fun Run 2k (St Neots)'!$G:$J,4,FALSE),0) -> 0 | AC21: =IFERROR(VLOOKUP($S21,'Parkrun 5k (Rutland Water)'!$G:$J,4,FALSE),0) -> 0 | AD21: =IFERROR(VLOOKUP($S21, 'Anna''s Hope Fun Run 5k'!G:J,4,FALSE),0) -> 0 | AE21: =IFERROR(VLOOKUP($S21,'Parkrun 5k (Peterborough)'!G:J,4,FALSE),0) -> 0 | AF21: =LARGE(T21:AE21,1)+LARGE(T21:AE21,2)+LARGE(T21:AE21,3)+LARGE(T21:AE21,4)+LARGE(T21:AE21,5) -> 93 | AG21: =COUNTIF(T21:AE21,">.09") -> 2 | AH21: 12
S22: Edward Joyce | T22: =IFERROR(VLOOKUP($S22,'Bourne Rotary 3k'!$G:$J,4,FALSE),0) -> 0 | U22: =IFERROR(VLOOKUP($S22,'Langtoft 3k'!$G:$J,4,FALSE),0) -> 48 | V22: =IFERROR(VLOOKUP($S22,'Little Bytham Farm Run'!G:J,4,FALSE),0) -> 0 | W22: =IFERROR(VLOOKUP($S22,'PGP 3k (Ferry Meadows)'!$G:$J,4,FALSE),0) -> 0 | X22: =IFERROR(VLOOKUP($S22,'PGP 3k (Eye)'!G:J,4,FALSE),0) -> 0 | Y22: =IFERROR(VLOOKUP($S22,'PGP 3k (Ferry Meadows) '!$G:$J,4,FALSE),0) -> 0 | Z22: =IFERROR(VLOOKUP($S22,'PGP 3k (Stamford)'!$G:$J,4,FALSE),0) -> 0 | AA22: =IFERROR(VLOOKUP($S22,'PGP 3k (Werrington)'!$G:$J,4,FALSE),0) -> 0 | AB22: =IFERROR(VLOOKUP($S22,'RR Fun Run 2k (St Neots)'!$G:$J,4,FALSE),0) -> 0 | AC22: =IFERROR(VLOOKUP($S22,'Parkrun 5k (Rutland Water)'!$G:$J,4,FALSE),0) -> 0 | AD22: =IFERROR(VLOOKUP($S22, 'Anna''s Hope Fun Run 5k'!G:J,4,FALSE),0) -> 0 | AE22: =IFERROR(VLOOKUP($S22,'Parkrun 5k (Peterborough)'!G:J,4,FALSE),0) -> 0 | AF22: =LARGE(T22:AE22,1)+LARGE(T22:AE22,2)+LARGE(T22:AE22,3)+LARGE(T22:AE22,4)+LARGE(T22:AE22,5) -> 48 | AG22: =COUNTIF(T22:AE22,">.09") -> 1 | AH22: 13
S23: Jamie Milner | T23: =IFERROR(VLOOKUP($S23,'Bourne Rotary 3k'!$G:$J,4,FALSE),0) -> 0 | U23: =IFERROR(VLOOKUP($S23,'Langtoft 3k'!$G:$J,4,FALSE),0) -> 45 | V23: =IFERROR(VLOOKUP($S23,'Little Bytham Farm Run'!G:J,4,FALSE),0) -> 0 | W23: =IFERROR(VLOOKUP($S23,'PGP 3k (Ferry Meadows)'!$G:$J,4,FALSE),0) -> 0 | X23: =IFERROR(VLOOKUP($S23,'PGP 3k (Eye)'!G:J,4,FALSE),0) -> 0 | Y23: =IFERROR(VLOOKUP($S23,'PGP 3k (Ferry Meadows) '!$G:$J,4,FALSE),0) -> 0 | Z23: =IFERROR(VLOOKUP($S23,'PGP 3k (Stamford)'!$G:$J,4,FALSE),0) -> 0 | AA23: =IFERROR(VLOOKUP($S23,'PGP 3k (Werrington)'!$G:$J,4,FALSE),0) -> 0 | AB23: =IFERROR(VLOOKUP($S23,'RR Fun Run 2k (St Neots)'!$G:$J,4,FALSE),0) -> 0 | AC23: =IFERROR(VLOOKUP($S23,'Parkrun 5k (Rutland Water)'!$G:$J,4,FALSE),0) -> 0 | AD23: =IFERROR(VLOOKUP($S23, 'Anna''s Hope Fun Run 5k'!G:J,4,FALSE),0) -> 0 | AE23: =IFERROR(VLOOKUP($S23,'Parkrun 5k (Peterborough)'!G:J,4,FALSE),0) -> 0 | AF23: =LARGE(T23:AE23,1)+LARGE(T23:AE23,2)+LARGE(T23:AE23,3)+LARGE(T23:AE23,4)+LARGE(T23:AE23,5) -> 45 | AG23: =COUNTIF(T23:AE23,">.09") -> 1 | AH23: 14
S24: Jamie Lambert | T24: =IFERROR(VLOOKUP($S24,'Bourne Rotary 3k'!$G:$J,4,FALSE),0) -> 0 | U24: =IFERROR(VLOOKUP($S24,'Langtoft 3k'!$G:$J,4,FALSE),0) -> 0 | V24: =IFERROR(VLOOKUP($S24,'Little Bytham Farm Run'!G:J,4,FALSE),0) -> 0 | W24: =IFERROR(VLOOKUP($S24,'PGP 3k (Ferry Meadows)'!$G:$J,4,FALSE),0) -> 0 | X24: =IFERROR(VLOOKUP($S24,'PGP 3k (Eye)'!G:J,4,FALSE),0) -> 0 | Y24: =IFERROR(VLOOKUP($S24,'PGP 3k (Ferry Meadows) '!$G:$J,4,FALSE),0) -> 0 | Z24: =IFERROR(VLOOKUP($S24,'PGP 3k (Stamford)'!$G:$J,4,FALSE),0) -> 43 | AA24: =IFERROR(VLOOKUP($S24,'PGP 3k (Werrington)'!$G:$J,4,FALSE),0) -> 0 | AB24: =IFERROR(VLOOKUP($S24,'RR Fun Run 2k (St Neots)'!$G:$J,4,FALSE),0) -> 0 | AC24: =IFERROR(VLOOKUP($S24,'Parkrun 5k (Rutland Water)'!$G:$J,4,FALSE),0) -> 0 | AD24: =IFERROR(VLOOKUP($S24, 'Anna''s Hope Fun Run 5k'!G:J,4,FALSE),0) -> 0 | AE24: =IFERROR(VLOOKUP($S24,'Parkrun 5k (Peterborough)'!G:J,4,FALSE),0) -> 0 | AF24: =LARGE(T24:AE24,1)+LARGE(T24:AE24,2)+LARGE(T24:AE24,3)+LARGE(T24:AE24,4)+LARGE(T24:AE24,5) -> 43 | AG24: =COUNTIF(T24:AE24,">.09") -> 1 | AH24: 15

Sheet Bourne Rotary 3k
D2: Bourne Rotary 3k
D3: 43569
B5: Girl's Results | G5: Boy's Results
B6: Name | C6: Time | D6: % | E6: Points | G6: Name | H6: Time | I6: % | J6: Points
B7: Erin Cox | C7: 11'49"84 | D7: 76.32 | E7: 50 | G7: Jenson Lewis | H7: 11'18"66 | I7: 71.39 | J7: 50
B8: Olivia Lewis | C8: 15'31"06 | D8: 60.56 | E8: 49 | G8: James Thomas | H8: 11'57"81 | I8: 67.5 | J8: 49
B9: Matilda Hind | C9: 15'58"21 | D9: 60.33 | E9: 48 | G9: Antony Hartley | H9: 12'30"03 | I9: 64.53 | J9: 48
B10: Caitlyn Fedasch | C10: 19'00"68 | D10: 52.15 | E10: 47 | G10: Callum Long | H10: 14'27"72 | I10: 62.11 | J10: 47
G11: Riley Peacock-Smith | H11: 14'29"69 | I11: 61.97 | J11: 46
G12: Lucas Chisholm | H12: 15'20"53 | I12: 58.53 | J12: 45
G13: Toby Wilkinson | H13: 17'47"00 | I13: 50.47 | J13: 44
G14: Evan Candish | H14: 18'11"06 | I14: 45.35 | J14: 43
G15: Joe Candish | H15: 18'20"38 | I15: 43.17 | J15: 42

Sheet Langtoft 3k
D2: Langtoft 3k
D3: 43590
B5: Girl's Results | G5: Boy's Results
B6: Name | C6: Time | D6: % | E6: Points | G6: Name | H6: Time | I6: % | J6: Points
B7: Erin Cox | C7: 0.0082407407 | D7: 76 | E7: 50 | G7: Jenson Lewis | H7: 0.0076851852 | I7: 72.89 | J7: 50
B8: Matilda Hind | C8: 0.010439815 | D8: 64.08 | E8: 49 | G8: James Thomas | H8: 0.0078819444 | I8: 71.07 | J8: 49
B9: Evie May Griffin | C9: 0.010266204 | D9: 63.56 | E9: 48 | G9: Edward Joyce | H9: 0.0089583333 | I9: 69.57 | J9: 48
B10: Olivia Lewis | C10: 0.010347222 | D10: 63.06 | E10: 47 | G10: Antony Hartley | H10: 0.0082407407 | I10: 67.98 | J10: 47
B11: Natasha Cook | C11: 0.011990741 | D11: 50.68 | E11: 46 | G11: Riley Peacock-Smith | H11: 0.0092592593 | I11: 67.31 | J11: 46
G12: Jamie Milner | H12: 0.012280093 | I12: 49.17 | J12: 45
G13: Joe Candish | H13: 0.012384259 | I13: 44.38 | J13: 44

Sheet Little Bytham Farm Run
D2: Little Bytham Farm Run
D3: 43611
B5: Girl's Results | G5: Boy's Results
B6: Name | C6: Time | D6: % | E6: Points | G6: Name | H6: Time | I6: % | J6: Points
B7: Olivia Lewis | C7: 0.019859491 | D7: 58.19 | E7: 50 | G7: Jenson Lewis | H7: 0.014047106 | I7: 70.15 | J7: 50
G8: James Thomas | H8: 0.01484213 | I8: 66.39 | J8: 49
G9: Callum Long | H9: 0.017356944 | I9: 63.17 | J9: 48
G10: Liam Jones | H10: 0.017949074 | I10: 59.18 | J10: 47
G11: Bayley Graham | H11: 0.017952662 | I11: 59.17 | J11: 46

Sheet PGP 3k (Ferry Meadows)
D2: Peterborough Grand Prix 3k (Ferry Meadows)
D3: 43621
B5: Girl's Results | G5: Boy's Results
B6: Name | C6: Time | D6: % | E6: Points | G6: Name | H6: Time | I6: % | J6: Points
B7: Evie May Griffin | C7: 0.010798611 | D7: 60.43 | E7: 50 | G7: Jenson Lewis | H7: 0.0073958333 | I7: 75.74 | J7: 50
B8: Olivia Lewis | C8: 0.01087963 | D8: 59.98 | E8: 49 | G8: Jack Griffin | H8: 0.0077893519 | I8: 71.92 | J8: 49
B9: Caitlyn Fedasch | C9: 0.013553241 | D9: 49.36 | E9: 48 | G9: James Thomas | H9: 0.0078472222 | I9: 71.39 | J9: 48
G10: Antony Hartley | H10: 0.0084027778 | I10: 66.67 | J10: 47
G11: Liam Jones | H11: 0.009224537 | I11: 65.46 | J11: 46
G12: Callum Long | H12: 0.0094560185 | I12: 63.86 | J12: 45
G13: Riley Peacock-Smith | H13: 0.0096296296 | I13: 64.72 | J13: 44

Sheet PGP 3k (Eye)
D2: Peterborough Grand Prix 3k (Eye)
D3: 43635
B5: Girl's Results | G5: Boy's Results
B6: Name | C6: Time | D6: % | E6: Points | G6: Name | H6: Time | I6: % | J6: Points
B7: Erin Cox | C7: 0.0083449074 | D7: 75.05 | E7: 50 | G7: Jenson Lewis | H7: 0.0076736111 | I7: 73 | J7: 50
B8: Evie May Griffin | C8: 0.010821759 | D8: 60.3 | E8: 49 | G8: Jack Griffin | H8: 0.0078240741 | I8: 71.6 | J8: 49
B9: Olivia Lewis | C9: 0.010914352 | D9: 59.79 | E9: 48 | G9: James Thomas | H9: 0.0078935185 | I9: 70.97 | J9: 48
G10: Riley Peacock-smith | H10: 0.009375 | I10: 66.48 | J10: 47
G11: Liam Jones | H11: 0.0091550926 | I11: 65.95 | J11: 46
G12: Callum Long | H12: 0.0093055556 | I12: 64.89 | J12: 45
G13: Antony Hartley | H13: 0.008912037 | I13: 62.86 | J13: 44

Sheet PGP 3k (Ferry Meadows) 
D2: Peterborough Grand Prix 3k (Ferry Meadows)
D3: 43649
B5: Girl's Results | G5: Boy's Results
B6: Name | C6: Time | D6: % | E6: Points | G6: Name | H6: Time | I6: % | J6: Points
B7: Erin Cox | C7: 0.0081712963 | D7: 76.65 | E7: 50 | G7: Jenson Lewis | H7: 0.007337963 | I7: 76.34 | J7: 50
B8: Evie May Griffin | C8: 0.010358796 | D8: 62.99 | E8: 49 | G8: Jack Griffin | H8: 0.0075578704 | I8: 74.12 | J8: 49
B9: Olivia Lewis | C9: 0.010486111 | D9: 62.23 | E9: 48 | G9: James Thomas | H9: 0.007650463 | I9: 73.22 | J9: 48
G10: Antony Hartley | H10: 0.0082523148 | I10: 67.88 | J10: 47
G11: Callum Long | H11: 0.0092939815 | I11: 64.97 | J11: 46
G12: Liam Jones | H12: 0.0095023148 | I12: 63.54 | J12: 45

Sheet PGP 3k (Stamford)
D2: Peterborough Grand Prix 3k (Stamford)
D3: 43663
B5: Girl's Results | G5: Boy's Results
B6: Name | C6: Time | D6: % | E6: Points | G6: Name | H6: Time | I6: % | J6: Points
B7: Erin Cox | C7: 0.0082523148 | D7: 75.9 | E7: 50 | G7: Jenson Lewis | H7: 0.0075925926 | I7: 73.78 | J7: 50
B8: Evie May Griffin | C8: 0.010069444 | D8: 64.8 | E8: 49 | G8: James Thomas | H8: 0.0079398148 | I8: 70.55 | J8: 49
G9: Lucas Chisholm | H9: 0.008912037 | I9: 69.93 | J9: 48
G10: Antony Hartley | H10: 0.0082291667 | I10: 68.07 | J10: 47
G11: Riley Peacock-Smith | H11: 0.0093171296 | I11: 66.89 | J11: 46
G12: Liam Jones | H12: 0.0094791667 | I12: 63.7 | J12: 45
G13: Toby Wilkinson | H13: 0.010717593 | I13: 58.15 | J13: 44
G14: Jamie Lambert | H14: 0.011157407 | I14: 52.61 | J14: 43

Sheet PGP 3k (Werrington)
D2: Peterborough Grand Prix 3k (Werrington)
D3: 43677
B5: Girl's Results | G5: Boy's Results
B6: Name | C6: Time | D6: % | E6: Points | G6: Name | H6: Time | I6: % | J6: Points
B7: Erin Cox | C7: 0.0086921296 | D7: 75.07 | E7: 50 | G7: Jenson Lewis | H7: 0.0074074074 | I7: 75.63 | J7: 50
B8: Olivia Lewis | C8: 0.010578704 | D8: 61.68 | E8: 49 | G8: Jack Griffin | H8: 0.0080092593 | I8: 69.94 | J8: 49
G9: James Thomas | H9: 0.0082638889 | I9: 67.79 | J9: 48
G10: Bayley Graham | H10: 0.0095138889 | I10: 63.47 | J10: 47

Sheet RR Fun Run 2k  (St Neots)
D2: Riverside Runners Fun Run 2k (St Neots)
D3: 43681
B5: Girl's Results | G5: Boy's Results
B6: Name | C6: Time | D6: % | E6: Points | G6: Name | H6: Time | I6: % | J6: Points
B7: Olivia Lewis | C7: 0.0063888889 | D7: 65.49 | E7: 50 | G7: Jenson Lewis | H7: 0.0046759259 | I7: 77.1 | J7: 50
G8: Toby Wilkinson | H8: 0.006712963 | I8: 59.76 | J8: 49
G9: Evan Candish | H9: 0.0072453704 | I9: 49.76 | J9: 48
G10: Joe Candish | H10: 0.0079976852 | I10: 43.52 | J10: 47

Sheet Parkrun 5k (Rutland Water)
D2: Park Run 5k (Rutland Water)
D3: 43729
B5: Girl's Results | G5: Boy's Results
B6: Name | C6: Time | D6: % | E6: Points | G6: Name | H6: Time | I6: % | J6: Points
B7: Evie May Griffin | C7: 0.017268519 | D7: 66.89 | E7: 50 | G7: Jenson Lewis | H7: 19:18 | I7: 73.49 | J7: 50
B8: Olivia Lewis | C8: 0.018414352 | D8: 61.41 | E8: 49 | G8: James Thomas | H8: 20:54 | I8: 67.86 | J8: 49
G9: Antony Hartley | H9: 22:27 | I9: 63.18 | J9: 48
G10: Liam Jones | H10: 23:42 | I10: 62.73 | J10: 47

Sheet Anna's Hope Fun Run 5k
D2: Anna's Hope Fun Run 5k (Peterborough)
D3: 43751
B5: Girl's Results | G5: Boy's Results
B6: Name | C6: Time | D6: % | E6: Points | G6: Name | H6: Time | I6: % | J6: Points
B7: Olivia Lewis | C7: 0.018576389 | D7: 60.86 | E7: 50 | G7: James Thomas | H7: 0.013645833 | I7: 72.21 | J7: 50
G8: Bayley Graham | H8: 0.015358796 | I8: 67.24 | J8: 49
G9: Antony Hartley | H9: 0.014791667 | I9: 65.36 | J9: 48
G10: Evan Candish | H10: 0.021215278 | I10: 46.45 | J10: 47
G11: Joe Candish | H11: 0.024537037 | I11: 38.76 | J11: 46

Sheet Parkrun 5k (Peterborough)
D2: Parkrun 5k (Peterborough)
D3: 43778
B5: Girl's Results | G5: Boy's Results
B6: Name | C6: Time | D6: % | E6: Points | G6: Name | H6: Time | I6: % | J6: Points
