Workbook

Sheet Championship positions
D2: = Qualified
B8: GIRLS' CHAMPIONSHIP 2026 | O8: GIRLS' AGE ADJUSTED CHAMPIONSHIP 2026 | AB8: BOY'S CHAMPIONSHIP 2026 | AO8: BOY'S AGE ADJUSTED CHAMPIONSHIP 2026
B9: Name/Race No. | C9: 1. Quickest Junior parkrun(2k) | D9: 2. 2nd Quickest Junior parkrun(2k) | E9: 3. 3rd Quickest Junior parkrun(2k) | F9: 4. Eye Grand Prix (3k) | G9: 5. Bushfield Grand Prix (3k) | H9: 6. Werrington Grand Prix (3k) | I9: 7. Stamford Grand Prix (3k) | J9: 8. PANVAC Grand Prix (3k) | K9: Total of Best 4 | L9: No of Races (best four to count) | M9: Position | O9: Name/Race No. | P9: 1. Quickest Junior parkrun(2k) | Q9: 2. 2nd Quickest Junior parkrun(2k) | R9: 3. 3rd Quickest Junior parkrun(2k) | S9: 4. Eye Grand Prix (3k) | T9: 5. Bushfield Grand Prix (3k) | U9: 6. Werrington Grand Prix (3k) | V9: 7. Stamford Grand Prix (3k) | W9: 8. PANVAC Grand Prix (3k) | X9: Total of Best 4 | Y9: No of Races (best four to count) | Z9: Position | AB9: Name/Race No. | AC9: 1. Quickest Junior parkrun(2k) | AD9: 2. 2nd Quickest Junior parkrun(2k) | AE9: 3. 3rd Quickest Junior parkrun(2k) | AF9: 4. Eye Grand Prix (3k) | AG9: 5. Bushfield Grand Prix (3k) | AH9: 6. Werrington Grand Prix (3k) | AI9: 7. Stamford Grand Prix (3k) | AJ9: 8. PANVAC Grand Prix (3k) | AK9: Total of Best 4 | AL9: No of Races (best four to count) | AM9: Position | AO9: Name/Race No. | AP9: 1. Quickest Junior parkrun(2k) | AQ9: 2. 2nd Quickest Junior parkrun(2k) | AR9: 3. 3rd Quickest Junior parkrun(2k) | AS9: 4. Eye Grand Prix (3k) | AT9: 5. Bushfield Grand Prix (3k) | AU9: 6. Werrington Grand Prix (3k) | AV9: 7. Stamford Grand Prix (3k) | AW9: 8. PANVAC Grand Prix (3k) | AX9: Total of Best 4 | AY9: No of Races (best four to count) | AZ9: Position
B10: Sophia Campbell | C10: =IFERROR(VLOOKUP($B10,'Quickest Junior parkrun (2k)'!B7:F10,5,FALSE()),0) -> 50 | D10: =IFERROR(VLOOKUP($B10,'2nd Quickest Junior parkrun(2k)'!B7:F10,5,FALSE()),0) -> 49 | E10: =IFERROR(VLOOKUP($B10,'3rd Quickest Junior parkrun(2k)'!$B$7:$F$12,5,FALSE()),0) -> 49 | F10: =IFERROR(VLOOKUP($B10,'Eye Grand Prix (3k)'!$B$6:$D$9,3,FALSE()),0) -> 0 | G10: =IFERROR(VLOOKUP($B10,'Bushfield Grand Prix (3k)'!$B$6:$D$9,3,FALSE()),0) -> 0 | H10: =IFERROR(VLOOKUP($B10,'Werrington Grand Prix (3k)'!$B$6:$D$9,3,FALSE()),0) -> 50 | I10: =IFERROR(VLOOKUP($B10,'Stamford Grand Prix (3k)'!$B$6:$D$10,3,FALSE()),0) -> 0 | J10: =IFERROR(VLOOKUP($B10,'PANVAC Grand Prix (3k)'!$B$6:$D$9,3,FALSE()),0) -> 50 | K10: =LARGE(C10:J10,1)+LARGE(C10:J10,2)+LARGE(C10:J10,3)+LARGE(C10:J10,4) -> 199 | L10: =COUNTIF(C10:J10,">.09") -> 5 | M10: =IF(L10=0,"",RANK(K10,$K$10:$K$41)) -> 1 | O10: Aria Brittain | P10: =IFERROR(VLOOKUP($O10,'Quickest Junior parkrun (2k)'!B16:F19,5,FALSE()),0) -> 50 | Q10: =IFERROR(VLOOKUP($O10,'2nd Quickest Junior parkrun(2k)'!B16:F19,5,FALSE()),0) -> 50 | R10: =IFERROR(VLOOKUP($O10,'3rd Quickest Junior parkrun(2k)'!$B$15:$F$19,5,FALSE()),0) -> 50 | S10: =IFERROR(VLOOKUP($O10,'Eye Grand Prix (3k)'!$B$14:$D$17,3,FALSE()),0) -> 0 | T10: =IFERROR(VLOOKUP($O10,'Bushfield Grand Prix (3k)'!$B$14:$D$17,3,FALSE()),0) -> 0 | U10: =IFERROR(VLOOKUP($O10,'Werrington Grand Prix (3k)'!$B$14:$D$18,3,FALSE()),0) -> 0 | V10: =IFERROR(VLOOKUP($O10,'Stamford Grand Prix (3k)'!$B$14:$D$18,3,FALSE()),0) -> 50 | W10: =IFERROR(VLOOKUP($O10,'PANVAC Grand Prix (3k)'!$B$14:$D$17,3,FALSE()),0) -> 0 | X10: =LARGE(P10:W10,1)+LARGE(P10:W10,2)+LARGE(P10:W10,3)+LARGE(P10:W10,4) -> 200 | Y10: =COUNTIF(P10:W10,">.09") -> 4 | Z10: =IF(Y10=0,"",RANK(X10,$X$10:$X$41)) -> 1 | AB10: Charlie Lunn | AC10: =IFERROR(VLOOKUP($AB10,'Quickest Junior parkrun (2k)'!$H$7:$L$11,5,FALSE()),0) -> 50 | AD10: =IFERROR(VLOOKUP($AB10,'2nd Quickest Junior parkrun(2k)'!$H$7:$L$11,5,FALSE()),0) -> 50 | AE10: =IFERROR(VLOOKUP($AB10,'3rd Quickest Junior parkrun(2k)'!$H$7:$L$12,5,FALSE()),0) -> 50 | AF10: =IFERROR(VLOOKUP($AB10,'Eye Grand Prix (3k)'!$F$6:$H$11,3,FALSE()),0) -> 0 | AG10: =IFERROR(VLOOKUP($AB10,'Bushfield Grand Prix (3k)'!$F$6:$H$11,3,FALSE()),0) -> 0 | AH10: =IFERROR(VLOOKUP($AB10,'Werrington Grand Prix (3k)'!$F$6:$H$11,3,FALSE()),0) -> 50 | AI10: =IFERROR(VLOOKUP($AB10,'Stamford Grand Prix (3k)'!$F$6:$H$11,3,FALSE()),0) -> 50 | AJ10: =IFERROR(VLOOKUP($AB10,'PANVAC Grand Prix (3k)'!$F$6:$H$11,3,FALSE()),0) -> 0 | AK10: =LARGE(AC10:AJ10,1)+LARGE(AC10:AJ10,2)+LARGE(AC10:AJ10,3)+LARGE(AC10:AJ10,4) -> 200 | AL10: =COUNTIF(AC10:AJ10,">.09") -> 5 | AM10: =IF(AL10=0,"",RANK(AK10,$AK$10:$AK$41)) -> 1 | AO10: Charlie Lunn | AP10: =IFERROR(VLOOKUP($AO10,'Quickest Junior parkrun (2k)'!H16:L20,5,FALSE()),0) -> 50 | AQ10: =IFERROR(VLOOKUP($AO10,'2nd Quickest Junior parkrun(2k)'!H15:L19,5,FALSE()),0) -> 50 | AR10: =IFERROR(VLOOKUP($AO10,'3rd Quickest Junior parkrun(2k)'!$H$15:$L$19,5,FALSE()),0) -> 50 | AS10: =IFERROR(VLOOKUP($AO10,'Eye Grand Prix (3k)'!$F$14:$H$19,3,FALSE()),0) -> 0 | AT10: =IFERROR(VLOOKUP($AO10,'Bushfield Grand Prix (3k)'!$F$14:$H$19,3,FALSE()),0) -> 0 | AU10: =IFERROR(VLOOKUP($AO10,'Werrington Grand Prix (3k)'!$F$14:$H$19,3,FALSE()),0) -> 50 | AV10: =IFERROR(VLOOKUP($AO10,'Stamford Grand Prix (3k)'!$F$14:$H$19,3,FALSE()),0) -> 49 | AW10: =IFERROR(VLOOKUP($AO10,'PANVAC Grand Prix (3k)'!$F$14:$H$19,3,FALSE()),0) -> 0 | AX10: =LARGE(AP10:AW10,1)+LARGE(AP10:AW10,2)+LARGE(AP10:AW10,3)+LARGE(AP10:AW10,4) -> 200 | AY10: =COUNTIF(AP10:AW10,">.09") -> 5 | AZ10: =IF(AY10=0,"",RANK(AX10,$AX$10:$AX$41)) -> 1
B11: Aria Brittain | C11: =IFERROR(VLOOKUP($B11,'Quickest Junior parkrun (2k)'!B7:F10,5,FALSE()),0) -> 49 | D11: =IFERROR(VLOOKUP($B11,'2nd Quickest Junior parkrun(2k)'!B7:F10,5,FALSE()),0) -> 50 | E11: =IFERROR(VLOOKUP($B11,'3rd Quickest Junior parkrun(2k)'!$B$7:$F$12,5,FALSE()),0) -> 50 | F11: =IFERROR(VLOOKUP($B11,'Eye Grand Prix (3k)'!$B$6:$D$9,3,FALSE()),0) -> 0 | G11: =IFERROR(VLOOKUP($B11,'Bushfield Grand Prix (3k)'!$B$6:$D$9,3,FALSE()),0) -> 0 | H11: =IFERROR(VLOOKUP($B11,'Werrington Grand Prix (3k)'!$B$6:$D$9,3,FALSE()),0) -> 0 | I11: =IFERROR(VLOOKUP($B11,'Stamford Grand Prix (3k)'!$B$6:$D$10,3,FALSE()),0) -> 50 | J11: =IFERROR(VLOOKUP($B11,'PANVAC Grand Prix (3k)'!$B$6:$D$9,3,FALSE()),0) -> 0 | K11: =LARGE(C11:J11,1)+LARGE(C11:J11,2)+LARGE(C11:J11,3)+LARGE(C11:J11,4) -> 199 | L11: =COUNTIF(C11:J11,">.09") -> 4 | M11: =IF(L11=0,"",RANK(K11,$K$10:$K$41)) -> 1 | O11: Violet Ginieres | P11: =IFERROR(VLOOKUP($O11,'Quickest Junior parkrun (2k)'!B16:F19,5,FALSE()),0) -> 48 | Q11: =IFERROR(VLOOKUP($O11,'2nd Quickest Junior parkrun(2k)'!B16:F19,5,FALSE()),0) -> 49 | R11: =IFERROR(VLOOKUP($O11,'3rd Quickest Junior parkrun(2k)'!$B$15:$F$19,5,FALSE()),0) -> 49 | S11: =IFERROR(VLOOKUP($O11,'Eye Grand Prix (3k)'!$B$14:$D$17,3,FALSE()),0) -> 50 | T11: =IFERROR(VLOOKUP($O11,'Bushfield Grand Prix (3k)'!$B$14:$D$17,3,FALSE()),0) -> 50 | U11: =IFERROR(VLOOKUP($O11,'Werrington Grand Prix (3k)'!$B$14:$D$18,3,FALSE()),0) -> 0 | V11: =IFERROR(VLOOKUP($O11,'Stamford Grand Prix (3k)'!$B$14:$D$18,3,FALSE()),0) -> 49 | W11: =IFERROR(VLOOKUP($O11,'PANVAC Grand Prix (3k)'!$B$14:$D$17,3,FALSE()),0) -> 0 | X11: =LARGE(P11:W11,1)+LARGE(P11:W11,2)+LARGE(P11:W11,3)+LARGE(P11:W11,4) -> 198 | Y11: =COUNTIF(P11:W11,">.09") -> 6 | Z11: =IF(Y11=0,"",RANK(X11,$X$10:$X$41)) -> 2 | AB11: Henry Knighton | AC11: =IFERROR(VLOOKUP($AB11,'Quickest Junior parkrun (2k)'!$H$7:$L$11,5,FALSE()),0) -> 49 | AD11: =IFERROR(VLOOKUP($AB11,'2nd Quickest Junior parkrun(2k)'!$H$7:$L$11,5,FALSE()),0) -> 49 | AE11: =IFERROR(VLOOKUP($AB11,'3rd Quickest Junior parkrun(2k)'!$H$7:$L$12,5,FALSE()),0) -> 49 | AF11: =IFERROR(VLOOKUP($AB11,'Eye Grand Prix (3k)'!$F$6:$H$11,3,FALSE()),0) -> 0 | AG11: =IFERROR(VLOOKUP($AB11,'Bushfield Grand Prix (3k)'!$F$6:$H$11,3,FALSE()),0) -> 0 | AH11: =IFERROR(VLOOKUP($AB11,'Werrington Grand Prix (3k)'!$F$6:$H$11,3,FALSE()),0) -> 49 | AI11: =IFERROR(VLOOKUP($AB11,'Stamford Grand Prix (3k)'!$F$6:$H$11,3,FALSE()),0) -> 0 | AJ11: =IFERROR(VLOOKUP($AB11,'PANVAC Grand Prix (3k)'!$F$6:$H$11,3,FALSE()),0) -> 0 | AK11: =LARGE(AC11:AJ11,1)+LARGE(AC11:AJ11,2)+LARGE(AC11:AJ11,3)+LARGE(AC11:AJ11,4) -> 196 | AL11: =COUNTIF(AC11:AJ11,">.09") -> 4 | AM11: =IF(AL11=0,"",RANK(AK11,$AK$10:$AK$41)) -> 2 | AO11: Henry Knighton | AP11: =IFERROR(VLOOKUP($AO11,'Quickest Junior parkrun (2k)'!H16:L20,5,FALSE()),0) -> 49 | AQ11: =IFERROR(VLOOKUP($AO11,'2nd Quickest Junior parkrun(2k)'!H15:L19,5,FALSE()),0) -> 49 | AR11: =IFERROR(VLOOKUP($AO11,'3rd Quickest Junior parkrun(2k)'!$H$15:$L$19,5,FALSE()),0) -> 49 | AS11: =IFERROR(VLOOKUP($AO11,'Eye Grand Prix (3k)'!$F$14:$H$19,3,FALSE()),0) -> 0 | AT11: =IFERROR(VLOOKUP($AO11,'Bushfield Grand Prix (3k)'!$F$14:$H$19,3,FALSE()),0) -> 0 | AU11: =IFERROR(VLOOKUP($AO11,'Werrington Grand Prix (3k)'!$F$14:$H$19,3,FALSE()),0) -> 49 | AV11: =IFERROR(VLOOKUP($AO11,'Stamford Grand Prix (3k)'!$F$14:$H$19,3,FALSE()),0) -> 0 | AW11: =IFERROR(VLOOKUP($AO11,'PANVAC Grand Prix (3k)'!$F$14:$H$19,3,FALSE()),0) -> 0 | AX11: =LARGE(AP11:AW11,1)+LARGE(AP11:AW11,2)+LARGE(AP11:AW11,3)+LARGE(AP11:AW11,4) -> 196 | AY11: =COUNTIF(AP11:AW11,">.09") -> 4 | AZ11: =IF(AY11=0,"",RANK(AX11,$AX$10:$AX$41)) -> 2
B12: Violet Ginieres | C12: =IFERROR(VLOOKUP($B12,'Quickest Junior parkrun (2k)'!B7:F10,5,FALSE()),0) -> 48 | D12: =IFERROR(VLOOKUP($B12,'2nd Quickest Junior parkrun(2k)'!B7:F10,5,FALSE()),0) -> 48 | E12: =IFERROR(VLOOKUP($B12,'3rd Quickest Junior parkrun(2k)'!$B$7:$F$12,5,FALSE()),0) -> 48 | F12: =IFERROR(VLOOKUP($B12,'Eye Grand Prix (3k)'!$B$6:$D$9,3,FALSE()),0) -> 49 | G12: =IFERROR(VLOOKUP($B12,'Bushfield Grand Prix (3k)'!$B$6:$D$9,3,FALSE()),0) -> 50 | H12: =IFERROR(VLOOKUP($B12,'Werrington Grand Prix (3k)'!$B$6:$D$9,3,FALSE()),0) -> 0 | I12: =IFERROR(VLOOKUP($B12,'Stamford Grand Prix (3k)'!$B$6:$D$10,3,FALSE()),0) -> 49 | J12: =IFERROR(VLOOKUP($B12,'PANVAC Grand Prix (3k)'!$B$6:$D$9,3,FALSE()),0) -> 0 | K12: =LARGE(C12:J12,1)+LARGE(C12:J12,2)+LARGE(C12:J12,3)+LARGE(C12:J12,4) -> 196 | L12: =COUNTIF(C12:J12,">.09") -> 6 | M12: =IF(L12=0,"",RANK(K12,$K$10:$K$41)) -> 3 | O12: Sophia Campbell | P12: =IFERROR(VLOOKUP($O12,'Quickest Junior parkrun (2k)'!B16:F19,5,FALSE()),0) -> 49 | Q12: =IFERROR(VLOOKUP($O12,'2nd Quickest Junior parkrun(2k)'!B16:F19,5,FALSE()),0) -> 48 | R12: =IFERROR(VLOOKUP($O12,'3rd Quickest Junior parkrun(2k)'!$B$15:$F$19,5,FALSE()),0) -> 48 | S12: =IFERROR(VLOOKUP($O12,'Eye Grand Prix (3k)'!$B$14:$D$17,3,FALSE()),0) -> 0 | T12: =IFERROR(VLOOKUP($O12,'Bushfield Grand Prix (3k)'!$B$14:$D$17,3,FALSE()),0) -> 0 | U12: =IFERROR(VLOOKUP($O12,'Werrington Grand Prix (3k)'!$B$14:$D$18,3,FALSE()),0) -> 50 | V12: =IFERROR(VLOOKUP($O12,'Stamford Grand Prix (3k)'!$B$14:$D$18,3,FALSE()),0) -> 0 | W12: =IFERROR(VLOOKUP($O12,'PANVAC Grand Prix (3k)'!$B$14:$D$17,3,FALSE()),0) -> 50 | X12: =LARGE(P12:W12,1)+LARGE(P12:W12,2)+LARGE(P12:W12,3)+LARGE(P12:W12,4) -> 197 | Y12: =COUNTIF(P12:W12,">.09") -> 5 | Z12: =IF(Y12=0,"",RANK(X12,$X$10:$X$41)) -> 3 | AB12: Rafe Brittain | AC12: =IFERROR(VLOOKUP($AB12,'Quickest Junior parkrun (2k)'!$H$7:$L$11,5,FALSE()),0) -> 48 | AD12: =IFERROR(VLOOKUP($AB12,'2nd Quickest Junior parkrun(2k)'!$H$7:$L$11,5,FALSE()),0) -> 48 | AE12: =IFERROR(VLOOKUP($AB12,'3rd Quickest Junior parkrun(2k)'!$H$7:$L$12,5,FALSE()),0) -> 48 | AF12: =IFERROR(VLOOKUP($AB12,'Eye Grand Prix (3k)'!$F$6:$H$11,3,FALSE()),0) -> 0 | AG12: =IFERROR(VLOOKUP($AB12,'Bushfield Grand Prix (3k)'!$F$6:$H$11,3,FALSE()),0) -> 0 | AH12: =IFERROR(VLOOKUP($AB12,'Werrington Grand Prix (3k)'!$F$6:$H$11,3,FALSE()),0) -> 0 | AI12: =IFERROR(VLOOKUP($AB12,'Stamford Grand Prix (3k)'!$F$6:$H$11,3,FALSE()),0) -> 49 | AJ12: =IFERROR(VLOOKUP($AB12,'PANVAC Grand Prix (3k)'!$F$6:$H$11,3,FALSE()),0) -> 0 | AK12: =LARGE(AC12:AJ12,1)+LARGE(AC12:AJ12,2)+LARGE(AC12:AJ12,3)+LARGE(AC12:AJ12,4) -> 193 | AL12: =COUNTIF(AC12:AJ12,">.09") -> 4 | AM12: =IF(AL12=0,"",RANK(AK12,$AK$10:$AK$41)) -> 3 | AO12: Rafe Brittain | AP12: =IFERROR(VLOOKUP($AO12,'Quickest Junior parkrun (2k)'!H16:L20,5,FALSE()),0) -> 48 | AQ12: =IFERROR(VLOOKUP($AO12,'2nd Quickest Junior parkrun(2k)'!H15:L19,5,FALSE()),0) -> 48 | AR12: =IFERROR(VLOOKUP($AO12,'3rd Quickest Junior parkrun(2k)'!$H$15:$L$19,5,FALSE()),0) -> 48 | AS12: =IFERROR(VLOOKUP($AO12,'Eye Grand Prix (3k)'!$F$14:$H$19,3,FALSE()),0) -> 0 | AT12: =IFERROR(VLOOKUP($AO12,'Bushfield Grand Prix (3k)'!$F$14:$H$19,3,FALSE()),0) -> 0 | AU12: =IFERROR(VLOOKUP($AO12,'Werrington Grand Prix (3k)'!$F$14:$H$19,3,FALSE()),0) -> 0 | AV12: =IFERROR(VLOOKUP($AO12,'Stamford Grand Prix (3k)'!$F$14:$H$19,3,FALSE()),0) -> 50 | AW12: =IFERROR(VLOOKUP($AO12,'PANVAC Grand Prix (3k)'!$F$14:$H$19,3,FALSE()),0) -> 0 | AX12: =LARGE(AP12:AW12,1)+LARGE(AP12:AW12,2)+LARGE(AP12:AW12,3)+LARGE(AP12:AW12,4) -> 194 | AY12: =COUNTIF(AP12:AW12,">.09") -> 4 | AZ12: =IF(AY12=0,"",RANK(AX12,$AX$10:$AX$41)) -> 3
B13: Isabella Campbell | C13: =IFERROR(VLOOKUP($B13,'Quickest Junior parkrun (2k)'!B7:F10,5,FALSE()),0) -> 47 | D13: =IFERROR(VLOOKUP($B13,'2nd Quickest Junior parkrun(2k)'!B7:F10,5,FALSE()),0) -> 47 | E13: =IFERROR(VLOOKUP($B13,'3rd Quickest Junior parkrun(2k)'!$B$7:$F$12,5,FALSE()),0) -> 47 | F13: =IFERROR(VLOOKUP($B13,'Eye Grand Prix (3k)'!$B$6:$D$9,3,FALSE()),0) -> 0 | G13: =IFERROR(VLOOKUP($B13,'Bushfield Grand Prix (3k)'!$B$6:$D$9,3,FALSE()),0) -> 0 | H13: =IFERROR(VLOOKUP($B13,'Werrington Grand Prix (3k)'!$B$6:$D$9,3,FALSE()),0) -> 49 | I13: =IFERROR(VLOOKUP($B13,'Stamford Grand Prix (3k)'!$B$6:$D$10,3,FALSE()),0) -> 0 | J13: =IFERROR(VLOOKUP($B13,'PANVAC Grand Prix (3k)'!$B$6:$D$9,3,FALSE()),0) -> 49 | K13: =LARGE(C13:J13,1)+LARGE(C13:J13,2)+LARGE(C13:J13,3)+LARGE(C13:J13,4) -> 192 | L13: =COUNTIF(C13:J13,">.09") -> 5 | M13: =IF(L13=0,"",RANK(K13,$K$10:$K$41)) -> 4 | O13: Isabella Campbell | P13: =IFERROR(VLOOKUP($O13,'Quickest Junior parkrun (2k)'!B16:F19,5,FALSE()),0) -> 47 | Q13: =IFERROR(VLOOKUP($O13,'2nd Quickest Junior parkrun(2k)'!B16:F19,5,FALSE()),0) -> 47 | R13: =IFERROR(VLOOKUP($O13,'3rd Quickest Junior parkrun(2k)'!$B$15:$F$19,5,FALSE()),0) -> 47 | S13: =IFERROR(VLOOKUP($O13,'Eye Grand Prix (3k)'!$B$14:$D$17,3,FALSE()),0) -> 0 | T13: =IFERROR(VLOOKUP($O13,'Bushfield Grand Prix (3k)'!$B$14:$D$17,3,FALSE()),0) -> 0 | U13: =IFERROR(VLOOKUP($O13,'Werrington Grand Prix (3k)'!$B$14:$D$18,3,FALSE()),0) -> 49 | V13: =IFERROR(VLOOKUP($O13,'Stamford Grand Prix (3k)'!$B$14:$D$18,3,FALSE()),0) -> 0 | W13: =IFERROR(VLOOKUP($O13,'PANVAC Grand Prix (3k)'!$B$14:$D$17,3,FALSE()),0) -> 49 | X13: =LARGE(P13:W13,1)+LARGE(P13:W13,2)+LARGE(P13:W13,3)+LARGE(P13:W13,4) -> 192 | Y13: =COUNTIF(P13:W13,">.09") -> 5 | Z13: =IF(Y13=0,"",RANK(X13,$X$10:$X$41)) -> 4 | AB13: Wilfred Garratt | AC13: =IFERROR(VLOOKUP($AB13,'Quickest Junior parkrun (2k)'!$H$7:$L$11,5,FALSE()),0) -> 47 | AD13: =IFERROR(VLOOKUP($AB13,'2nd Quickest Junior parkrun(2k)'!$H$7:$L$11,5,FALSE()),0) -> 0 | AE13: =IFERROR(VLOOKUP($AB13,'3rd Quickest Junior parkrun(2k)'!$H$7:$L$12,5,FALSE()),0) -> 0 | AF13: =IFERROR(VLOOKUP($AB13,'Eye Grand Prix (3k)'!$F$6:$H$11,3,FALSE()),0) -> 48 | AG13: =IFERROR(VLOOKUP($AB13,'Bushfield Grand Prix (3k)'!$F$6:$H$11,3,FALSE()),0) -> 0 | AH13: =IFERROR(VLOOKUP($AB13,'Werrington Grand Prix (3k)'!$F$6:$H$11,3,FALSE()),0) -> 0 | AI13: =IFERROR(VLOOKUP($AB13,'Stamford Grand Prix (3k)'!$F$6:$H$11,3,FALSE()),0) -> 0 | AJ13: =IFERROR(VLOOKUP($AB13,'PANVAC Grand Prix (3k)'!$F$6:$H$11,3,FALSE()),0) -> 0 | AK13: =LARGE(AC13:AJ13,1)+LARGE(AC13:AJ13,2)+LARGE(AC13:AJ13,3)+LARGE(AC13:AJ13,4) -> 95 | AL13: =COUNTIF(AC13:AJ13,">.09") -> 2 | AM13: =IF(AL13=0,"",RANK(AK13,$AK$10:$AK$41)) -> 4 | AO13: Wilfred Garratt | AP13: =IFERROR(VLOOKUP($AO13,'Quickest Junior parkrun (2k)'!H16:L20,5,FALSE()),0) -> 47 | AQ13: =IFERROR(VLOOKUP($AO13,'2nd Quickest Junior parkrun(2k)'!H15:L19,5,FALSE()),0) -> 0 | AR13: =IFERROR(VLOOKUP($AO13,'3rd Quickest Junior parkrun(2k)'!$H$15:$L$19,5,FALSE()),0) -> 0 | AS13: =IFERROR(VLOOKUP($AO13,'Eye Grand Prix (3k)'!$F$14:$H$19,3,FALSE()),0) -> 48 | AT13: =IFERROR(VLOOKUP($AO13,'Bushfield Grand Prix (3k)'!$F$14:$H$19,3,FALSE()),0) -> 0 | AU13: =IFERROR(VLOOKUP($AO13,'Werrington Grand Prix (3k)'!$F$14:$H$19,3,FALSE()),0) -> 0 | AV13: =IFERROR(VLOOKUP($AO13,'Stamford Grand Prix (3k)'!$F$14:$H$19,3,FALSE()),0) -> 0 | AW13: =IFERROR(VLOOKUP($AO13,'PANVAC Grand Prix (3k)'!$F$14:$H$19,3,FALSE()),0) -> 0 | AX13: =LARGE(AP13:AW13,1)+LARGE(AP13:AW13,2)+LARGE(AP13:AW13,3)+LARGE(AP13:AW13,4) -> 95 | AY13: =COUNTIF(AP13:AW13,">.09") -> 2 | AZ13: =IF(AY13=0,"",RANK(AX13,$AX$10:$AX$41)) -> 4
B14: Ella Stephen | C14: =IFERROR(VLOOKUP($B14,'Quickest Junior parkrun (2k)'!B7:F10,5,FALSE()),0) -> 0 | D14: =IFERROR(VLOOKUP($B14,'2nd Quickest Junior parkrun(2k)'!B7:F10,5,FALSE()),0) -> 0 | E14: =IFERROR(VLOOKUP($B14,'3rd Quickest Junior parkrun(2k)'!$B$7:$F$12,5,FALSE()),0) -> 0 | F14: =IFERROR(VLOOKUP($B14,'Eye Grand Prix (3k)'!$B$6:$D$9,3,FALSE()),0) -> 50 | G14: =IFERROR(VLOOKUP($B14,'Bushfield Grand Prix (3k)'!$B$6:$D$9,3,FALSE()),0) -> 0 | H14: =IFERROR(VLOOKUP($B14,'Werrington Grand Prix (3k)'!$B$6:$D$9,3,FALSE()),0) -> 0 | I14: =IFERROR(VLOOKUP($B14,'Stamford Grand Prix (3k)'!$B$6:$D$10,3,FALSE()),0) -> 48 | J14: =IFERROR(VLOOKUP($B14,'PANVAC Grand Prix (3k)'!$B$6:$D$9,3,FALSE()),0) -> 0 | K14: =LARGE(C14:J14,1)+LARGE(C14:J14,2)+LARGE(C14:J14,3)+LARGE(C14:J14,4) -> 98 | L14: =COUNTIF(C14:J14,">.09") -> 2 | M14: =IF(L14=0,"",RANK(K14,$K$10:$K$41)) -> 5 | O14: Ella Stephen | P14: =IFERROR(VLOOKUP($O14,'Quickest Junior parkrun (2k)'!B16:F19,5,FALSE()),0) -> 0 | Q14: =IFERROR(VLOOKUP($O14,'2nd Quickest Junior parkrun(2k)'!B16:F19,5,FALSE()),0) -> 0 | R14: =IFERROR(VLOOKUP($O14,'3rd Quickest Junior parkrun(2k)'!$B$15:$F$19,5,FALSE()),0) -> 0 | S14: =IFERROR(VLOOKUP($O14,'Eye Grand Prix (3k)'!$B$14:$D$17,3,FALSE()),0) -> 49 | T14: =IFERROR(VLOOKUP($O14,'Bushfield Grand Prix (3k)'!$B$14:$D$17,3,FALSE()),0) -> 0 | U14: =IFERROR(VLOOKUP($O14,'Werrington Grand Prix (3k)'!$B$14:$D$18,3,FALSE()),0) -> 0 | V14: =IFERROR(VLOOKUP($O14,'Stamford Grand Prix (3k)'!$B$14:$D$18,3,FALSE()),0) -> 48 | W14: =IFERROR(VLOOKUP($O14,'PANVAC Grand Prix (3k)'!$B$14:$D$17,3,FALSE()),0) -> 0 | X14: =LARGE(P14:W14,1)+LARGE(P14:W14,2)+LARGE(P14:W14,3)+LARGE(P14:W14,4) -> 97 | Y14: =COUNTIF(P14:W14,">.09") -> 2 | Z14: =IF(Y14=0,"",RANK(X14,$X$10:$X$41)) -> 5 | AB14: Danny Harvey | AC14: =IFERROR(VLOOKUP($AB14,'Quickest Junior parkrun (2k)'!$H$7:$L$11,5,FALSE()),0) -> 0 | AD14: =IFERROR(VLOOKUP($AB14,'2nd Quickest Junior parkrun(2k)'!$H$7:$L$11,5,FALSE()),0) -> 0 | AE14: =IFERROR(VLOOKUP($AB14,'3rd Quickest Junior parkrun(2k)'!$H$7:$L$12,5,FALSE()),0) -> 0 | AF14: =IFERROR(VLOOKUP($AB14,'Eye Grand Prix (3k)'!$F$6:$H$11,3,FALSE()),0) -> 50 | AG14: =IFERROR(VLOOKUP($AB14,'Bushfield Grand Prix (3k)'!$F$6:$H$11,3,FALSE()),0) -> 0 | AH14: =IFERROR(VLOOKUP($AB14,'Werrington Grand Prix (3k)'!$F$6:$H$11,3,FALSE()),0) -> 0 | AI14: =IFERROR(VLOOKUP($AB14,'Stamford Grand Prix (3k)'!$F$6:$H$11,3,FALSE()),0) -> 0 | AJ14: =IFERROR(VLOOKUP($AB14,'PANVAC Grand Prix (3k)'!$F$6:$H$11,3,FALSE()),0) -> 0 | AK14: =LARGE(AC14:AJ14,1)+LARGE(AC14:AJ14,2)+LARGE(AC14:AJ14,3)+LARGE(AC14:AJ14,4) -> 50 | AL14: =COUNTIF(AC14:AJ14,">.09") -> 1 | AM14: =IF(AL14=0,"",RANK(AK14,$AK$10:$AK$41)) -> 5 | AO14: Danny Harvey | AP14: =IFERROR(VLOOKUP($AO14,'Quickest Junior parkrun (2k)'!H16:L20,5,FALSE()),0) -> 0 | AQ14: =IFERROR(VLOOKUP($AO14,'2nd Quickest Junior parkrun(2k)'!H15:L19,5,FALSE()),0) -> 0 | AR14: =IFERROR(VLOOKUP($AO14,'3rd Quickest Junior parkrun(2k)'!$H$15:$L$19,5,FALSE()),0) -> 0 | AS14: =IFERROR(VLOOKUP($AO14,'Eye Grand Prix (3k)'!$F$14:$H$19,3,FALSE()),0) -> 50 | AT14: =IFERROR(VLOOKUP($AO14,'Bushfield Grand Prix (3k)'!$F$14:$H$19,3,FALSE()),0) -> 0 | AU14: =IFERROR(VLOOKUP($AO14,'Werrington Grand Prix (3k)'!$F$14:$H$19,3,FALSE()),0) -> 0 | AV14: =IFERROR(VLOOKUP($AO14,'Stamford Grand Prix (3k)'!$F$14:$H$19,3,FALSE()),0) -> 0 | AW14: =IFERROR(VLOOKUP($AO14,'PANVAC Grand Prix (3k)'!$F$14:$H$19,3,FALSE()),0) -> 0 | AX14: =LARGE(AP14:AW14,1)+LARGE(AP14:AW14,2)+LARGE(AP14:AW14,3)+LARGE(AP14:AW14,4) -> 50 | AY14: =COUNTIF(AP14:AW14,">.09") -> 1 | AZ14: =IF(AY14=0,"",RANK(AX14,$AX$10:$AX$41)) -> 5
B15: Isla Stephen | C15: =IFERROR(VLOOKUP($B15,'Quickest Junior parkrun (2k)'!B7:F10,5,FALSE()),0) -> 0 | D15: =IFERROR(VLOOKUP($B15,'2nd Quickest Junior parkrun(2k)'!B7:F10,5,FALSE()),0) -> 0 | E15: =IFERROR(VLOOKUP($B15,'3rd Quickest Junior parkrun(2k)'!$B$7:$F$12,5,FALSE()),0) -> 0 | F15: =IFERROR(VLOOKUP($B15,'Eye Grand Prix (3k)'!$B$6:$D$9,3,FALSE()),0) -> 48 | G15: =IFERROR(VLOOKUP($B15,'Bushfield Grand Prix (3k)'!$B$6:$D$9,3,FALSE()),0) -> 0 | H15: =IFERROR(VLOOKUP($B15,'Werrington Grand Prix (3k)'!$B$6:$D$9,3,FALSE()),0) -> 0 | I15: =IFERROR(VLOOKUP($B15,'Stamford Grand Prix (3k)'!$B$6:$D$10,3,FALSE()),0) -> 47 | J15: =IFERROR(VLOOKUP($B15,'PANVAC Grand Prix (3k)'!$B$6:$D$9,3,FALSE()),0) -> 0 | K15: =LARGE(C15:J15,1)+LARGE(C15:J15,2)+LARGE(C15:J15,3)+LARGE(C15:J15,4) -> 95 | L15: =COUNTIF(C15:J15,">.09") -> 2 | M15: =IF(L15=0,"",RANK(K15,$K$10:$K$41)) -> 6 | O15: Isla Stephen | P15: =IFERROR(VLOOKUP($O15,'Quickest Junior parkrun (2k)'!B16:F19,5,FALSE()),0) -> 0 | Q15: =IFERROR(VLOOKUP($O15,'2nd Quickest Junior parkrun(2k)'!B16:F19,5,FALSE()),0) -> 0 | R15: =IFERROR(VLOOKUP($O15,'3rd Quickest Junior parkrun(2k)'!$B$15:$F$19,5,FALSE()),0) -> 0 | S15: =IFERROR(VLOOKUP($O15,'Eye Grand Prix (3k)'!$B$14:$D$17,3,FALSE()),0) -> 48 | T15: =IFERROR(VLOOKUP($O15,'Bushfield Grand Prix (3k)'!$B$14:$D$17,3,FALSE()),0) -> 0 | U15: =IFERROR(VLOOKUP($O15,'Werrington Grand Prix (3k)'!$B$14:$D$18,3,FALSE()),0) -> 0 | V15: =IFERROR(VLOOKUP($O15,'Stamford Grand Prix (3k)'!$B$14:$D$18,3,FALSE()),0) -> 47 | W15: =IFERROR(VLOOKUP($O15,'PANVAC Grand Prix (3k)'!$B$14:$D$17,3,FALSE()),0) -> 0 | X15: =LARGE(P15:W15,1)+LARGE(P15:W15,2)+LARGE(P15:W15,3)+LARGE(P15:W15,4) -> 95 | Y15: =COUNTIF(P15:W15,">.09") -> 2 | Z15: =IF(Y15=0,"",RANK(X15,$X$10:$X$41)) -> 6 | AB15: Marley Medwell | AC15: =IFERROR(VLOOKUP($AB15,'Quickest Junior parkrun (2k)'!$H$7:$L$11,5,FALSE()),0) -> 0 | AD15: =IFERROR(VLOOKUP($AB15,'2nd Quickest Junior parkrun(2k)'!$H$7:$L$11,5,FALSE()),0) -> 0 | AE15: =IFERROR(VLOOKUP($AB15,'3rd Quickest Junior parkrun(2k)'!$H$7:$L$12,5,FALSE()),0) -> 0 | AF15: =IFERROR(VLOOKUP($AB15,'Eye Grand Prix (3k)'!$F$6:$H$11,3,FALSE()),0) -> 49 | AG15: =IFERROR(VLOOKUP($AB15,'Bushfield Grand Prix (3k)'!$F$6:$H$11,3,FALSE()),0) -> 0 | AH15: =IFERROR(VLOOKUP($AB15,'Werrington Grand Prix (3k)'!$F$6:$H$11,3,FALSE()),0) -> 0 | AI15: =IFERROR(VLOOKUP($AB15,'Stamford Grand Prix (3k)'!$F$6:$H$11,3,FALSE()),0) -> 0 | AJ15: =IFERROR(VLOOKUP($AB15,'PANVAC Grand Prix (3k)'!$F$6:$H$11,3,FALSE()),0) -> 0 | AK15: =LARGE(AC15:AJ15,1)+LARGE(AC15:AJ15,2)+LARGE(AC15:AJ15,3)+LARGE(AC15:AJ15,4) -> 49 | AL15: =COUNTIF(AC15:AJ15,">.09") -> 1 | AM15: =IF(AL15=0,"",RANK(AK15,$AK$10:$AK$41)) -> 6 | AO15: Marley Medwell | AP15: =IFERROR(VLOOKUP($AO15,'Quickest Junior parkrun (2k)'!H16:L20,5,FALSE()),0) -> 0 | AQ15: =IFERROR(VLOOKUP($AO15,'2nd Quickest Junior parkrun(2k)'!H15:L19,5,FALSE()),0) -> 0 | AR15: =IFERROR(VLOOKUP($AO15,'3rd Quickest Junior parkrun(2k)'!$H$15:$L$19,5,FALSE()),0) -> 0 | AS15: =IFERROR(VLOOKUP($AO15,'Eye Grand Prix (3k)'!$F$14:$H$19,3,FALSE()),0) -> 49 | AT15: =IFERROR(VLOOKUP($AO15,'Bushfield Grand Prix (3k)'!$F$14:$H$19,3,FALSE()),0) -> 0 | AU15: =IFERROR(VLOOKUP($AO15,'Werrington Grand Prix (3k)'!$F$14:$H$19,3,FALSE()),0) -> 0 | AV15: =IFERROR(VLOOKUP($AO15,'Stamford Grand Prix (3k)'!$F$14:$H$19,3,FALSE()),0) -> 0 | AW15: =IFERROR(VLOOKUP($AO15,'PANVAC Grand Prix (3k)'!$F$14:$H$19,3,FALSE()),0) -> 0 | AX15: =LARGE(AP15:AW15,1)+LARGE(AP15:AW15,2)+LARGE(AP15:AW15,3)+LARGE(AP15:AW15,4) -> 49 | AY15: =COUNTIF(AP15:AW15,">.09") -> 1 | AZ15: =IF(AY15=0,"",RANK(AX15,$AX$10:$AX$41)) -> 6

Sheet Quickest Junior parkrun (2k)
D2: Quickest Junior parkrun(2k)
B5: Girl's Results | H5: Boy's Results
B6: parkrun Name | C6: Date | D6: Name | E6: Time | F6: Points | H6: parkrun Name | I6: Date | J6: Name | K6: Time | L6: Points
B7: Sophia Campbell | C7: 46145 | D7: Central Park | E7: 0.00625 | F7: 50 | H7: Charlie Lunn | I7: 46236 | J7: Rutland Water | K7: 0.0053240741 | L7: 50
B8: Aria Brittain | C8: 46201 | D8: Salisbury Field | E8: 0.0063541667 | F8: 49 | H8: Henry Knighton | I8: 46299 | J8: Rutland Water | K8: 0.0060069444 | L8: 49
B9: Violet Ginieres | C9: 46187 | D9: Rutland Water | E9: 0.0068287037 | F9: 48 | H9: Rafe Brittain | I9: 46061 | J9: Rutland Water | K9: 0.0062152778 | L9: 48
B10: Isabella Campbell | C10: 46096 | D10: Central Park | E10: 0.0073611111 | F10: 47 | H10: Wilfred Garratt | I10: 46208 | J10: Rutland Water | K10: 0.0073263889 | L10: 47
B14: Girl's Age Adjusted Results | H14: Boy's Age Adjusted Results
B15: parkrun Name | C15: Date | D15: Name | E15: % | F15: Points | H15: parkrun Name | I15: Date | J15: Name | K15: % | L15: Points
B16: Aria Brittain | C16: 46201 | D16: Salisbury Field | E16: 69.44 | F16: 50 | H16: Charlie Lunn | I16: 46236 | J16: Rutland Water | K16: 70.97 | L16: 50
B17: Sophia Campbell | C17: 46145 | D17: Central Park | E17: 65.49 | F17: 49 | H17: Henry Knighton | I17: 46299 | J17: Rutland Water | K17: 66.78 | L17: 49
B18: Violet Ginieres | C18: 46187 | D18: Rutland Water | E18: 62.82 | F18: 48 | H18: Rafe Brittain | I18: 46061 | J18: Rutland Water | K18: 62.53 | L18: 48
B19: Isabella Campbell | C19: 46096 | D19: Central Park | E19: 59.94 | F19: 47 | H19: Wilfred Garratt | I19: 46208 | J19: Rutland Water | K19: 53.05 | L19: 47

Sheet 2nd Quickest Junior parkrun(2k)
D2: 2nd Quickest Junior parkrun(2k)
B5: Girl's Results | H5: Boy's Results
B6: parkrun Name | C6: Date | D6: Name | E6: Time | F6: Points | H6: parkrun Name | I6: Date | J6: Name | K6: Time | L6: Points
B7: Aria Brittain | C7: 46222 | D7: Rutland Water | E7: 0.0064236111 | F7: 50 | H7: Charlie Lunn | I7: 46201 | J7: Central Park | K7: 0.0053935185 | L7: 50
B8: Sophia Campbell | C8: 46096 | D8: Central Park | E8: 0.0066203704 | F8: 49 | H8: Henry Knighton | I8: 46257 | J8: Rutland Water | K8: 0.0060185185 | L8: 49
B9: Violet Ginieres | C9: 46166 | D9: Rutland Water | E9: 0.006875 | F9: 48 | H9: Rafe Brittain | I9: 46201 | J9: Salisbury Field | K9: 0.00625 | L9: 48
B10: Isabella Campbell | C10: 46082 | D10: Central Park | E10: 0.0073726852 | F10: 47
H13: Boy's Age Adjusted Results
B14: Girl's Age Adjusted Results | H14: parkrun Name | I14: Date | J14: Name | K14: % | L14: Points
B15: parkrun Name | C15: Date | D15: Name | E15: % | F15: Points | H15: Charlie Lunn | I15: 46201 | J15: Central Park | K15: 70.06 | L15: 50
B16: Aria Brittain | C16: 46222 | D16: Rutland Water | E16: 68.68 | F16: 50 | H16: Henry Knighton | I16: 46257 | J16: Rutland Water | K16: 69.06 | L16: 49
B17: Violet Ginieres | C17: 46166 | D17: Rutland Water | E17: 62.39 | F17: 49 | H17: Rafe Brittain | I17: 46201 | J17: Salisbury Field | K17: 62.18 | L17: 48
B18: Sophia Campbell | C18: 46096 | D18: Central Park | E18: 61.83 | F18: 48
B19: Isabella Campbell | C19: 46082 | D19: Central Park | E19: 59.84 | F19: 47

Sheet 3rd Quickest Junior parkrun(2k)
D2: 3rd Quickest Junior parkrun(2k)
B5: Girl's Results | H5: Boy's Results
B6: parkrun Name | C6: Date | D6: Name | E6: Time | F6: Points | H6: parkrun Name | I6: Date | J6: Name | K6: Time | L6: Points
B7: Aria Brittain | C7: 46208 | D7: Rutland Water | E7: 0.0065625 | F7: 50 | H7: Charlie Lunn | I7: 46278 | J7: Central Park | K7: 0.0054050926 | L7: 50
B8: Sophia Campbell | C8: 46278 | D8: Bude Marshes | E8: 0.006875 | F8: 49 | H8: Henry Knighton | I8: 46145 | J8: Rutland Water | K8: 0.0060648148 | L8: 49
B9: Violet Ginieres | C9: 46159 | D9: Rutland Water | E9: 0.0068981481 | F9: 48 | H9: Rafe Brittain | I9: 46075 | J9: Rutland Water | K9: 0.0063425926 | L9: 48
B10: Isabella Campbell | C10: 46138 | D10: Central Park | E10: 0.0074189815 | F10: 47
B13: Girl's Age Adjusted Results | H13: Boy's Age Adjusted Results
B14: parkrun Name | C14: Date | D14: Name | E14: % | F14: Points | H14: parkrun Name | I14: Date | J14: Name | K14: % | L14: Points
B15: Aria Brittain | C15: 46208 | D15: Rutland Water | E15: 67.23 | F15: 50 | H15: Charlie Lunn | I15: 46278 | J15: Central Park | K15: 69.91 | L15: 50
B16: Violet Ginieres | C16: 46159 | D16: Rutland Water | E16: 62.18 | F16: 49 | H16: Henry Knighton | I16: 46145 | J16: Rutland Water | K16: 68.53 | L16: 49
B17: Sophia Campbell | C17: 46278 | D17: Bude Marshes | E17: 59.54 | F17: 48 | H17: Rafe Brittain | I17: 46075 | J17: Rutland Water | K17: 61.27 | L17: 48
B18: Isabella Campbell | C18: 46138 | D18: Central Park | E18: 59.47 | F18: 47

Sheet Eye Grand Prix (3k)
C2: Eye Grand Prix
C3: 46183
B5: Girl's Results | F5: Boy's Results
B6: Name | C6: Time | D6: Points | F6: Name | G6: Time | H6: Points
B7: Ella Stephen | C7: 0.011041667 | D7: 50 | F7: Danny Harvey | G7: 0.0090046296 | H7: 50
B8: Violet Ginieres | C8: 0.011261574 | D8: 49 | F8: Marley Medwell | G8: 0.0096180556 | H8: 49
B9: Isla Stephen | C9: 0.012349537 | D9: 48 | F9: Wilfred Garratt | G9: 0.010891204 | H9: 48
B13: Girl's Age Adjusted Results | F13: Boy's Age Adjusted Results
B14: Name | C14: % | D14: Points | F14: Name | G14: % | H14: Points
B15: Violet Ginieres | C15: 59.4 | D15: 50 | F15: Danny Harvey | G15: 62.21 | H15: 50
B16: Ella Stephen | C16: 56.72 | D16: 49 | F16: Marley Medwell | G16: 59.53 | H16: 49
B17: Isla Stephen | C17: 55.72 | D17: 48 | F17: Wilfred Garratt | G17: 57.23 | H17: 48

Sheet Bushfield Grand Prix (3k)
C2: Bushfield Grand Prix
C3: 46197
B5: Girl's Results | F5: Boy's Results
B6: Name | C6: Time | D6: Points | F6: Name | G6: Time | H6: Points
B7: Violet Ginieres | C7: 0.010960648 | D7: 50
B13: Girl's Age Adjusted Results | F13: Boy's Age Adjusted Results
B14: Name | C14: % | D14: Points | F14: Name | G14: % | H14: Points
B15: Violet Ginieres | C15: 61.04 | D15: 50

Sheet Werrington Grand Prix (3k)
C2: Werrington Grand Prix
C3: 46211
B5: Girl's Results | F5: Boy's Results
B6: Name | C6: Time | D6: Points | F6: Name | G6: Time | H6: Points
B7: Sophia Campbell | C7: 0.01068287 | D7: 50 | F7: Charlie Lunn | G7: 0.0084259259 | H7: 50
B8: Isabella Campbell | C8: 0.013136574 | D8: 49 | F8: Henry Knighton | G8: 0.0094907407 | H8: 49
B13: Girl's Age Adjusted Results | F13: Boy's Age Adjusted Results
B14: Name | C14: % | D14: Points | F14: Name | G14: % | H14: Points
B15: Sophia Campbell | C15: 59.76 | D15: 50 | F15: Charlie Lunn | G15: 69.67 | H15: 50
B16: Isabella Campbell | C16: 52.38 | D16: 49 | F16: Henry Knighton | G16: 68.04 | H16: 49

Sheet Stamford Grand Prix (3k)
C2: Stamford Grand Prix
C3: 46225
B5: Girl's Results | F5: Boy's Results
B6: Name | C6: Time | D6: Points | F6: Name | G6: Time | H6: Points
B7: Aria Brittain | C7: 0.010590278 | D7: 50 | F7: Rafe Brittain | G7: 0.010555556 | H7: 49
B8: Violet Ginieres | C8: 0.010717593 | D8: 49 | F8: Charlie Lunn | G8: 0.0085185185 | H8: 50
B9: Ella Stephen | C9: 0.011412037 | D9: 48
B10: Isla Stephen | C10: 0.012395833 | D10: 47
B13: Girl's Age Adjusted Results | F13: Boy's Age Adjusted Results
B14: Name | C14: % | D14: Points | F14: Name | G14: % | H14: Points
B15: Aria Brittain | C15: 64.98 | D15: 50 | F15: Rafe Brittain | G15: 57.2 | H15: 50
B16: Violet Ginieres | C16: 62.42 | D16: 49 | F16: Charlie Lunn | G16: 68.91 | H16: 49
B17: Ella Stephen | C17: 54.88 | D17: 48
B18: Isla Stephen | C18: 55.51 | D18: 47

Sheet PANVAC Grand Prix (3k)
C2: PANVAC Grand Prix
C3: 46239
B5: Girl's Results | F5: Boy's Results
B6: Name | C6: Time | D6: Points | F6: Name | G6: Time | H6: Points
B7: Sophia Campbell | C7: 0.010289352 | D7: 50
B8: Isabella Campbell | C8: 0.011840278 | D8: 49
B13: Girl's Age Adjusted Results | F13: Boy's Age Adjusted Results
B14: Name | C14: % | D14: Points | F14: Name | G14: % | H14: Points
B15: Sophia Campbell | C15: 62.04 | D15: 50
B16: Isabella Campbell | C16: 58.12 | D16: 49
