Workbook

Sheet Championship positions
D2: = Qualified
B8: GIRLS' CHAMPIONSHIP 2025 | N8: GIRLS' AGE ADJUSTED CHAMPIONSHIP 2025 | Z8: BOY'S CHAMPIONSHIP 2025 | AL8: BOY'S AGE ADJUSTED CHAMPIONSHIP 2025
B9: Name/Race No. | C9: 1. Quickest Junior parkrun(2k) | D9: 2. 2nd Quickest Junior parkrun(2k) | E9: 3. Eye Grand Prix (3k) | F9: 4. Bushfield Grand Prix (3k) | G9: 5. Werrington Grand Prix (3k) | H9: 6. Stamford Grand Prix (3k) | I9: 7. PANVAC Grand Prix (3k) | J9: Total of Best 4 | K9: No of Races (best four to count) | L9: Position | N9: Name/Race No. | O9: 1. Quickest Junior parkrun(2k) | P9: 2. 2nd Quickest Junior parkrun(2k) | Q9: 3. Eye Grand Prix (3k) | R9: 4. Bushfield Grand Prix (3k) | S9: 5. Werrington Grand Prix (3k) | T9: 6. Stamford Grand Prix (3k) | U9: 7. PANVAC Grand Prix (3k) | V9: Total of Best 4 | W9: No of Races (best four to count) | X9: Position | Z9: Name/Race No. | AA9: 1. Quickest Junior parkrun(2k) | AB9: 2. 2nd Quickest Junior parkrun(2k) | AC9: 3. Eye Grand Prix (3k) | AD9: 4. Bushfield Grand Prix (3k) | AE9: 5. Werrington Grand Prix (3k) | AF9: 6. Stamford Grand Prix (3k) | AG9: 7. PANVAC Grand Prix (3k) | AH9: Total of Best 4 | AI9: No of Races (best four to count) | AJ9: Position | AL9: Name/Race No. | AM9: 1. Quickest Junior parkrun(2k) | AN9: 2. 2nd Quickest Junior parkrun(2k) | AO9: 3. Eye Grand Prix (3k) | AP9: 4. Bushfield Grand Prix (3k) | AQ9: 5. Werrington Grand Prix (3k) | AR9: 6. Stamford Grand Prix (3k) | AS9: 7. PANVAC Grand Prix (3k) | AT9: Total of Best 4 | AU9: No of Races (best four to count) | AV9: Position
B10: Violet Ginieres | C10: =IFERROR(VLOOKUP($B10,'Quickest Junior parkrun (2k)'!$D$7:$F$10,3,FALSE),0) -> 48 | D10: =IFERROR(VLOOKUP($B10,'2nd Quickest Junior parkrun(2k)'!$D$7:$F$10,3,FALSE),0) -> 50 | E10: =IFERROR(VLOOKUP($B10,'Eye Grand Prix (3k)'!$B$6:$D$9,3,FALSE),0) -> 48 | F10: =IFERROR(VLOOKUP($B10,'Bushfield Grand Prix (3k)'!$B$6:$D$9,3,FALSE),0) -> 0 | G10: =IFERROR(VLOOKUP($B10,'Werrington Grand Prix (3k)'!$B$6:$D$9,3,FALSE),0) -> 50 | H10: =IFERROR(VLOOKUP($B10,'Stamford Grand Prix (3k)'!$B$6:$D$10,3,FALSE),0) -> 50 | I10: =IFERROR(VLOOKUP(B10,'PANVAC Grand Prix (3k)'!$B$6:$D$9,3,FALSE),0) -> 0 | J10: =LARGE(C10:I10,1)+LARGE(C10:I10,2)+LARGE(C10:I10,3)+LARGE(C10:I10,4) -> 198 | K10: =COUNTIF(C10:I10,">.09") -> 5 | L10: 1 | N10: Violet Ginieres | O10: =IFERROR(VLOOKUP($N10,'Quickest Junior parkrun (2k)'!$D$16:$F$19,3,FALSE),0) -> 49 | P10: =IFERROR(VLOOKUP($N10,'2nd Quickest Junior parkrun(2k)'!$D$15:$F$17,3,FALSE),0) -> 50 | Q10: =IFERROR(VLOOKUP($N10,'Eye Grand Prix (3k)'!$B$14:$D$17,3,FALSE),0) -> 48 | R10: =IFERROR(VLOOKUP($N10,'Bushfield Grand Prix (3k)'!$B$14:$D$17,3,FALSE),0) -> 0 | S10: =IFERROR(VLOOKUP($N10,'Werrington Grand Prix (3k)'!$B$14:$D$18,3,FALSE),0) -> 50 | T10: =IFERROR(VLOOKUP($N10,'Stamford Grand Prix (3k)'!$B$14:$D$18,3,FALSE),0) -> 50 | U10: =IFERROR(VLOOKUP($N10,'PANVAC Grand Prix (3k)'!$B$14:$D$17,3,FALSE),0) -> 0 | V10: =LARGE(O10:U10,1)+LARGE(O10:U10,2)+LARGE(O10:U10,3)+LARGE(O10:U10,4) -> 199 | W10: =COUNTIF(O10:U10,">.09") -> 5 | X10: 1 | Z10: Danny Harvey | AA10: =IFERROR(VLOOKUP($Z10,'Quickest Junior parkrun (2k)'!$J$6:$L$11,3,FALSE),0) -> 50 | AB10: =IFERROR(VLOOKUP($Z10,'2nd Quickest Junior parkrun(2k)'!$J$6:$L$11,3,FALSE),0) -> 50 | AC10: =IFERROR(VLOOKUP($Z10,'Eye Grand Prix (3k)'!$F$6:$H$11,3,FALSE),0) -> 50 | AD10: =IFERROR(VLOOKUP($Z10,'Bushfield Grand Prix (3k)'!$F$6:$H$11,3,FALSE),0) -> 50 | AE10: =IFERROR(VLOOKUP($Z10,'Werrington Grand Prix (3k)'!$F$6:$H$11,3,FALSE),0) -> 0 | AF10: =IFERROR(VLOOKUP($Z10,'Stamford Grand Prix (3k)'!$F$6:$H$11,3,FALSE),0) -> 50 | AG10: =IFERROR(VLOOKUP($Z10,'PANVAC Grand Prix (3k)'!$F$6:$H11,3,FALSE),0) -> 49 | AH10: =LARGE(AA10:AG10,1)+LARGE(AA10:AG10,2)+LARGE(AA10:AG10,3)+LARGE(AA10:AG10,4) -> 200 | AI10: =COUNTIF(AA10:AG10,">.09") -> 6 | AJ10: 1 | AL10: Danny Harvey | AM10: =IFERROR(VLOOKUP($AL10,'Quickest Junior parkrun (2k)'!$J$16:$L$19,3,FALSE),0) -> 49 | AN10: =IFERROR(VLOOKUP($AL10,'2nd Quickest Junior parkrun(2k)'!$J$15:$L$18,3,FALSE),0) -> 49 | AO10: =IFERROR(VLOOKUP($AL10,'Eye Grand Prix (3k)'!$F$14:$H$19,3,FALSE),0) -> 50 | AP10: =IFERROR(VLOOKUP($AL10,'Bushfield Grand Prix (3k)'!$F$14:$H$19,3,FALSE),0) -> 50 | AQ10: =IFERROR(VLOOKUP($AL10,'Werrington Grand Prix (3k)'!$F$14:$H$19,3,FALSE),0) -> 0 | AR10: =IFERROR(VLOOKUP($AL10,'Stamford Grand Prix (3k)'!$F$14:$H$19,3,FALSE),0) -> 50 | AS10: =IFERROR(VLOOKUP($AL10,'PANVAC Grand Prix (3k)'!$F$14:$H$19,3,FALSE),0) -> 49 | AT10: =LARGE(AM10:AS10,1)+LARGE(AM10:AS10,2)+LARGE(AM10:AS10,3)+LARGE(AM10:AS10,4) -> 199 | AU10: =COUNTIF(AM10:AS10,">.09") -> 6 | AV10: 1
B11: Ella Stephen | C11: =IFERROR(VLOOKUP($B11,'Quickest Junior parkrun (2k)'!$D$7:$F$10,3,FALSE),0) -> 0 | D11: =IFERROR(VLOOKUP($B11,'2nd Quickest Junior parkrun(2k)'!$D$7:$F$10,3,FALSE),0) -> 0 | E11: =IFERROR(VLOOKUP($B11,'Eye Grand Prix (3k)'!$B$6:$D$9,3,FALSE),0) -> 49 | F11: =IFERROR(VLOOKUP($B11,'Bushfield Grand Prix (3k)'!$B$6:$D$9,3,FALSE),0) -> 50 | G11: =IFERROR(VLOOKUP($B11,'Werrington Grand Prix (3k)'!$B$6:$D$9,3,FALSE),0) -> 0 | H11: =IFERROR(VLOOKUP($B11,'Stamford Grand Prix (3k)'!$B$6:$D$10,3,FALSE),0) -> 49 | I11: =IFERROR(VLOOKUP(B11,'PANVAC Grand Prix (3k)'!$B$6:$D$9,3,FALSE),0) -> 50 | J11: =LARGE(C11:I11,1)+LARGE(C11:I11,2)+LARGE(C11:I11,3)+LARGE(C11:I11,4) -> 198 | K11: =COUNTIF(C11:I11,">.09") -> 4 | L11: 2 | N11: Ella Stephen | O11: =IFERROR(VLOOKUP($N11,'Quickest Junior parkrun (2k)'!$D$16:$F$19,3,FALSE),0) -> 0 | P11: =IFERROR(VLOOKUP($N11,'2nd Quickest Junior parkrun(2k)'!$D$15:$F$17,3,FALSE),0) -> 0 | Q11: =IFERROR(VLOOKUP($N11,'Eye Grand Prix (3k)'!$B$14:$D$17,3,FALSE),0) -> 49 | R11: =IFERROR(VLOOKUP($N11,'Bushfield Grand Prix (3k)'!$B$14:$D$17,3,FALSE),0) -> 50 | S11: =IFERROR(VLOOKUP($N11,'Werrington Grand Prix (3k)'!$B$14:$D$18,3,FALSE),0) -> 0 | T11: =IFERROR(VLOOKUP($N11,'Stamford Grand Prix (3k)'!$B$14:$D$18,3,FALSE),0) -> 49 | U11: =IFERROR(VLOOKUP($N11,'PANVAC Grand Prix (3k)'!$B$14:$D$17,3,FALSE),0) -> 49 | V11: =LARGE(O11:U11,1)+LARGE(O11:U11,2)+LARGE(O11:U11,3)+LARGE(O11:U11,4) -> 197 | W11: =COUNTIF(O11:U11,">.09") -> 4 | X11: 2 | Z11: Rafe Brittain | AA11: =IFERROR(VLOOKUP($Z11,'Quickest Junior parkrun (2k)'!$J$6:$L$11,3,FALSE),0) -> 49 | AB11: =IFERROR(VLOOKUP($Z11,'2nd Quickest Junior parkrun(2k)'!$J$6:$L$11,3,FALSE),0) -> 49 | AC11: =IFERROR(VLOOKUP($Z11,'Eye Grand Prix (3k)'!$F$6:$H$11,3,FALSE),0) -> 0 | AD11: =IFERROR(VLOOKUP($Z11,'Bushfield Grand Prix (3k)'!$F$6:$H$11,3,FALSE),0) -> 0 | AE11: =IFERROR(VLOOKUP($Z11,'Werrington Grand Prix (3k)'!$F$6:$H$11,3,FALSE),0) -> 50 | AF11: =IFERROR(VLOOKUP($Z11,'Stamford Grand Prix (3k)'!$F$6:$H$11,3,FALSE),0) -> 49 | AG11: =IFERROR(VLOOKUP($Z11,'PANVAC Grand Prix (3k)'!$F$6:$H12,3,FALSE),0) -> 0 | AH11: =LARGE(AA11:AG11,1)+LARGE(AA11:AG11,2)+LARGE(AA11:AG11,3)+LARGE(AA11:AG11,4) -> 197 | AI11: =COUNTIF(AA11:AG11,">.09") -> 4 | AJ11: 2 | AL11: Rafe Brittain | AM11: =IFERROR(VLOOKUP($AL11,'Quickest Junior parkrun (2k)'!$J$16:$L$19,3,FALSE),0) -> 50 | AN11: =IFERROR(VLOOKUP($AL11,'2nd Quickest Junior parkrun(2k)'!$J$15:$L$18,3,FALSE),0) -> 50 | AO11: =IFERROR(VLOOKUP($AL11,'Eye Grand Prix (3k)'!$F$14:$H$19,3,FALSE),0) -> 0 | AP11: =IFERROR(VLOOKUP($AL11,'Bushfield Grand Prix (3k)'!$F$14:$H$19,3,FALSE),0) -> 0 | AQ11: =IFERROR(VLOOKUP($AL11,'Werrington Grand Prix (3k)'!$F$6:$H$11,3,FALSE),0) -> 50 | AR11: =IFERROR(VLOOKUP($AL11,'Stamford Grand Prix (3k)'!$F$14:$H$19,3,FALSE),0) -> 49 | AS11: =IFERROR(VLOOKUP($AL11,'PANVAC Grand Prix (3k)'!$F$14:$H$19,3,FALSE),0) -> 0 | AT11: =LARGE(AM11:AS11,1)+LARGE(AM11:AS11,2)+LARGE(AM11:AS11,3)+LARGE(AM11:AS11,4) -> 199 | AU11: =COUNTIF(AM11:AS11,">.09") -> 4 | AV11: 2
B12: Sophia Campbell | C12: =IFERROR(VLOOKUP($B12,'Quickest Junior parkrun (2k)'!$D$7:$F$10,3,FALSE),0) -> 49 | D12: =IFERROR(VLOOKUP($B12,'2nd Quickest Junior parkrun(2k)'!$D$7:$F$10,3,FALSE),0) -> 49 | E12: =IFERROR(VLOOKUP($B12,'Eye Grand Prix (3k)'!$B$6:$D$9,3,FALSE),0) -> 0 | F12: =IFERROR(VLOOKUP($B12,'Bushfield Grand Prix (3k)'!$B$6:$D$9,3,FALSE),0) -> 49 | G12: =IFERROR(VLOOKUP($B12,'Werrington Grand Prix (3k)'!$B$6:$D$9,3,FALSE),0) -> 0 | H12: =IFERROR(VLOOKUP($B12,'Stamford Grand Prix (3k)'!$B$6:$D$10,3,FALSE),0) -> 48 | I12: =IFERROR(VLOOKUP(B12,'PANVAC Grand Prix (3k)'!$B$6:$D$9,3,FALSE),0) -> 0 | J12: =LARGE(C12:I12,1)+LARGE(C12:I12,2)+LARGE(C12:I12,3)+LARGE(C12:I12,4) -> 195 | K12: =COUNTIF(C12:I12,">.09") -> 4 | L12: 3 | N12: Sophia Campbell | O12: =IFERROR(VLOOKUP($N12,'Quickest Junior parkrun (2k)'!$D$16:$F$19,3,FALSE),0) -> 48 | P12: =IFERROR(VLOOKUP($N12,'2nd Quickest Junior parkrun(2k)'!$D$15:$F$17,3,FALSE),0) -> 49 | Q12: =IFERROR(VLOOKUP($N12,'Eye Grand Prix (3k)'!$B$14:$D$17,3,FALSE),0) -> 0 | R12: =IFERROR(VLOOKUP($N12,'Bushfield Grand Prix (3k)'!$B$14:$D$17,3,FALSE),0) -> 49 | S12: =IFERROR(VLOOKUP($N12,'Werrington Grand Prix (3k)'!$B$14:$D$18,3,FALSE),0) -> 0 | T12: =IFERROR(VLOOKUP($N12,'Stamford Grand Prix (3k)'!$B$14:$D$18,3,FALSE),0) -> 48 | U12: =IFERROR(VLOOKUP($N12,'PANVAC Grand Prix (3k)'!$B$14:$D$17,3,FALSE),0) -> 0 | V12: =LARGE(O12:U12,1)+LARGE(O12:U12,2)+LARGE(O12:U12,3)+LARGE(O12:U12,4) -> 194 | W12: =COUNTIF(O12:U12,">.09") -> 4 | X12: 3 | Z12: Caleb Redding | AA12: =IFERROR(VLOOKUP($Z12,'Quickest Junior parkrun (2k)'!$J$6:$L$11,3,FALSE),0) -> 0 | AB12: =IFERROR(VLOOKUP($Z12,'2nd Quickest Junior parkrun(2k)'!$J$6:$L$11,3,FALSE),0) -> 0 | AC12: =IFERROR(VLOOKUP($Z12,'Eye Grand Prix (3k)'!$F$6:$H$11,3,FALSE),0) -> 0 | AD12: =IFERROR(VLOOKUP($Z12,'Bushfield Grand Prix (3k)'!$F$6:$H$11,3,FALSE),0) -> 0 | AE12: =IFERROR(VLOOKUP($Z12,'Werrington Grand Prix (3k)'!$F$6:$H$11,3,FALSE),0) -> 0 | AF12: =IFERROR(VLOOKUP($Z12,'Stamford Grand Prix (3k)'!$F$6:$H$11,3,FALSE),0) -> 48 | AG12: =IFERROR(VLOOKUP($Z12,'PANVAC Grand Prix (3k)'!$F$6:$H13,3,FALSE),0) -> 50 | AH12: =LARGE(AA12:AG12,1)+LARGE(AA12:AG12,2)+LARGE(AA12:AG12,3)+LARGE(AA12:AG12,4) -> 98 | AI12: =COUNTIF(AA12:AG12,">.09") -> 2 | AJ12: 3 | AL12: Caleb Redding | AM12: =IFERROR(VLOOKUP($AL12,'Quickest Junior parkrun (2k)'!$J$16:$L$19,3,FALSE),0) -> 0 | AN12: =IFERROR(VLOOKUP($AL12,'2nd Quickest Junior parkrun(2k)'!$J$15:$L$18,3,FALSE),0) -> 0 | AO12: =IFERROR(VLOOKUP($AL12,'Eye Grand Prix (3k)'!$F$14:$H$19,3,FALSE),0) -> 0 | AP12: =IFERROR(VLOOKUP($AL12,'Bushfield Grand Prix (3k)'!$F$14:$H$19,3,FALSE),0) -> 0 | AQ12: =IFERROR(VLOOKUP($AL12,'Werrington Grand Prix (3k)'!$F$6:$H$11,3,FALSE),0) -> 0 | AR12: =IFERROR(VLOOKUP($AL12,'Stamford Grand Prix (3k)'!$F$14:$H$19,3,FALSE),0) -> 48 | AS12: =IFERROR(VLOOKUP($AL12,'PANVAC Grand Prix (3k)'!$F$14:$H$19,3,FALSE),0) -> 50 | AT12: =LARGE(AM12:AS12,1)+LARGE(AM12:AS12,2)+LARGE(AM12:AS12,3)+LARGE(AM12:AS12,4) -> 98 | AU12: =COUNTIF(AM12:AS12,">.09") -> 2 | AV12: 3
B13: Amelia Baggott | C13: =IFERROR(VLOOKUP($B13,'Quickest Junior parkrun (2k)'!$D$7:$F$10,3,FALSE),0) -> 47 | D13: =IFERROR(VLOOKUP($B13,'2nd Quickest Junior parkrun(2k)'!$D$7:$F$10,3,FALSE),0) -> 0 | E13: =IFERROR(VLOOKUP($B13,'Eye Grand Prix (3k)'!$B$6:$D$9,3,FALSE),0) -> 0 | F13: =IFERROR(VLOOKUP($B13,'Bushfield Grand Prix (3k)'!$B$6:$D$9,3,FALSE),0) -> 0 | G13: =IFERROR(VLOOKUP($B13,'Werrington Grand Prix (3k)'!$B$6:$D$9,3,FALSE),0) -> 49 | H13: =IFERROR(VLOOKUP($B13,'Stamford Grand Prix (3k)'!$B$6:$D$10,3,FALSE),0) -> 47 | I13: =IFERROR(VLOOKUP(B13,'PANVAC Grand Prix (3k)'!$B$6:$D$9,3,FALSE),0) -> 48 | J13: =LARGE(C13:I13,1)+LARGE(C13:I13,2)+LARGE(C13:I13,3)+LARGE(C13:I13,4) -> 191 | K13: =COUNTIF(C13:I13,">.09") -> 4 | L13: 4 | N13: Amelia Baggott | O13: =IFERROR(VLOOKUP($N13,'Quickest Junior parkrun (2k)'!$D$16:$F$19,3,FALSE),0) -> 47 | P13: =IFERROR(VLOOKUP($N13,'2nd Quickest Junior parkrun(2k)'!$D$15:$F$17,3,FALSE),0) -> 0 | Q13: =IFERROR(VLOOKUP($N13,'Eye Grand Prix (3k)'!$B$14:$D$17,3,FALSE),0) -> 0 | R13: =IFERROR(VLOOKUP($N13,'Bushfield Grand Prix (3k)'!$B$14:$D$17,3,FALSE),0) -> 0 | S13: =IFERROR(VLOOKUP($N13,'Werrington Grand Prix (3k)'!$B$14:$D$18,3,FALSE),0) -> 49 | T13: =IFERROR(VLOOKUP($N13,'Stamford Grand Prix (3k)'!$B$14:$D$18,3,FALSE),0) -> 47 | U13: =IFERROR(VLOOKUP($N13,'PANVAC Grand Prix (3k)'!$B$14:$D$17,3,FALSE),0) -> 48 | V13: =LARGE(O13:U13,1)+LARGE(O13:U13,2)+LARGE(O13:U13,3)+LARGE(O13:U13,4) -> 191 | W13: =COUNTIF(O13:U13,">.09") -> 4 | X13: 4
B14: Molly Robinson | C14: =IFERROR(VLOOKUP($B14,'Quickest Junior parkrun (2k)'!$D$7:$F$10,3,FALSE),0) -> 50 | D14: =IFERROR(VLOOKUP($B14,'2nd Quickest Junior parkrun(2k)'!$D$7:$F$10,3,FALSE),0) -> 0 | E14: =IFERROR(VLOOKUP($B14,'Eye Grand Prix (3k)'!$B$6:$D$9,3,FALSE),0) -> 50 | F14: =IFERROR(VLOOKUP($B14,'Bushfield Grand Prix (3k)'!$B$6:$D$9,3,FALSE),0) -> 0 | G14: =IFERROR(VLOOKUP($B14,'Werrington Grand Prix (3k)'!$B$6:$D$9,3,FALSE),0) -> 0 | H14: =IFERROR(VLOOKUP($B14,'Stamford Grand Prix (3k)'!$B$6:$D$10,3,FALSE),0) -> 0 | I14: =IFERROR(VLOOKUP(B14,'PANVAC Grand Prix (3k)'!$B$6:$D$9,3,FALSE),0) -> 49 | J14: =LARGE(C14:I14,1)+LARGE(C14:I14,2)+LARGE(C14:I14,3)+LARGE(C14:I14,4) -> 149 | K14: =COUNTIF(C14:I14,">.09") -> 3 | L14: 5 | N14: Molly Robinson | O14: =IFERROR(VLOOKUP($N14,'Quickest Junior parkrun (2k)'!$D$16:$F$19,3,FALSE),0) -> 50 | P14: =IFERROR(VLOOKUP($N14,'2nd Quickest Junior parkrun(2k)'!$D$15:$F$17,3,FALSE),0) -> 0 | Q14: =IFERROR(VLOOKUP($N14,'Eye Grand Prix (3k)'!$B$14:$D$17,3,FALSE),0) -> 50 | R14: =IFERROR(VLOOKUP($N14,'Bushfield Grand Prix (3k)'!$B$14:$D$17,3,FALSE),0) -> 0 | S14: =IFERROR(VLOOKUP($N14,'Werrington Grand Prix (3k)'!$B$14:$D$18,3,FALSE),0) -> 0 | T14: =IFERROR(VLOOKUP($N14,'Stamford Grand Prix (3k)'!$B$14:$D$18,3,FALSE),0) -> 0 | U14: =IFERROR(VLOOKUP($N14,'PANVAC Grand Prix (3k)'!$B$14:$D$17,3,FALSE),0) -> 50 | V14: =LARGE(O14:U14,1)+LARGE(O14:U14,2)+LARGE(O14:U14,3)+LARGE(O14:U14,4) -> 150 | W14: =COUNTIF(O14:U14,">.09") -> 3 | X14: 5

Sheet Quickest Junior parkrun (2k)
D2: Quickest Junior parkrun(2k)
B5: Girl's Results | H5: Boy's Results
B6: parkrun Name | C6: Date | D6: Name | E6: Time | F6: Points | H6: parkrun Name | I6: Date | J6: Name | K6: Time | L6: Points
B7: Rutland Water | C7: 45823 | D7: Molly Robinson | E7: 0.0066319444 | F7: 50 | H7: Rutland Water | I7: 45907 | J7: Danny Harvey | K7: 0.0059027778 | L7: 50
B8: Central Park | C8: 45858 | D8: Sophia Campbell | E8: 0.0067361111 | F8: 49 | H8: Rutland Water | I8: 45823 | J8: Rafe Brittain | K8: 0.0063773148 | L8: 49
B9: Rutland Water | C9: 45865 | D9: Violet Ginieres | E9: 0.0068055556 | F9: 48
B10: Rutland Water | C10: 45935 | D10: Amelia Baggott | E10: 0.0094097222 | F10: 47
B14: Girl's Age Adjusted Results | H14: Boy's Age Adjusted Results
B15: parkrun Name | C15: Date | D15: Name | E15: % | F15: Points | H15: parkrun Name | I15: Date | J15: Name | K15: % | L15: Points
B16: Rutland Water | C16: 45823 | D16: Molly Robinson | E16: 66.53 | F16: 50 | H16: Rutland Water | I16: 45823 | J16: Rafe Brittain | K16: 62.9 | L16: 50
B17: Rutland Water | C17: 45865 | D17: Violet Ginieres | E17: 64.83 | F17: 49 | H17: Rutland Water | I17: 45907 | J17: Danny Harvey | K17: 62.44 | L17: 49
B18: Central Park | C18: 45858 | D18: Sophia Campbell | E18: 62.11 | F18: 48
B19: Rutland Water | C19: 45935 | D19: Amelia Baggott | E19: 45.59 | F19: 47

Sheet 2nd Quickest Junior parkrun(2k)
D2: 2nd Quickest Junior parkrun(2k)
B5: Girl's Results | H5: Boy's Results
B6: parkrun Name | C6: Date | D6: Name | E6: Time | F6: Points | H6: parkrun Name | I6: Date | J6: Name | K6: Time | L6: Points
B7: Rutland Water | C7: 45858 | D7: Violet Ginieres | E7: 0.0071759259 | F7: 50 | H7: Rutland Water | I7: 45942 | J7: Danny Harvey | K7: 0.0061342593 | L7: 50
B8: Central Park | C8: 49454 | D8: Sophia Campbell | E8: 0.0072685185 | F8: 49 | H8: Rutland Water | I8: 45823 | J8: Rafe Brittain | K8: 0.0065046296 | L8: 49
B13: Girl's Age Adjusted Results | H13: Boy's Age Adjusted Results
B14: parkrun Name | C14: Date | D14: Name | E14: % | F14: Points | H14: parkrun Name | I14: Date | J14: Name | K14: % | L14: Points
B15: Rutland Water | C15: 45858 | D15: Violet Ginieres | E15: 61.48 | F15: 50 | H15: Rutland Water | I15: 45823 | J15: Rafe Brittain | K15: 61.67 | L15: 50
B16: Central Park | C16: 45802 | D16: Sophia Campbell | E16: 57.56 | F16: 49 | H16: Rutland Water | I16: 45942 | J16: Danny Harvey | K16: 60.08 | L16: 49

Sheet Eye Grand Prix (3k)
C2: Eye Grand Prix
C3: 45819
B5: Girl's Results | F5: Boy's Results
B6: Name | C6: Time | D6: Points | F6: Name | G6: Time | H6: Points
B7: Molly Robinson | C7: 0.011472222 | D7: 50 | F7: Danny Harvey | G7: 0.0086527778 | H7: 50
B8: Ella Stephen | C8: 0.01153588 | D8: 49
B9: Violet Ginieres | C9: 0.015605324 | D9: 48
B13: Girl's Age Adjusted Results | F13: Boy's Age Adjusted Results
B14: Name | C14: % | D14: Points | F14: Name | G14: % | H14: Points
B15: Molly Robinson | C15: 59.99 | D15: 50 | F15: Danny Harvey | G15: 66.14 | H15: 50
B16: Ella Stephen | C16: 55.32 | D16: 49
B17: Violet Ginieres | C17: 44.1 | D17: 48

Sheet Bushfield Grand Prix (3k)
C2: Bushfield Grand Prix
C3: 45833
B5: Girl's Results | F5: Boy's Results
B6: Name | C6: Time | D6: Points | F6: Name | G6: Time | H6: Points
B7: Ella Stephen | C7: 0.011351852 | D7: 50 | F7: Danny Harvey | G7: 0.0088645833 | H7: 50
B8: Sophia Campbell | C8: 0.011627315 | D8: 49
B13: Girl's Age Adjusted Results | F13: Boy's Age Adjusted Results
B14: Name | C14: % | D14: Points | F14: Name | G14: % | H14: Points
B15: Ella Stephen | C15: 56.22 | D15: 50 | F15: Danny Harvey | G15: 64.58 | H15: 50
B16: Sophia Campbell | C16: 56.1 | D16: 49

Sheet Werrington Grand Prix (3k)
C2: Werrington Grand Prix
C3: 45847
B5: Girl's Results | F5: Boy's Results
B6: Name | C6: Time | D6: Points | F6: Name | G6: Time | H6: Points
B7: Violet Ginieres | C7: 0.0090462963 | D7: 50 | F7: Rafe Brittain | G7: 0.0081979167 | H7: 50
B8: Amelia Baggott | C8: 0.011087963 | D8: 49
B13: Girl's Age Adjusted Results | F13: Boy's Age Adjusted Results
B14: Name | C14: % | D14: Points | F14: Name | G14: % | H14: Points
B15: Violet Ginieres | C15: 76.03 | D15: 50 | F15: Rafe Brittain | G15: 76.06 | H15: 50
B16: Amelia Baggott | C16: 60.33 | D16: 49

Sheet Stamford Grand Prix (3k)
C2: Stamford Grand Prix
C3: 45861
B5: Girl's Results | F5: Boy's Results
B6: Name | C6: Time | D6: Points | F6: Name | G6: Time | H6: Points
B7: Violet Ginieres | C7: 0.01068287 | D7: 50 | F7: Danny Harvey | G7: 0.008537037 | H7: 50
B8: Ella Stephen | C8: 0.010972222 | D8: 49 | F8: Rafe Brittain | G8: 0.010231481 | H8: 49
B9: Sophia Campbell | C9: 0.01275463 | D9: 48 | F9: Caleb Redding | G9: 0.011574074 | H9: 48
B10: Amelia Baggott | C10: 0.01556713 | D10: 47
B13: Girl's Age Adjusted Results | F13: Boy's Age Adjusted Results
B14: Name | C14: % | D14: Points | F14: Name | G14: % | H14: Points
B15: Violet Ginieres | C15: 64.41 | D15: 50 | F15: Danny Harvey | G15: 67.03 | H15: 50
B16: Ella Stephen | C16: 58.18 | D16: 49 | F16: Rafe Brittain | G16: 60.92 | H16: 49
B17: Sophia Campbell | C17: 51.16 | D17: 48 | F17: Caleb Redding | G17: 50.72 | H17: 48
B18: Amelia Baggott | C18: 42.97 | D18: 47

Sheet PANVAC Grand Prix (3k)
C2: PANVAC Grand Prix
C3: 45875
B5: Girl's Results | F5: Boy's Results
B6: Name | C6: Time | D6: Points | F6: Name | G6: Time | H6: Points
B7: Ella Stephen | C7: 0.011377315 | D7: 50 | F7: Caleb Redding | G7: 0.010590278 | H7: 50
B8: Molly Robinson | C8: 0.0115625 | D8: 49 | F8: Danny Harvey | G8: 0.010983796 | H8: 49
B9: Amelia Baggott | C9: 0.014039352 | D9: 48
B13: Girl's Age Adjusted Results | F13: Boy's Age Adjusted Results
B14: Name | C14: % | D14: Points | F14: Name | G14: % | H14: Points
B15: Molly Robinson | C15: 59.51 | D15: 50 | F15: Caleb Redding | G15: 55.43 | H15: 50
B16: Ella Stephen | C16: 56.11 | D16: 49 | F16: Danny Harvey | G16: 52.13 | H16: 49
B17: Amelia Baggott | C17: 47.65 | D17: 48
